| Back to Workflows build report for BioC 3.9 |
This page was generated on 2019-01-30 16:00:23 -0500 (Wed, 30 Jan 2019).
| Package 3/23 | Hostname | OS / Arch | INSTALL | BUILD | ||||||
| BiocMetaWorkflow 1.5.0 Mike Smith
| malbec2 | Linux (Ubuntu 18.04.1 LTS) / x86_64 | OK | ERROR | ||||||
| tokay2 | Windows Server 2012 R2 Standard / x64 | [ OK ] | ERROR |
| Package: BiocMetaWorkflow |
| Version: 1.5.0 |
| Command: C:\cygwin\bin\curl.exe -O https://malbec2.bioconductor.org/BBS/3.9/workflows/src/contrib/BiocMetaWorkflow_1.5.0.tar.gz && rm -rf BiocMetaWorkflow.buildbin-libdir && mkdir BiocMetaWorkflow.buildbin-libdir && C:\Users\biocbuild\bbs-3.9-bioc\R\bin\R.exe CMD INSTALL --merge-multiarch --build --library=BiocMetaWorkflow.buildbin-libdir BiocMetaWorkflow_1.5.0.tar.gz && C:\Users\biocbuild\bbs-3.9-bioc\R\bin\R.exe CMD INSTALL BiocMetaWorkflow_1.5.0.zip && rm BiocMetaWorkflow_1.5.0.tar.gz BiocMetaWorkflow_1.5.0.zip |
| StartedAt: 2019-01-30 09:35:21 -0500 (Wed, 30 Jan 2019) |
| EndedAt: 2019-01-30 09:35:35 -0500 (Wed, 30 Jan 2019) |
| EllapsedTime: 13.9 seconds |
| RetCode: 0 |
| Status: OK |
##############################################################################
##############################################################################
###
### Running command:
###
### C:\cygwin\bin\curl.exe -O https://malbec2.bioconductor.org/BBS/3.9/workflows/src/contrib/BiocMetaWorkflow_1.5.0.tar.gz && rm -rf BiocMetaWorkflow.buildbin-libdir && mkdir BiocMetaWorkflow.buildbin-libdir && C:\Users\biocbuild\bbs-3.9-bioc\R\bin\R.exe CMD INSTALL --merge-multiarch --build --library=BiocMetaWorkflow.buildbin-libdir BiocMetaWorkflow_1.5.0.tar.gz && C:\Users\biocbuild\bbs-3.9-bioc\R\bin\R.exe CMD INSTALL BiocMetaWorkflow_1.5.0.zip && rm BiocMetaWorkflow_1.5.0.tar.gz BiocMetaWorkflow_1.5.0.zip
###
##############################################################################
##############################################################################
% Total % Received % Xferd Average Speed Time Time Time Current
Dload Upload Total Spent Left Speed
0 0 0 0 0 0 0 0 --:--:-- --:--:-- --:--:-- 0
0 0 0 0 0 0 0 0 --:--:-- 0:00:03 --:--:-- 0
0 0 0 0 0 0 0 0 --:--:-- 0:00:04 --:--:-- 0
84 96579 84 81920 0 0 16118 0 0:00:05 0:00:05 --:--:-- 18375
100 96579 100 96579 0 0 18839 0 0:00:05 0:00:05 --:--:-- 21452
install for i386
* installing *source* package 'BiocMetaWorkflow' ...
** help
No man pages found in package 'BiocMetaWorkflow'
*** installing help indices
** building package indices
** installing vignettes
** testing if installed package can be loaded
install for x64
* installing *source* package 'BiocMetaWorkflow' ...
** testing if installed package can be loaded
* MD5 sums
packaged installation of 'BiocMetaWorkflow' as BiocMetaWorkflow_1.5.0.zip
* DONE (BiocMetaWorkflow)
* installing to library 'C:/Users/biocbuild/bbs-3.9-bioc/R/library'
package 'BiocMetaWorkflow' successfully unpacked and MD5 sums checked