| Back to Multiple platform build/check report for BioC 3.9 experimental data | 
This page was generated on 2019-10-17 16:51:37 -0400 (Thu, 17 Oct 2019).
| Package 322/371 | Hostname | OS / Arch | INSTALL | BUILD | CHECK | BUILD BIN | ||||||
| sesameData 1.2.0 Wanding Zhou 
 | malbec2 | Linux (Ubuntu 18.04.2 LTS) / x86_64 | OK | [ OK ] | OK |  | 
| Package: sesameData | 
| Version: 1.2.0 | 
| Command: /home/biocbuild/bbs-3.9-bioc/R/bin/R CMD build --keep-empty-dirs --no-resave-data sesameData | 
| StartedAt: 2019-10-17 12:20:06 -0400 (Thu, 17 Oct 2019) | 
| EndedAt: 2019-10-17 12:21:09 -0400 (Thu, 17 Oct 2019) | 
| EllapsedTime: 62.9 seconds | 
| RetCode: 0 | 
| Status: OK | 
| PackageFile: sesameData_1.2.0.tar.gz | 
| PackageFileSize: 1.461 MiB | 
############################################################################## ############################################################################## ### ### Running command: ### ### /home/biocbuild/bbs-3.9-bioc/R/bin/R CMD build --keep-empty-dirs --no-resave-data sesameData ### ############################################################################## ############################################################################## * checking for file ‘sesameData/DESCRIPTION’ ... OK * preparing ‘sesameData’: * checking DESCRIPTION meta-information ... OK * installing the package to build vignettes * creating vignettes ... OK * checking for LF line-endings in source and make files and shell scripts * checking for empty or unneeded directories * building ‘sesameData_1.2.0.tar.gz’