| Back to Multiple platform build/check report for BioC 3.9 experimental data | 
This page was generated on 2019-10-17 16:51:27 -0400 (Thu, 17 Oct 2019).
| Package 320/371 | Hostname | OS / Arch | INSTALL | BUILD | CHECK | BUILD BIN | ||||||
| seqCNA.annot 1.20.0 David Mosen-Ansorena 
 | malbec2 | Linux (Ubuntu 18.04.2 LTS) / x86_64 | OK | [ OK ] | OK |  | 
| Package: seqCNA.annot | 
| Version: 1.20.0 | 
| Command: /home/biocbuild/bbs-3.9-bioc/R/bin/R CMD build --keep-empty-dirs --no-resave-data seqCNA.annot | 
| StartedAt: 2019-10-17 11:47:38 -0400 (Thu, 17 Oct 2019) | 
| EndedAt: 2019-10-17 11:47:50 -0400 (Thu, 17 Oct 2019) | 
| EllapsedTime: 12.0 seconds | 
| RetCode: 0 | 
| Status: OK | 
| PackageFile: seqCNA.annot_1.20.0.tar.gz | 
| PackageFileSize: 14.47 MiB | 
############################################################################## ############################################################################## ### ### Running command: ### ### /home/biocbuild/bbs-3.9-bioc/R/bin/R CMD build --keep-empty-dirs --no-resave-data seqCNA.annot ### ############################################################################## ############################################################################## * checking for file ‘seqCNA.annot/DESCRIPTION’ ... OK * preparing ‘seqCNA.annot’: * checking DESCRIPTION meta-information ... OK * checking for LF line-endings in source and make files and shell scripts * checking for empty or unneeded directories * looking to see if a ‘data/datalist’ file should be added * building ‘seqCNA.annot_1.20.0.tar.gz’