| Back to Multiple platform build/check report for BioC 3.9 experimental data | 
This page was generated on 2019-10-17 16:51:25 -0400 (Thu, 17 Oct 2019).
| Package 260/371 | Hostname | OS / Arch | INSTALL | BUILD | CHECK | BUILD BIN | ||||||
| pd.atdschip.tiling 0.22.0 Kristof De Beuf 
 | malbec2 | Linux (Ubuntu 18.04.2 LTS) / x86_64 | OK | OK | [ WARNINGS ] |  | 
| Package: pd.atdschip.tiling | 
| Version: 0.22.0 | 
| Command: /home/biocbuild/bbs-3.9-bioc/R/bin/R CMD check --install=check:pd.atdschip.tiling.install-out.txt --library=/home/biocbuild/bbs-3.9-bioc/R/library --no-vignettes --timings pd.atdschip.tiling_0.22.0.tar.gz | 
| StartedAt: 2019-10-17 13:38:11 -0400 (Thu, 17 Oct 2019) | 
| EndedAt: 2019-10-17 13:40:26 -0400 (Thu, 17 Oct 2019) | 
| EllapsedTime: 134.9 seconds | 
| RetCode: 0 | 
| Status: WARNINGS | 
| CheckDir: pd.atdschip.tiling.Rcheck | 
| Warnings: 1 | 
##############################################################################
##############################################################################
###
### Running command:
###
###   /home/biocbuild/bbs-3.9-bioc/R/bin/R CMD check --install=check:pd.atdschip.tiling.install-out.txt --library=/home/biocbuild/bbs-3.9-bioc/R/library --no-vignettes --timings pd.atdschip.tiling_0.22.0.tar.gz
###
##############################################################################
##############################################################################
* using log directory ‘/home/biocbuild/bbs-3.9-data-experiment/meat/pd.atdschip.tiling.Rcheck’
* using R version 3.6.1 (2019-07-05)
* using platform: x86_64-pc-linux-gnu (64-bit)
* using session charset: UTF-8
* using option ‘--no-vignettes’
* checking for file ‘pd.atdschip.tiling/DESCRIPTION’ ... OK
* this is package ‘pd.atdschip.tiling’ version ‘0.22.0’
* checking package namespace information ... OK
* checking package dependencies ... OK
* checking if this is a source package ... OK
* checking if there is a namespace ... OK
* checking for hidden files and directories ... OK
* checking for portable file names ... OK
* checking for sufficient/correct file permissions ... OK
* checking whether package ‘pd.atdschip.tiling’ can be installed ... OK
* checking installed package size ... NOTE
  installed size is 256.4Mb
  sub-directories of 1Mb or more:
    data      43.3Mb
    extdata  213.0Mb
* checking package directory ... OK
* checking DESCRIPTION meta-information ... NOTE
Malformed Description field: should contain one or more complete sentences.
* checking top-level files ... OK
* checking for left-over files ... OK
* checking index information ... OK
* checking package subdirectories ... OK
* checking R files for non-ASCII characters ... OK
* checking R files for syntax errors ... OK
* checking whether the package can be loaded ... OK
* checking whether the package can be loaded with stated dependencies ... OK
* checking whether the package can be unloaded cleanly ... OK
* checking whether the namespace can be loaded with stated dependencies ... OK
* checking whether the namespace can be unloaded cleanly ... OK
* checking dependencies in R code ... NOTE
'library' or 'require' call to ‘RSQLite’ which was already attached by Depends.
  Please remove these calls from your code.
Namespace in Imports field not imported from: ‘IRanges’
  All declared Imports should be used.
Packages in Depends field not imported from:
  ‘methods’ ‘oligo’ ‘oligoClasses’
  These packages need to be imported from (in the NAMESPACE file)
  for when this namespace is loaded but not attached.
* checking S3 generic/method consistency ... OK
* checking replacement functions ... OK
* checking foreign function calls ... OK
* checking R code for possible problems ... NOTE
File ‘pd.atdschip.tiling/R/all.R’:
  .onLoad calls:
    require(RSQLite, quietly = TRUE)
Package startup functions should not change the search path.
See section ‘Good practice’ in '?.onAttach'.
* checking Rd files ... OK
* checking Rd metadata ... OK
* checking Rd cross-references ... OK
* checking for missing documentation entries ... OK
* checking for code/documentation mismatches ... OK
* checking Rd \usage sections ... OK
* checking Rd contents ... OK
* checking for unstated dependencies in examples ... OK
* checking contents of ‘data’ directory ... OK
* checking data for non-ASCII characters ... OK
* checking data for ASCII and uncompressed saves ... OK
* checking line endings in Makefiles ... OK
* checking for GNU extensions in Makefiles ... WARNING
Found the following file(s) containing GNU extensions:
  inst/UnitTests/Makefile
Portable Makefiles do not use GNU extensions such as +=, :=, $(shell),
$(wildcard), ifeq ... endif, .NOTPARALLEL See section ‘Writing portable
packages’ in the ‘Writing R Extensions’ manual.
* checking include directives in Makefiles ... OK
* checking examples ... OK
Examples with CPU or elapsed time > 5s
                user system elapsed
probeSequences 5.412  0.132   5.543
* checking PDF version of manual ... OK
* DONE
Status: 1 WARNING, 4 NOTEs
See
  ‘/home/biocbuild/bbs-3.9-data-experiment/meat/pd.atdschip.tiling.Rcheck/00check.log’
for details.
pd.atdschip.tiling.Rcheck/00install.out
############################################################################## ############################################################################## ### ### Running command: ### ### /home/biocbuild/bbs-3.9-bioc/R/bin/R CMD INSTALL pd.atdschip.tiling ### ############################################################################## ############################################################################## * installing to library ‘/home/biocbuild/bbs-3.9-bioc/R/library’ * installing *source* package ‘pd.atdschip.tiling’ ... ** using staged installation ** R ** data ** inst ** byte-compile and prepare package for lazy loading ** help *** installing help indices ** building package indices ** testing if installed package can be loaded from temporary location ** testing if installed package can be loaded from final location ** testing if installed package keeps a record of temporary installation path * DONE (pd.atdschip.tiling)
pd.atdschip.tiling.Rcheck/pd.atdschip.tiling-Ex.timings
| name | user | system | elapsed | |
| probeSequences | 5.412 | 0.132 | 5.543 | |