| Back to Multiple platform build/check report for BioC 3.9 experimental data | 
This page was generated on 2019-10-17 16:51:32 -0400 (Thu, 17 Oct 2019).
| Package 234/371 | Hostname | OS / Arch | INSTALL | BUILD | CHECK | BUILD BIN | ||||||
| msqc1 1.12.0 Christian Panse 
 | malbec2 | Linux (Ubuntu 18.04.2 LTS) / x86_64 | OK | [ OK ] | OK |  | 
| Package: msqc1 | 
| Version: 1.12.0 | 
| Command: /home/biocbuild/bbs-3.9-bioc/R/bin/R CMD build --keep-empty-dirs --no-resave-data msqc1 | 
| StartedAt: 2019-10-17 12:07:43 -0400 (Thu, 17 Oct 2019) | 
| EndedAt: 2019-10-17 12:08:33 -0400 (Thu, 17 Oct 2019) | 
| EllapsedTime: 49.4 seconds | 
| RetCode: 0 | 
| Status: OK | 
| PackageFile: msqc1_1.12.0.tar.gz | 
| PackageFileSize: 6.375 MiB | 
############################################################################## ############################################################################## ### ### Running command: ### ### /home/biocbuild/bbs-3.9-bioc/R/bin/R CMD build --keep-empty-dirs --no-resave-data msqc1 ### ############################################################################## ############################################################################## * checking for file ‘msqc1/DESCRIPTION’ ... OK * preparing ‘msqc1’: * checking DESCRIPTION meta-information ... OK * installing the package to process help pages * saving partial Rd database * creating vignettes ... OK * checking for LF line-endings in source and make files and shell scripts * checking for empty or unneeded directories * looking to see if a ‘data/datalist’ file should be added * building ‘msqc1_1.12.0.tar.gz’