| Back to Multiple platform build/check report for BioC 3.9 experimental data | 
This page was generated on 2019-10-17 16:51:38 -0400 (Thu, 17 Oct 2019).
| Package 209/371 | Hostname | OS / Arch | INSTALL | BUILD | CHECK | BUILD BIN | ||||||
| mcsurvdata 1.2.0 Adria Caballe Mestres 
 | malbec2 | Linux (Ubuntu 18.04.2 LTS) / x86_64 | OK | OK | [ OK ] |  | 
| Package: mcsurvdata | 
| Version: 1.2.0 | 
| Command: /home/biocbuild/bbs-3.9-bioc/R/bin/R CMD check --install=check:mcsurvdata.install-out.txt --library=/home/biocbuild/bbs-3.9-bioc/R/library --no-vignettes --timings mcsurvdata_1.2.0.tar.gz | 
| StartedAt: 2019-10-17 13:26:55 -0400 (Thu, 17 Oct 2019) | 
| EndedAt: 2019-10-17 13:27:52 -0400 (Thu, 17 Oct 2019) | 
| EllapsedTime: 56.5 seconds | 
| RetCode: 0 | 
| Status: OK | 
| CheckDir: mcsurvdata.Rcheck | 
| Warnings: 0 | 
##############################################################################
##############################################################################
###
### Running command:
###
###   /home/biocbuild/bbs-3.9-bioc/R/bin/R CMD check --install=check:mcsurvdata.install-out.txt --library=/home/biocbuild/bbs-3.9-bioc/R/library --no-vignettes --timings mcsurvdata_1.2.0.tar.gz
###
##############################################################################
##############################################################################
* using log directory ‘/home/biocbuild/bbs-3.9-data-experiment/meat/mcsurvdata.Rcheck’
* using R version 3.6.1 (2019-07-05)
* using platform: x86_64-pc-linux-gnu (64-bit)
* using session charset: UTF-8
* using option ‘--no-vignettes’
* checking for file ‘mcsurvdata/DESCRIPTION’ ... OK
* checking extension type ... Package
* this is package ‘mcsurvdata’ version ‘1.2.0’
* checking package namespace information ... OK
* checking package dependencies ... OK
* checking if this is a source package ... OK
* checking if there is a namespace ... OK
* checking for hidden files and directories ... OK
* checking for portable file names ... OK
* checking for sufficient/correct file permissions ... OK
* checking whether package ‘mcsurvdata’ can be installed ... OK
* checking installed package size ... OK
* checking package directory ... OK
* checking ‘build’ directory ... OK
* checking DESCRIPTION meta-information ... OK
* checking top-level files ... OK
* checking for left-over files ... OK
* checking index information ... OK
* checking package subdirectories ... OK
* checking whether the package can be loaded ... OK
* checking whether the package can be loaded with stated dependencies ... OK
* checking whether the package can be unloaded cleanly ... OK
* checking whether the namespace can be loaded with stated dependencies ... OK
* checking whether the namespace can be unloaded cleanly ... OK
* checking Rd files ... OK
* checking Rd metadata ... OK
* checking Rd cross-references ... OK
* checking for code/documentation mismatches ... OK
* checking Rd \usage sections ... OK
* checking Rd contents ... OK
* checking for unstated dependencies in examples ... OK
* checking files in ‘vignettes’ ... OK
* checking examples ... OK
Examples with CPU or elapsed time > 5s
             user system elapsed
mcsurvdata 13.322  0.455  14.926
nda.crc     5.963  0.159   6.280
nda.brca    5.661  0.144   6.011
* checking for unstated dependencies in vignettes ... OK
* checking package vignettes in ‘inst/doc’ ... OK
* checking running R code from vignettes ... SKIPPED
* checking re-building of vignette outputs ... SKIPPED
* checking PDF version of manual ... OK
* DONE
Status: OK
mcsurvdata.Rcheck/00install.out
############################################################################## ############################################################################## ### ### Running command: ### ### /home/biocbuild/bbs-3.9-bioc/R/bin/R CMD INSTALL mcsurvdata ### ############################################################################## ############################################################################## * installing to library ‘/home/biocbuild/bbs-3.9-bioc/R/library’ * installing *source* package ‘mcsurvdata’ ... ** using staged installation ** inst ** help *** installing help indices ** building package indices ** installing vignettes ** testing if installed package can be loaded from temporary location ** testing if installed package can be loaded from final location ** testing if installed package keeps a record of temporary installation path * DONE (mcsurvdata)
mcsurvdata.Rcheck/mcsurvdata-Ex.timings
| name | user | system | elapsed | |
| mcsurvdata | 13.322 | 0.455 | 14.926 | |
| nda.brca | 5.661 | 0.144 | 6.011 | |
| nda.crc | 5.963 | 0.159 | 6.280 | |