| Back to Multiple platform build/check report for BioC 3.9 experimental data | 
This page was generated on 2019-10-17 16:51:21 -0400 (Thu, 17 Oct 2019).
| Package 198/371 | Hostname | OS / Arch | INSTALL | BUILD | CHECK | BUILD BIN | ||||||
| lungExpression 0.22.0 Robert Scharpf 
 | malbec2 | Linux (Ubuntu 18.04.2 LTS) / x86_64 | OK | [ OK ] | OK |  | 
| Package: lungExpression | 
| Version: 0.22.0 | 
| Command: /home/biocbuild/bbs-3.9-bioc/R/bin/R CMD build --keep-empty-dirs --no-resave-data lungExpression | 
| StartedAt: 2019-10-17 11:30:41 -0400 (Thu, 17 Oct 2019) | 
| EndedAt: 2019-10-17 11:30:43 -0400 (Thu, 17 Oct 2019) | 
| EllapsedTime: 1.9 seconds | 
| RetCode: 0 | 
| Status: OK | 
| PackageFile: lungExpression_0.22.0.tar.gz | 
| PackageFileSize: 5.681 MiB | 
############################################################################## ############################################################################## ### ### Running command: ### ### /home/biocbuild/bbs-3.9-bioc/R/bin/R CMD build --keep-empty-dirs --no-resave-data lungExpression ### ############################################################################## ############################################################################## * checking for file ‘lungExpression/DESCRIPTION’ ... OK * preparing ‘lungExpression’: * checking DESCRIPTION meta-information ... OK * checking for LF line-endings in source and make files and shell scripts * checking for empty or unneeded directories * looking to see if a ‘data/datalist’ file should be added * building ‘lungExpression_0.22.0.tar.gz’