| Back to Multiple platform build/check report for BioC 3.9 experimental data | 
This page was generated on 2019-10-17 16:51:22 -0400 (Thu, 17 Oct 2019).
| Package 156/371 | Hostname | OS / Arch | INSTALL | BUILD | CHECK | BUILD BIN | ||||||
| hapmapsnp6 1.26.0 Benilton Carvalho 
 | malbec2 | Linux (Ubuntu 18.04.2 LTS) / x86_64 | OK | [ OK ] | OK |  | 
| Package: hapmapsnp6 | 
| Version: 1.26.0 | 
| Command: /home/biocbuild/bbs-3.9-bioc/R/bin/R CMD build --keep-empty-dirs --no-resave-data hapmapsnp6 | 
| StartedAt: 2019-10-17 11:31:55 -0400 (Thu, 17 Oct 2019) | 
| EndedAt: 2019-10-17 11:35:39 -0400 (Thu, 17 Oct 2019) | 
| EllapsedTime: 223.8 seconds | 
| RetCode: 0 | 
| Status: OK | 
| PackageFile: hapmapsnp6_1.26.0.tar.gz | 
| PackageFileSize: 263.2 MiB | 
############################################################################## ############################################################################## ### ### Running command: ### ### /home/biocbuild/bbs-3.9-bioc/R/bin/R CMD build --keep-empty-dirs --no-resave-data hapmapsnp6 ### ############################################################################## ############################################################################## * checking for file ‘hapmapsnp6/DESCRIPTION’ ... OK * preparing ‘hapmapsnp6’: * checking DESCRIPTION meta-information ... OK * checking for LF line-endings in source and make files and shell scripts * checking for empty or unneeded directories * looking to see if a ‘data/datalist’ file should be added * building ‘hapmapsnp6_1.26.0.tar.gz’