| Back to Multiple platform build/check report for BioC 3.9 experimental data | 
This page was generated on 2019-10-17 16:51:33 -0400 (Thu, 17 Oct 2019).
| Package 121/371 | Hostname | OS / Arch | INSTALL | BUILD | CHECK | BUILD BIN | ||||||
| Josef Spidlen 
 | malbec2 | Linux (Ubuntu 18.04.2 LTS) / x86_64 | OK | [ OK ] | WARNINGS |  | 
| Package: flowQBData | 
| Version: 1.10.0 | 
| Command: /home/biocbuild/bbs-3.9-bioc/R/bin/R CMD build --keep-empty-dirs --no-resave-data flowQBData | 
| StartedAt: 2019-10-17 12:11:20 -0400 (Thu, 17 Oct 2019) | 
| EndedAt: 2019-10-17 12:12:21 -0400 (Thu, 17 Oct 2019) | 
| EllapsedTime: 61.1 seconds | 
| RetCode: 0 | 
| Status: OK | 
| PackageFile: flowQBData_1.10.0.tar.gz | 
| PackageFileSize: 83 MiB | 
############################################################################## ############################################################################## ### ### Running command: ### ### /home/biocbuild/bbs-3.9-bioc/R/bin/R CMD build --keep-empty-dirs --no-resave-data flowQBData ### ############################################################################## ############################################################################## * checking for file ‘flowQBData/DESCRIPTION’ ... OK * preparing ‘flowQBData’: * checking DESCRIPTION meta-information ... OK * checking for LF line-endings in source and make files and shell scripts * checking for empty or unneeded directories * building ‘flowQBData_1.10.0.tar.gz’