| Back to Multiple platform build/check report for BioC 3.9 experimental data | 
This page was generated on 2019-10-17 16:51:20 -0400 (Thu, 17 Oct 2019).
| Package 111/371 | Hostname | OS / Arch | INSTALL | BUILD | CHECK | BUILD BIN | ||||||
| facsDorit 1.26.0 Florian Hahne 
 | malbec2 | Linux (Ubuntu 18.04.2 LTS) / x86_64 | OK | [ OK ] | OK |  | 
| Package: facsDorit | 
| Version: 1.26.0 | 
| Command: /home/biocbuild/bbs-3.9-bioc/R/bin/R CMD build --keep-empty-dirs --no-resave-data facsDorit | 
| StartedAt: 2019-10-17 11:29:35 -0400 (Thu, 17 Oct 2019) | 
| EndedAt: 2019-10-17 11:29:43 -0400 (Thu, 17 Oct 2019) | 
| EllapsedTime: 7.6 seconds | 
| RetCode: 0 | 
| Status: OK | 
| PackageFile: facsDorit_1.26.0.tar.gz | 
| PackageFileSize: 21.58 MiB | 
############################################################################## ############################################################################## ### ### Running command: ### ### /home/biocbuild/bbs-3.9-bioc/R/bin/R CMD build --keep-empty-dirs --no-resave-data facsDorit ### ############################################################################## ############################################################################## * checking for file ‘facsDorit/DESCRIPTION’ ... OK * preparing ‘facsDorit’: * checking DESCRIPTION meta-information ... OK * checking for LF line-endings in source and make files and shell scripts * checking for empty or unneeded directories * building ‘facsDorit_1.26.0.tar.gz’