| Back to Multiple platform build/check report for BioC 3.9 experimental data | 
This page was generated on 2019-10-17 16:51:23 -0400 (Thu, 17 Oct 2019).
| Package 55/371 | Hostname | OS / Arch | INSTALL | BUILD | CHECK | BUILD BIN | ||||||
| charmData 1.20.0 Martin Aryee 
 | malbec2 | Linux (Ubuntu 18.04.2 LTS) / x86_64 | [ ERROR ] | OK | ERROR | 
| Package: charmData | 
| Version: 1.20.0 | 
| Command: /home/biocbuild/bbs-3.9-bioc/R/bin/R CMD INSTALL charmData | 
| StartedAt: 2019-10-17 11:20:49 -0400 (Thu, 17 Oct 2019) | 
| EndedAt: 2019-10-17 11:20:49 -0400 (Thu, 17 Oct 2019) | 
| EllapsedTime: 0.5 seconds | 
| RetCode: 1 | 
| Status: ERROR | 
############################################################################## ############################################################################## ### ### Running command: ### ### /home/biocbuild/bbs-3.9-bioc/R/bin/R CMD INSTALL charmData ### ############################################################################## ############################################################################## * installing to library ‘/home/biocbuild/bbs-3.9-bioc/R/library’ ERROR: dependency ‘charm’ is not available for package ‘charmData’ * removing ‘/home/biocbuild/bbs-3.9-bioc/R/library/charmData’