| Back to Multiple platform build/check report for BioC 3.9 experimental data | 
This page was generated on 2019-10-17 16:51:23 -0400 (Thu, 17 Oct 2019).
| Package 39/371 | Hostname | OS / Arch | INSTALL | BUILD | CHECK | BUILD BIN | ||||||
| breastCancerVDX 1.22.0 Markus Schroeder 
 | malbec2 | Linux (Ubuntu 18.04.2 LTS) / x86_64 | OK | [ OK ] | WARNINGS |  | 
| Package: breastCancerVDX | 
| Version: 1.22.0 | 
| Command: /home/biocbuild/bbs-3.9-bioc/R/bin/R CMD build --keep-empty-dirs --no-resave-data breastCancerVDX | 
| StartedAt: 2019-10-17 11:35:46 -0400 (Thu, 17 Oct 2019) | 
| EndedAt: 2019-10-17 11:35:50 -0400 (Thu, 17 Oct 2019) | 
| EllapsedTime: 4.1 seconds | 
| RetCode: 0 | 
| Status: OK | 
| PackageFile: breastCancerVDX_1.22.0.tar.gz | 
| PackageFileSize: 39.52 MiB | 
############################################################################## ############################################################################## ### ### Running command: ### ### /home/biocbuild/bbs-3.9-bioc/R/bin/R CMD build --keep-empty-dirs --no-resave-data breastCancerVDX ### ############################################################################## ############################################################################## * checking for file ‘breastCancerVDX/DESCRIPTION’ ... OK * preparing ‘breastCancerVDX’: * checking DESCRIPTION meta-information ... OK * checking whether ‘INDEX’ is up-to-date ... NO * use ‘--force’ to remove the existing ‘INDEX’ * checking for LF line-endings in source and make files and shell scripts * checking for empty or unneeded directories * looking to see if a ‘data/datalist’ file should be added * building ‘breastCancerVDX_1.22.0.tar.gz’