| Back to Multiple platform build/check report for BioC 3.9 experimental data | 
This page was generated on 2019-10-17 16:51:26 -0400 (Thu, 17 Oct 2019).
| Package 17/371 | Hostname | OS / Arch | INSTALL | BUILD | CHECK | BUILD BIN | ||||||
| antiProfilesData 1.20.0 Hector Corrada Bravo 
 | malbec2 | Linux (Ubuntu 18.04.2 LTS) / x86_64 | OK | [ OK ] | OK |  | 
| Package: antiProfilesData | 
| Version: 1.20.0 | 
| Command: /home/biocbuild/bbs-3.9-bioc/R/bin/R CMD build --keep-empty-dirs --no-resave-data antiProfilesData | 
| StartedAt: 2019-10-17 11:42:56 -0400 (Thu, 17 Oct 2019) | 
| EndedAt: 2019-10-17 11:42:59 -0400 (Thu, 17 Oct 2019) | 
| EllapsedTime: 3.0 seconds | 
| RetCode: 0 | 
| Status: OK | 
| PackageFile: antiProfilesData_1.20.0.tar.gz | 
| PackageFileSize: 2.714 MiB | 
############################################################################## ############################################################################## ### ### Running command: ### ### /home/biocbuild/bbs-3.9-bioc/R/bin/R CMD build --keep-empty-dirs --no-resave-data antiProfilesData ### ############################################################################## ############################################################################## * checking for file ‘antiProfilesData/DESCRIPTION’ ... OK * preparing ‘antiProfilesData’: * checking DESCRIPTION meta-information ... OK * checking for LF line-endings in source and make files and shell scripts * checking for empty or unneeded directories * looking to see if a ‘data/datalist’ file should be added * building ‘antiProfilesData_1.20.0.tar.gz’