| Back to Multiple platform build/check report for BioC 3.9 experimental data | 
This page was generated on 2019-10-17 16:51:36 -0400 (Thu, 17 Oct 2019).
| Package 289/371 | Hostname | OS / Arch | INSTALL | BUILD | CHECK | BUILD BIN | ||||||
| RGMQLlib 1.4.0 Simone Pallotta 
 | malbec2 | Linux (Ubuntu 18.04.2 LTS) / x86_64 | OK | [ OK ] | OK |  | 
| Package: RGMQLlib | 
| Version: 1.4.0 | 
| Command: /home/biocbuild/bbs-3.9-bioc/R/bin/R CMD build --keep-empty-dirs --no-resave-data RGMQLlib | 
| StartedAt: 2019-10-17 12:16:10 -0400 (Thu, 17 Oct 2019) | 
| EndedAt: 2019-10-17 12:16:21 -0400 (Thu, 17 Oct 2019) | 
| EllapsedTime: 11.0 seconds | 
| RetCode: 0 | 
| Status: OK | 
| PackageFile: RGMQLlib_1.4.0.tar.gz | 
| PackageFileSize: 86.28 MiB | 
############################################################################## ############################################################################## ### ### Running command: ### ### /home/biocbuild/bbs-3.9-bioc/R/bin/R CMD build --keep-empty-dirs --no-resave-data RGMQLlib ### ############################################################################## ############################################################################## * checking for file ‘RGMQLlib/DESCRIPTION’ ... OK * preparing ‘RGMQLlib’: * checking DESCRIPTION meta-information ... OK * installing the package to build vignettes * creating vignettes ... OK * checking for LF line-endings in source and make files and shell scripts * checking for empty or unneeded directories * building ‘RGMQLlib_1.4.0.tar.gz’