| Back to Multiple platform build/check report for BioC 3.9 experimental data | 
This page was generated on 2019-10-17 16:51:25 -0400 (Thu, 17 Oct 2019).
| Package 239/371 | Hostname | OS / Arch | INSTALL | BUILD | CHECK | BUILD BIN | ||||||
| Mulder2012 0.24.0 Xin Wang 
 | malbec2 | Linux (Ubuntu 18.04.2 LTS) / x86_64 | OK | [ OK ] | OK |  | 
| Package: Mulder2012 | 
| Version: 0.24.0 | 
| Command: /home/biocbuild/bbs-3.9-bioc/R/bin/R CMD build --keep-empty-dirs --no-resave-data Mulder2012 | 
| StartedAt: 2019-10-17 11:37:20 -0400 (Thu, 17 Oct 2019) | 
| EndedAt: 2019-10-17 11:38:10 -0400 (Thu, 17 Oct 2019) | 
| EllapsedTime: 49.9 seconds | 
| RetCode: 0 | 
| Status: OK | 
| PackageFile: Mulder2012_0.24.0.tar.gz | 
| PackageFileSize: 23.89 MiB | 
############################################################################## ############################################################################## ### ### Running command: ### ### /home/biocbuild/bbs-3.9-bioc/R/bin/R CMD build --keep-empty-dirs --no-resave-data Mulder2012 ### ############################################################################## ############################################################################## * checking for file ‘Mulder2012/DESCRIPTION’ ... OK * preparing ‘Mulder2012’: * checking DESCRIPTION meta-information ... OK * installing the package to build vignettes * creating vignettes ... OK * checking for LF line-endings in source and make files and shell scripts * checking for empty or unneeded directories * looking to see if a ‘data/datalist’ file should be added * building ‘Mulder2012_0.24.0.tar.gz’