| Back to Multiple platform build/check report for BioC 3.9 experimental data | 
This page was generated on 2019-10-17 16:51:37 -0400 (Thu, 17 Oct 2019).
| Package 212/371 | Hostname | OS / Arch | INSTALL | BUILD | CHECK | BUILD BIN | ||||||
| MetaGxBreast 1.4.0 Michael Zon 
 | malbec2 | Linux (Ubuntu 18.04.2 LTS) / x86_64 | OK | [ OK ] | OK |  | 
| Package: MetaGxBreast | 
| Version: 1.4.0 | 
| Command: /home/biocbuild/bbs-3.9-bioc/R/bin/R CMD build --keep-empty-dirs --no-resave-data MetaGxBreast | 
| StartedAt: 2019-10-17 12:18:07 -0400 (Thu, 17 Oct 2019) | 
| EndedAt: 2019-10-17 12:19:23 -0400 (Thu, 17 Oct 2019) | 
| EllapsedTime: 75.6 seconds | 
| RetCode: 0 | 
| Status: OK | 
| PackageFile: MetaGxBreast_1.4.0.tar.gz | 
| PackageFileSize: 182.3 KiB | 
############################################################################## ############################################################################## ### ### Running command: ### ### /home/biocbuild/bbs-3.9-bioc/R/bin/R CMD build --keep-empty-dirs --no-resave-data MetaGxBreast ### ############################################################################## ############################################################################## * checking for file ‘MetaGxBreast/DESCRIPTION’ ... OK * preparing ‘MetaGxBreast’: * checking DESCRIPTION meta-information ... OK * installing the package to build vignettes * creating vignettes ... OK * checking for LF line-endings in source and make files and shell scripts * checking for empty or unneeded directories * building ‘MetaGxBreast_1.4.0.tar.gz’