| Back to Multiple platform build/check report for BioC 3.9 experimental data | 
This page was generated on 2019-10-17 16:51:29 -0400 (Thu, 17 Oct 2019).
| Package 187/371 | Hostname | OS / Arch | INSTALL | BUILD | CHECK | BUILD BIN | ||||||
| KEGGandMetacoreDzPathwaysGEO 1.4.0 Gaurav Bhatti 
 | malbec2 | Linux (Ubuntu 18.04.2 LTS) / x86_64 | OK | OK | [ OK ] |  | 
| Package: KEGGandMetacoreDzPathwaysGEO | 
| Version: 1.4.0 | 
| Command: /home/biocbuild/bbs-3.9-bioc/R/bin/R CMD check --install=check:KEGGandMetacoreDzPathwaysGEO.install-out.txt --library=/home/biocbuild/bbs-3.9-bioc/R/library --no-vignettes --timings KEGGandMetacoreDzPathwaysGEO_1.4.0.tar.gz | 
| StartedAt: 2019-10-17 13:23:27 -0400 (Thu, 17 Oct 2019) | 
| EndedAt: 2019-10-17 13:24:29 -0400 (Thu, 17 Oct 2019) | 
| EllapsedTime: 62.0 seconds | 
| RetCode: 0 | 
| Status: OK | 
| CheckDir: KEGGandMetacoreDzPathwaysGEO.Rcheck | 
| Warnings: 0 | 
##############################################################################
##############################################################################
###
### Running command:
###
###   /home/biocbuild/bbs-3.9-bioc/R/bin/R CMD check --install=check:KEGGandMetacoreDzPathwaysGEO.install-out.txt --library=/home/biocbuild/bbs-3.9-bioc/R/library --no-vignettes --timings KEGGandMetacoreDzPathwaysGEO_1.4.0.tar.gz
###
##############################################################################
##############################################################################
* using log directory ‘/home/biocbuild/bbs-3.9-data-experiment/meat/KEGGandMetacoreDzPathwaysGEO.Rcheck’
* using R version 3.6.1 (2019-07-05)
* using platform: x86_64-pc-linux-gnu (64-bit)
* using session charset: UTF-8
* using option ‘--no-vignettes’
* checking for file ‘KEGGandMetacoreDzPathwaysGEO/DESCRIPTION’ ... OK
* checking extension type ... Package
* this is package ‘KEGGandMetacoreDzPathwaysGEO’ version ‘1.4.0’
* checking package namespace information ... OK
* checking package dependencies ... OK
* checking if this is a source package ... OK
* checking if there is a namespace ... OK
* checking for hidden files and directories ... OK
* checking for portable file names ... OK
* checking for sufficient/correct file permissions ... OK
* checking whether package ‘KEGGandMetacoreDzPathwaysGEO’ can be installed ... OK
* checking installed package size ... NOTE
  installed size is 98.7Mb
  sub-directories of 1Mb or more:
    data  98.5Mb
* checking package directory ... OK
* checking ‘build’ directory ... OK
* checking DESCRIPTION meta-information ... OK
* checking top-level files ... OK
* checking for left-over files ... OK
* checking index information ... OK
* checking package subdirectories ... OK
* checking whether the package can be loaded ... OK
* checking whether the package can be loaded with stated dependencies ... OK
* checking whether the package can be unloaded cleanly ... OK
* checking whether the namespace can be loaded with stated dependencies ... OK
* checking whether the namespace can be unloaded cleanly ... OK
* checking Rd files ... OK
* checking Rd metadata ... OK
* checking Rd cross-references ... OK
* checking for missing documentation entries ... OK
* checking for code/documentation mismatches ... OK
* checking Rd \usage sections ... OK
* checking Rd contents ... OK
* checking for unstated dependencies in examples ... OK
* checking contents of ‘data’ directory ... OK
* checking data for non-ASCII characters ... OK
* checking data for ASCII and uncompressed saves ... OK
* checking files in ‘vignettes’ ... OK
* checking examples ... OK
* checking for unstated dependencies in vignettes ... OK
* checking package vignettes in ‘inst/doc’ ... OK
* checking running R code from vignettes ... SKIPPED
* checking re-building of vignette outputs ... SKIPPED
* checking PDF version of manual ... OK
* DONE
Status: 1 NOTE
See
  ‘/home/biocbuild/bbs-3.9-data-experiment/meat/KEGGandMetacoreDzPathwaysGEO.Rcheck/00check.log’
for details.
KEGGandMetacoreDzPathwaysGEO.Rcheck/00install.out
############################################################################## ############################################################################## ### ### Running command: ### ### /home/biocbuild/bbs-3.9-bioc/R/bin/R CMD INSTALL KEGGandMetacoreDzPathwaysGEO ### ############################################################################## ############################################################################## * installing to library ‘/home/biocbuild/bbs-3.9-bioc/R/library’ * installing *source* package ‘KEGGandMetacoreDzPathwaysGEO’ ... ** using staged installation ** data ** help *** installing help indices ** building package indices ** installing vignettes ** testing if installed package can be loaded from temporary location ** testing if installed package can be loaded from final location ** testing if installed package keeps a record of temporary installation path * DONE (KEGGandMetacoreDzPathwaysGEO)
KEGGandMetacoreDzPathwaysGEO.Rcheck/KEGGandMetacoreDzPathwaysGEO-Ex.timings
| name | user | system | elapsed | |
| GSE1145 | 0.371 | 0.008 | 0.378 | |
| GSE11906 | 2.738 | 0.052 | 2.790 | |
| GSE14924_CD4 | 0.223 | 0.008 | 0.232 | |
| GSE14924_CD8 | 0.223 | 0.016 | 0.239 | |
| GSE16759 | 0.301 | 0.008 | 0.309 | |
| GSE19420 | 0.198 | 0.016 | 0.213 | |
| GSE20164 | 0.069 | 0.000 | 0.068 | |
| GSE22780 | 0.205 | 0.004 | 0.208 | |
| GSE23878 | 0.731 | 0.012 | 0.743 | |
| GSE24739_G0 | 0.461 | 0.020 | 0.481 | |
| GSE24739_G1 | 0.438 | 0.019 | 0.459 | |
| GSE30153 | 0.528 | 0.004 | 0.533 | |
| GSE32676 | 0.686 | 0.011 | 0.698 | |
| GSE38666_epithelia | 0.318 | 0.005 | 0.321 | |
| GSE38666_stroma | 0.197 | 0.008 | 0.204 | |
| GSE4183 | 0.216 | 0.012 | 0.228 | |
| GSE42057 | 0.896 | 0.007 | 0.903 | |
| GSE7305 | 0.790 | 0.001 | 0.790 | |
| KEGGandMetacoreDzPathwaysGEO-package | 0.714 | 0.016 | 0.788 | |