| Back to Multiple platform build/check report for BioC 3.9 experimental data | 
This page was generated on 2019-10-17 16:51:37 -0400 (Thu, 17 Oct 2019).
| Package 99/371 | Hostname | OS / Arch | INSTALL | BUILD | CHECK | BUILD BIN | ||||||
| DuoClustering2018 1.2.0 Angelo Duò 
 | malbec2 | Linux (Ubuntu 18.04.2 LTS) / x86_64 | OK | [ OK ] | OK |  | 
| Package: DuoClustering2018 | 
| Version: 1.2.0 | 
| Command: /home/biocbuild/bbs-3.9-bioc/R/bin/R CMD build --keep-empty-dirs --no-resave-data DuoClustering2018 | 
| StartedAt: 2019-10-17 12:20:23 -0400 (Thu, 17 Oct 2019) | 
| EndedAt: 2019-10-17 12:22:18 -0400 (Thu, 17 Oct 2019) | 
| EllapsedTime: 115.2 seconds | 
| RetCode: 0 | 
| Status: OK | 
| PackageFile: DuoClustering2018_1.2.0.tar.gz | 
| PackageFileSize: 1.94 MiB | 
############################################################################## ############################################################################## ### ### Running command: ### ### /home/biocbuild/bbs-3.9-bioc/R/bin/R CMD build --keep-empty-dirs --no-resave-data DuoClustering2018 ### ############################################################################## ############################################################################## * checking for file ‘DuoClustering2018/DESCRIPTION’ ... OK * preparing ‘DuoClustering2018’: * checking DESCRIPTION meta-information ... OK * installing the package to build vignettes * creating vignettes ... OK * checking for LF line-endings in source and make files and shell scripts * checking for empty or unneeded directories * building ‘DuoClustering2018_1.2.0.tar.gz’