| Back to Multiple platform build/check report for BioC 3.9 experimental data | 
This page was generated on 2019-10-17 16:51:27 -0400 (Thu, 17 Oct 2019).
| Package 54/371 | Hostname | OS / Arch | INSTALL | BUILD | CHECK | BUILD BIN | ||||||
| ChAMPdata 2.16.0 Yuan Tian 
 | malbec2 | Linux (Ubuntu 18.04.2 LTS) / x86_64 | OK | OK | [ OK ] |  | 
| Package: ChAMPdata | 
| Version: 2.16.0 | 
| Command: /home/biocbuild/bbs-3.9-bioc/R/bin/R CMD check --install=check:ChAMPdata.install-out.txt --library=/home/biocbuild/bbs-3.9-bioc/R/library --no-vignettes --timings ChAMPdata_2.16.0.tar.gz | 
| StartedAt: 2019-10-17 12:56:34 -0400 (Thu, 17 Oct 2019) | 
| EndedAt: 2019-10-17 13:01:24 -0400 (Thu, 17 Oct 2019) | 
| EllapsedTime: 289.9 seconds | 
| RetCode: 0 | 
| Status: OK | 
| CheckDir: ChAMPdata.Rcheck | 
| Warnings: 0 | 
##############################################################################
##############################################################################
###
### Running command:
###
###   /home/biocbuild/bbs-3.9-bioc/R/bin/R CMD check --install=check:ChAMPdata.install-out.txt --library=/home/biocbuild/bbs-3.9-bioc/R/library --no-vignettes --timings ChAMPdata_2.16.0.tar.gz
###
##############################################################################
##############################################################################
* using log directory ‘/home/biocbuild/bbs-3.9-data-experiment/meat/ChAMPdata.Rcheck’
* using R version 3.6.1 (2019-07-05)
* using platform: x86_64-pc-linux-gnu (64-bit)
* using session charset: UTF-8
* using option ‘--no-vignettes’
* checking for file ‘ChAMPdata/DESCRIPTION’ ... OK
* checking extension type ... Package
* this is package ‘ChAMPdata’ version ‘2.16.0’
* checking package namespace information ... OK
* checking package dependencies ... OK
* checking if this is a source package ... OK
* checking if there is a namespace ... OK
* checking for hidden files and directories ... OK
* checking for portable file names ... OK
* checking for sufficient/correct file permissions ... OK
* checking whether package ‘ChAMPdata’ can be installed ... OK
* checking installed package size ... NOTE
  installed size is 743.0Mb
  sub-directories of 1Mb or more:
    data     619.3Mb
    extdata  123.6Mb
* checking package directory ... OK
* checking DESCRIPTION meta-information ... OK
* checking top-level files ... OK
* checking for left-over files ... OK
* checking index information ... OK
* checking package subdirectories ... OK
* checking whether the package can be loaded ... OK
* checking whether the package can be loaded with stated dependencies ... OK
* checking whether the package can be unloaded cleanly ... OK
* checking whether the namespace can be loaded with stated dependencies ... OK
* checking whether the namespace can be unloaded cleanly ... OK
* checking Rd files ... OK
* checking Rd metadata ... OK
* checking Rd cross-references ... OK
* checking for missing documentation entries ... OK
* checking for code/documentation mismatches ... OK
* checking Rd \usage sections ... OK
* checking Rd contents ... OK
* checking for unstated dependencies in examples ... OK
* checking contents of ‘data’ directory ... OK
* checking data for non-ASCII characters ... NOTE
  Error loading dataset 'bloodCtl':
   Error in nrow(x@elementMetadata) : 
    no slot of name "elementMetadata" for this object of class "RGChannelSetExtended"
  
  Error loading dataset 'myLoad':
   Error in nrow(x@elementMetadata) : 
    no slot of name "elementMetadata" for this object of class "MethylSet"
  
* checking data for ASCII and uncompressed saves ... OK
* checking examples ... OK
Examples with CPU or elapsed time > 5s
                    user system elapsed
ChAMPdata-package 30.732  0.456  31.189
testDataSet       10.082  0.096  10.178
AnnoEPIC           5.414  0.035   5.449
* checking PDF version of manual ... OK
* DONE
Status: 2 NOTEs
See
  ‘/home/biocbuild/bbs-3.9-data-experiment/meat/ChAMPdata.Rcheck/00check.log’
for details.
ChAMPdata.Rcheck/00install.out
############################################################################## ############################################################################## ### ### Running command: ### ### /home/biocbuild/bbs-3.9-bioc/R/bin/R CMD INSTALL ChAMPdata ### ############################################################################## ############################################################################## * installing to library ‘/home/biocbuild/bbs-3.9-bioc/R/library’ * installing *source* package ‘ChAMPdata’ ... ** using staged installation ** data ** inst ** help *** installing help indices ** building package indices ** testing if installed package can be loaded from temporary location ** testing if installed package can be loaded from final location ** testing if installed package keeps a record of temporary installation path * DONE (ChAMPdata)
ChAMPdata.Rcheck/ChAMPdata-Ex.timings
| name | user | system | elapsed | |
| Anno450K | 1.923 | 0.040 | 1.962 | |
| AnnoEPIC | 5.414 | 0.035 | 5.449 | |
| CellTypeMeans27K | 0.002 | 0.000 | 0.002 | |
| CellTypeMeans450K | 0.002 | 0.000 | 0.002 | |
| ChAMPdata-package | 30.732 | 0.456 | 31.189 | |
| ControlProbes450K | 0.001 | 0.000 | 0.001 | |
| ControlProbesEPIC | 0.000 | 0.001 | 0.001 | |
| EPIC.manifest.hg19 | 4.789 | 0.062 | 4.851 | |
| EPIC.manifest.pop.hg19 | 3.245 | 0.037 | 3.281 | |
| EPICSimData | 2.132 | 0.084 | 2.216 | |
| MatchGeneName | 0.018 | 0.000 | 0.018 | |
| PathwayList | 0.393 | 0.000 | 0.393 | |
| bloodCtl | 0.001 | 0.000 | 0.001 | |
| hm450.manifest.hg19 | 1.709 | 0.012 | 1.721 | |
| hm450.manifest.pop.hg19 | 1.072 | 0.004 | 1.076 | |
| hprdAsigH | 2.463 | 0.156 | 2.619 | |
| illumina450Gr | 1.959 | 0.035 | 1.995 | |
| illuminaEPICGr | 2.517 | 0.005 | 2.521 | |
| multi.hit | 0.799 | 0.000 | 0.799 | |
| probe.features | 0.677 | 0.007 | 0.685 | |
| probe.features.epic | 1.614 | 0.001 | 1.614 | |
| probeInfoALL.epic.lv | 0.672 | 0.000 | 0.672 | |
| probeInfoALL.lv | 0.478 | 0.004 | 0.482 | |
| snp.hit | 0.818 | 0.000 | 0.818 | |
| testDataSet | 10.082 | 0.096 | 10.178 | |