| Back to Multiple platform build/check report for BioC 3.9 experimental data |
This page was generated on 2019-10-17 16:51:27 -0400 (Thu, 17 Oct 2019).
| Package 58/371 | Hostname | OS / Arch | INSTALL | BUILD | CHECK | BUILD BIN | ||||||
| chipenrich.data 2.8.0 Raymond G. Cavalcante
| malbec2 | Linux (Ubuntu 18.04.2 LTS) / x86_64 | OK | [ OK ] | OK |
| Package: chipenrich.data |
| Version: 2.8.0 |
| Command: /home/biocbuild/bbs-3.9-bioc/R/bin/R CMD build --keep-empty-dirs --no-resave-data chipenrich.data |
| StartedAt: 2019-10-17 11:48:37 -0400 (Thu, 17 Oct 2019) |
| EndedAt: 2019-10-17 11:50:58 -0400 (Thu, 17 Oct 2019) |
| EllapsedTime: 141.4 seconds |
| RetCode: 0 |
| Status: OK |
| PackageFile: chipenrich.data_2.8.0.tar.gz |
| PackageFileSize: 67.31 MiB |
##############################################################################
##############################################################################
###
### Running command:
###
### /home/biocbuild/bbs-3.9-bioc/R/bin/R CMD build --keep-empty-dirs --no-resave-data chipenrich.data
###
##############################################################################
##############################################################################
* checking for file ‘chipenrich.data/DESCRIPTION’ ... OK
* preparing ‘chipenrich.data’:
* checking DESCRIPTION meta-information ... OK
* installing the package to build vignettes
* creating vignettes ... OK
Warning: ‘inst/doc’ files
‘chipenrich.data-vignette.Rmd’, ‘chipenrich.data-vignette.html’, ‘chipenrich.data-vignette.R’
ignored as vignettes have been rebuilt.
Run R CMD build with --no-build-vignettes to prevent rebuilding.
* checking for LF line-endings in source and make files and shell scripts
* checking for empty or unneeded directories
* looking to see if a ‘data/datalist’ file should be added
* building ‘chipenrich.data_2.8.0.tar.gz’