| Back to Multiple platform build/check report for BioC 3.9 | 
 | 
This page was generated on 2019-04-09 13:24:01 -0400 (Tue, 09 Apr 2019).
| Package 1699/1703 | Hostname | OS / Arch | INSTALL | BUILD | CHECK | BUILD BIN | ||||||
| yaqcaffy 1.43.0 Laurent Gatto 
 | malbec2 | Linux (Ubuntu 18.04.2 LTS) / x86_64 | OK | OK | OK |  | ||||||
| tokay2 | Windows Server 2012 R2 Standard / x64 | OK | OK | OK | OK |  | ||||||
| celaya2 | OS X 10.11.6 El Capitan / x86_64 | OK | OK | OK | OK |  | ||||||
| merida2 | OS X 10.11.6 El Capitan / x86_64 | OK | OK | OK | [ OK ] | 
| Package: yaqcaffy | 
| Version: 1.43.0 | 
| Command: rm -rf yaqcaffy.buildbin-libdir && mkdir yaqcaffy.buildbin-libdir && /Users/biocbuild/BBS/utils/build-universal.sh yaqcaffy_1.43.0.tar.gz /Library/Frameworks/R.framework/Versions/Current/Resources/bin/R yaqcaffy.buildbin-libdir | 
| StartedAt: 2019-04-09 06:46:10 -0400 (Tue, 09 Apr 2019) | 
| EndedAt: 2019-04-09 06:47:20 -0400 (Tue, 09 Apr 2019) | 
| EllapsedTime: 70.1 seconds | 
| RetCode: 0 | 
| Status: OK | 
| PackageFile: yaqcaffy_1.43.0.tgz | 
| PackageFileSize: 618.8 KiB | 
############################################################################## ############################################################################## ### ### Running command: ### ### rm -rf yaqcaffy.buildbin-libdir && mkdir yaqcaffy.buildbin-libdir && /Users/biocbuild/BBS/utils/build-universal.sh yaqcaffy_1.43.0.tar.gz /Library/Frameworks/R.framework/Versions/Current/Resources/bin/R yaqcaffy.buildbin-libdir ### ############################################################################## ############################################################################## >>>>>>> >>>>>>> INSTALLATION WITH 'R CMD INSTALL --preclean --no-multiarch --library=yaqcaffy.buildbin-libdir yaqcaffy_1.43.0.tar.gz' >>>>>>> * installing *source* package ‘yaqcaffy’ ... ** R ** inst ** byte-compile and prepare package for lazy loading Creating a generic function for ‘identical’ from package ‘base’ in package ‘yaqcaffy’ ** help *** installing help indices ** building package indices ** installing vignettes ** testing if installed package can be loaded * DONE (yaqcaffy)