| Back to Multiple platform build/check report for BioC 3.9 |
|
This page was generated on 2019-10-16 12:22:12 -0400 (Wed, 16 Oct 2019).
| Package 1732/1741 | Hostname | OS / Arch | INSTALL | BUILD | CHECK | BUILD BIN | ||||||
| xmapbridge 1.42.0 Chris Wirth
| malbec2 | Linux (Ubuntu 18.04.2 LTS) / x86_64 | OK | OK | OK | |||||||
| tokay2 | Windows Server 2012 R2 Standard / x64 | [ OK ] | OK | OK | OK | |||||||
| celaya2 | OS X 10.11.6 El Capitan / x86_64 | OK | OK | OK | OK |
| Package: xmapbridge |
| Version: 1.42.0 |
| Command: C:\cygwin\bin\curl.exe -O https://malbec2.bioconductor.org/BBS/3.9/bioc/src/contrib/xmapbridge_1.42.0.tar.gz && rm -rf xmapbridge.buildbin-libdir && mkdir xmapbridge.buildbin-libdir && C:\Users\biocbuild\bbs-3.9-bioc\R\bin\R.exe CMD INSTALL --merge-multiarch --build --library=xmapbridge.buildbin-libdir xmapbridge_1.42.0.tar.gz && C:\Users\biocbuild\bbs-3.9-bioc\R\bin\R.exe CMD INSTALL xmapbridge_1.42.0.zip && rm xmapbridge_1.42.0.tar.gz xmapbridge_1.42.0.zip |
| StartedAt: 2019-10-15 18:55:27 -0400 (Tue, 15 Oct 2019) |
| EndedAt: 2019-10-15 18:56:10 -0400 (Tue, 15 Oct 2019) |
| EllapsedTime: 42.8 seconds |
| RetCode: 0 |
| Status: OK |
##############################################################################
##############################################################################
###
### Running command:
###
### C:\cygwin\bin\curl.exe -O https://malbec2.bioconductor.org/BBS/3.9/bioc/src/contrib/xmapbridge_1.42.0.tar.gz && rm -rf xmapbridge.buildbin-libdir && mkdir xmapbridge.buildbin-libdir && C:\Users\biocbuild\bbs-3.9-bioc\R\bin\R.exe CMD INSTALL --merge-multiarch --build --library=xmapbridge.buildbin-libdir xmapbridge_1.42.0.tar.gz && C:\Users\biocbuild\bbs-3.9-bioc\R\bin\R.exe CMD INSTALL xmapbridge_1.42.0.zip && rm xmapbridge_1.42.0.tar.gz xmapbridge_1.42.0.zip
###
##############################################################################
##############################################################################
% Total % Received % Xferd Average Speed Time Time Time Current
Dload Upload Total Spent Left Speed
0 0 0 0 0 0 0 0 --:--:-- --:--:-- --:--:-- 0
100 1632k 100 1632k 0 0 21.0M 0 --:--:-- --:--:-- --:--:-- 23.1M
install for i386
* installing *source* package 'xmapbridge' ...
** using staged installation
** R
** data
** inst
** byte-compile and prepare package for lazy loading
** help
*** installing help indices
converting help for package 'xmapbridge'
finding HTML links ... done
exon.data html
xmap.col html
xmap.files html
xmap.plot html
xmapbridge-internal html
xmapbridge-package html
** building package indices
** installing vignettes
** testing if installed package can be loaded from temporary location
** testing if installed package can be loaded from final location
** testing if installed package keeps a record of temporary installation path
install for x64
* installing *source* package 'xmapbridge' ...
** testing if installed package can be loaded
* MD5 sums
packaged installation of 'xmapbridge' as xmapbridge_1.42.0.zip
* DONE (xmapbridge)
* installing to library 'C:/Users/biocbuild/bbs-3.9-bioc/R/library'
package 'xmapbridge' successfully unpacked and MD5 sums checked