| Back to Multiple platform build/check report for BioC 3.9 |
|
This page was generated on 2019-10-16 12:40:42 -0400 (Wed, 16 Oct 2019).
| Package 1714/1741 | Hostname | OS / Arch | INSTALL | BUILD | CHECK | BUILD BIN | ||||||
| vidger 1.4.4 Brandon Monier
| malbec2 | Linux (Ubuntu 18.04.2 LTS) / x86_64 | OK | OK | OK | |||||||
| tokay2 | Windows Server 2012 R2 Standard / x64 | OK | OK | OK | [ OK ] | |||||||
| celaya2 | OS X 10.11.6 El Capitan / x86_64 | OK | OK | OK | OK |
| Package: vidger |
| Version: 1.4.4 |
| Command: rm -rf vidger.buildbin-libdir && mkdir vidger.buildbin-libdir && C:\Users\biocbuild\bbs-3.9-bioc\R\bin\R.exe CMD INSTALL --merge-multiarch --build --library=vidger.buildbin-libdir vidger_1.4.4.tar.gz |
| StartedAt: 2019-10-16 10:26:00 -0400 (Wed, 16 Oct 2019) |
| EndedAt: 2019-10-16 10:26:43 -0400 (Wed, 16 Oct 2019) |
| EllapsedTime: 43.0 seconds |
| RetCode: 0 |
| Status: OK |
| PackageFile: vidger_1.4.4.zip |
| PackageFileSize: 6.322 MiB |
##############################################################################
##############################################################################
###
### Running command:
###
### rm -rf vidger.buildbin-libdir && mkdir vidger.buildbin-libdir && C:\Users\biocbuild\bbs-3.9-bioc\R\bin\R.exe CMD INSTALL --merge-multiarch --build --library=vidger.buildbin-libdir vidger_1.4.4.tar.gz
###
##############################################################################
##############################################################################
install for i386
* installing *source* package 'vidger' ...
** using staged installation
** R
** data
*** moving datasets to lazyload DB
** inst
** byte-compile and prepare package for lazy loading
** help
*** installing help indices
converting help for package 'vidger'
finding HTML links ... done
df.cuff html
df.deseq html
df.edger html
vsBoxPlot html
vsDEGMatrix html
vsFourWay html
vsMAMatrix html
vsMAPlot html
vsScatterMatrix html
vsScatterPlot html
vsVolcano html
vsVolcanoMatrix html
*** copying figures
** building package indices
** installing vignettes
** testing if installed package can be loaded from temporary location
** testing if installed package can be loaded from final location
** testing if installed package keeps a record of temporary installation path
install for x64
* installing *source* package 'vidger' ...
** testing if installed package can be loaded
* MD5 sums
packaged installation of 'vidger' as vidger_1.4.4.zip
* DONE (vidger)