| Back to Multiple platform build/check report for BioC 3.9 |
|
This page was generated on 2019-10-16 12:42:52 -0400 (Wed, 16 Oct 2019).
| Package 1702/1741 | Hostname | OS / Arch | INSTALL | BUILD | CHECK | BUILD BIN | ||||||
| universalmotif 1.2.1 Benjamin Jean-Marie Tremblay
| malbec2 | Linux (Ubuntu 18.04.2 LTS) / x86_64 | OK | OK | OK | |||||||
| tokay2 | Windows Server 2012 R2 Standard / x64 | OK | OK | OK | [ OK ] | |||||||
| celaya2 | OS X 10.11.6 El Capitan / x86_64 | OK | OK | OK | OK |
| Package: universalmotif |
| Version: 1.2.1 |
| Command: rm -rf universalmotif.buildbin-libdir && mkdir universalmotif.buildbin-libdir && C:\Users\biocbuild\bbs-3.9-bioc\R\bin\R.exe CMD INSTALL --merge-multiarch --build --library=universalmotif.buildbin-libdir universalmotif_1.2.1.tar.gz |
| StartedAt: 2019-10-16 10:25:15 -0400 (Wed, 16 Oct 2019) |
| EndedAt: 2019-10-16 10:27:30 -0400 (Wed, 16 Oct 2019) |
| EllapsedTime: 135.7 seconds |
| RetCode: 0 |
| Status: OK |
| PackageFile: universalmotif_1.2.1.zip |
| PackageFileSize: 3.206 MiB |
##############################################################################
##############################################################################
###
### Running command:
###
### rm -rf universalmotif.buildbin-libdir && mkdir universalmotif.buildbin-libdir && C:\Users\biocbuild\bbs-3.9-bioc\R\bin\R.exe CMD INSTALL --merge-multiarch --build --library=universalmotif.buildbin-libdir universalmotif_1.2.1.tar.gz
###
##############################################################################
##############################################################################
install for i386
* installing *source* package 'universalmotif' ...
** using staged installation
** libs
C:/Rtools/mingw_32/bin/g++ -I"C:/Users/BIOCBU~1/BBS-3~1.9-B/R/include" -DNDEBUG -I"C:/Users/biocbuild/bbs-3.9-bioc/R/library/Rcpp/include" -I"C:/extsoft/include" -O2 -Wall -mtune=generic -c RcppExports.cpp -o RcppExports.o
C:/Rtools/mingw_32/bin/g++ -I"C:/Users/BIOCBU~1/BBS-3~1.9-B/R/include" -DNDEBUG -I"C:/Users/biocbuild/bbs-3.9-bioc/R/library/Rcpp/include" -I"C:/extsoft/include" -O2 -Wall -mtune=generic -c add_multifreq_helper.cpp -o add_multifreq_helper.o
C:/Rtools/mingw_32/bin/g++ -I"C:/Users/BIOCBU~1/BBS-3~1.9-B/R/include" -DNDEBUG -I"C:/Users/biocbuild/bbs-3.9-bioc/R/library/Rcpp/include" -I"C:/extsoft/include" -O2 -Wall -mtune=generic -c motif_peaks_helper.cpp -o motif_peaks_helper.o
C:/Rtools/mingw_32/bin/g++ -I"C:/Users/BIOCBU~1/BBS-3~1.9-B/R/include" -DNDEBUG -I"C:/Users/biocbuild/bbs-3.9-bioc/R/library/Rcpp/include" -I"C:/extsoft/include" -O2 -Wall -mtune=generic -c motif_pvalue_helper.cpp -o motif_pvalue_helper.o
C:/Rtools/mingw_32/bin/g++ -I"C:/Users/BIOCBU~1/BBS-3~1.9-B/R/include" -DNDEBUG -I"C:/Users/biocbuild/bbs-3.9-bioc/R/library/Rcpp/include" -I"C:/extsoft/include" -O2 -Wall -mtune=generic -c motif_simil_helper.cpp -o motif_simil_helper.o
C:/Rtools/mingw_32/bin/g++ -I"C:/Users/BIOCBU~1/BBS-3~1.9-B/R/include" -DNDEBUG -I"C:/Users/biocbuild/bbs-3.9-bioc/R/library/Rcpp/include" -I"C:/extsoft/include" -O2 -Wall -mtune=generic -c scan_sequences_helper.cpp -o scan_sequences_helper.o
C:/Rtools/mingw_32/bin/g++ -I"C:/Users/BIOCBU~1/BBS-3~1.9-B/R/include" -DNDEBUG -I"C:/Users/biocbuild/bbs-3.9-bioc/R/library/Rcpp/include" -I"C:/extsoft/include" -O2 -Wall -mtune=generic -c shuffle_sequences_helper.cpp -o shuffle_sequences_helper.o
C:/Rtools/mingw_32/bin/g++ -I"C:/Users/BIOCBU~1/BBS-3~1.9-B/R/include" -DNDEBUG -I"C:/Users/biocbuild/bbs-3.9-bioc/R/library/Rcpp/include" -I"C:/extsoft/include" -O2 -Wall -mtune=generic -c trim_motifs_helper.cpp -o trim_motifs_helper.o
C:/Rtools/mingw_32/bin/g++ -I"C:/Users/BIOCBU~1/BBS-3~1.9-B/R/include" -DNDEBUG -I"C:/Users/biocbuild/bbs-3.9-bioc/R/library/Rcpp/include" -I"C:/extsoft/include" -O2 -Wall -mtune=generic -c universalmotif_helper.cpp -o universalmotif_helper.o
C:/Rtools/mingw_32/bin/g++ -I"C:/Users/BIOCBU~1/BBS-3~1.9-B/R/include" -DNDEBUG -I"C:/Users/biocbuild/bbs-3.9-bioc/R/library/Rcpp/include" -I"C:/extsoft/include" -O2 -Wall -mtune=generic -c utils.cpp -o utils.o
C:/Rtools/mingw_32/bin/g++ -shared -s -static-libgcc -o universalmotif.dll tmp.def RcppExports.o add_multifreq_helper.o motif_peaks_helper.o motif_pvalue_helper.o motif_simil_helper.o scan_sequences_helper.o shuffle_sequences_helper.o trim_motifs_helper.o universalmotif_helper.o utils.o -LC:/extsoft/lib/i386 -LC:/extsoft/lib -LC:/Users/BIOCBU~1/BBS-3~1.9-B/R/bin/i386 -lR
if test -e "/usr/bin/strip" & test -e "/bin/uname" & [[ `uname` == "Linux" ]] ; then /usr/bin/strip --strip-debug universalmotif.dll; fi
[[: not found
installing to C:/Users/biocbuild/bbs-3.9-bioc/meat/universalmotif.buildbin-libdir/00LOCK-universalmotif/00new/universalmotif/libs/i386
** R
** data
** inst
** byte-compile and prepare package for lazy loading
in method for 'convert_motifs' with signature 'motifs="MotifList"': no definition for class "MotifList"
in method for 'convert_motifs' with signature 'motifs="TFFMFirst"': no definition for class "TFFMFirst"
in method for 'convert_motifs' with signature 'motifs="PFMatrix"': no definition for class "PFMatrix"
in method for 'convert_motifs' with signature 'motifs="PWMatrix"': no definition for class "PWMatrix"
in method for 'convert_motifs' with signature 'motifs="ICMatrix"': no definition for class "ICMatrix"
in method for 'convert_motifs' with signature 'motifs="XMatrixList"': no definition for class "XMatrixList"
in method for 'convert_motifs' with signature 'motifs="pwm"': no definition for class "pwm"
in method for 'convert_motifs' with signature 'motifs="pcm"': no definition for class "pcm"
in method for 'convert_motifs' with signature 'motifs="pfm"': no definition for class "pfm"
in method for 'convert_motifs' with signature 'motifs="PWM"': no definition for class "PWM"
in method for 'convert_motifs' with signature 'motifs="Motif"': no definition for class "Motif"
** help
*** installing help indices
converting help for package 'universalmotif'
finding HTML links ... done
ArabidopsisMotif html
ArabidopsisPromoters html
finding level-2 HTML links ... done
JASPAR2018_CORE_DBSCORES html
JASPAR2018_CORE_DBSCORES_NORM html
add_multifreq html
compare_motifs html
convert_motifs html
convert_type html
create_motif html
create_sequences html
enrich_motifs html
examplemotif html
examplemotif2 html
filter_motifs html
get_bkg html
merge_motifs html
motif_peaks html
motif_pvalue html
motif_rc html
motif_tree html
read_cisbp html
read_homer html
read_jaspar html
read_matrix html
read_meme html
read_motifs html
read_transfac html
read_uniprobe html
reexports html
run_meme html
sample_sites html
scan_sequences html
shuffle_motifs html
shuffle_sequences html
switch_alph html
trim_motifs html
universalmotif-class html
universalmotif-pkg html
utilities html
utils-motif html
utils-sequence html
view_motifs html
write_homer html
write_jaspar html
write_matrix html
write_meme html
write_motifs html
write_transfac html
** building package indices
** installing vignettes
** testing if installed package can be loaded from temporary location
** testing if installed package can be loaded from final location
** testing if installed package keeps a record of temporary installation path
install for x64
* installing *source* package 'universalmotif' ...
** libs
C:/Rtools/mingw_64/bin/g++ -I"C:/Users/BIOCBU~1/BBS-3~1.9-B/R/include" -DNDEBUG -I"C:/Users/biocbuild/bbs-3.9-bioc/R/library/Rcpp/include" -I"C:/extsoft/include" -O2 -Wall -mtune=generic -c RcppExports.cpp -o RcppExports.o
C:/Rtools/mingw_64/bin/g++ -I"C:/Users/BIOCBU~1/BBS-3~1.9-B/R/include" -DNDEBUG -I"C:/Users/biocbuild/bbs-3.9-bioc/R/library/Rcpp/include" -I"C:/extsoft/include" -O2 -Wall -mtune=generic -c add_multifreq_helper.cpp -o add_multifreq_helper.o
C:/Rtools/mingw_64/bin/g++ -I"C:/Users/BIOCBU~1/BBS-3~1.9-B/R/include" -DNDEBUG -I"C:/Users/biocbuild/bbs-3.9-bioc/R/library/Rcpp/include" -I"C:/extsoft/include" -O2 -Wall -mtune=generic -c motif_peaks_helper.cpp -o motif_peaks_helper.o
C:/Rtools/mingw_64/bin/g++ -I"C:/Users/BIOCBU~1/BBS-3~1.9-B/R/include" -DNDEBUG -I"C:/Users/biocbuild/bbs-3.9-bioc/R/library/Rcpp/include" -I"C:/extsoft/include" -O2 -Wall -mtune=generic -c motif_pvalue_helper.cpp -o motif_pvalue_helper.o
C:/Rtools/mingw_64/bin/g++ -I"C:/Users/BIOCBU~1/BBS-3~1.9-B/R/include" -DNDEBUG -I"C:/Users/biocbuild/bbs-3.9-bioc/R/library/Rcpp/include" -I"C:/extsoft/include" -O2 -Wall -mtune=generic -c motif_simil_helper.cpp -o motif_simil_helper.o
C:/Rtools/mingw_64/bin/g++ -I"C:/Users/BIOCBU~1/BBS-3~1.9-B/R/include" -DNDEBUG -I"C:/Users/biocbuild/bbs-3.9-bioc/R/library/Rcpp/include" -I"C:/extsoft/include" -O2 -Wall -mtune=generic -c scan_sequences_helper.cpp -o scan_sequences_helper.o
C:/Rtools/mingw_64/bin/g++ -I"C:/Users/BIOCBU~1/BBS-3~1.9-B/R/include" -DNDEBUG -I"C:/Users/biocbuild/bbs-3.9-bioc/R/library/Rcpp/include" -I"C:/extsoft/include" -O2 -Wall -mtune=generic -c shuffle_sequences_helper.cpp -o shuffle_sequences_helper.o
C:/Rtools/mingw_64/bin/g++ -I"C:/Users/BIOCBU~1/BBS-3~1.9-B/R/include" -DNDEBUG -I"C:/Users/biocbuild/bbs-3.9-bioc/R/library/Rcpp/include" -I"C:/extsoft/include" -O2 -Wall -mtune=generic -c trim_motifs_helper.cpp -o trim_motifs_helper.o
C:/Rtools/mingw_64/bin/g++ -I"C:/Users/BIOCBU~1/BBS-3~1.9-B/R/include" -DNDEBUG -I"C:/Users/biocbuild/bbs-3.9-bioc/R/library/Rcpp/include" -I"C:/extsoft/include" -O2 -Wall -mtune=generic -c universalmotif_helper.cpp -o universalmotif_helper.o
C:/Rtools/mingw_64/bin/g++ -I"C:/Users/BIOCBU~1/BBS-3~1.9-B/R/include" -DNDEBUG -I"C:/Users/biocbuild/bbs-3.9-bioc/R/library/Rcpp/include" -I"C:/extsoft/include" -O2 -Wall -mtune=generic -c utils.cpp -o utils.o
C:/Rtools/mingw_64/bin/g++ -shared -s -static-libgcc -o universalmotif.dll tmp.def RcppExports.o add_multifreq_helper.o motif_peaks_helper.o motif_pvalue_helper.o motif_simil_helper.o scan_sequences_helper.o shuffle_sequences_helper.o trim_motifs_helper.o universalmotif_helper.o utils.o -LC:/extsoft/lib/x64 -LC:/extsoft/lib -LC:/Users/BIOCBU~1/BBS-3~1.9-B/R/bin/x64 -lR
if test -e "/usr/bin/strip" & test -e "/bin/uname" & [[ `uname` == "Linux" ]] ; then /usr/bin/strip --strip-debug universalmotif.dll; fi
[[: not found
installing to C:/Users/biocbuild/bbs-3.9-bioc/meat/universalmotif.buildbin-libdir/universalmotif/libs/x64
** testing if installed package can be loaded
* MD5 sums
packaged installation of 'universalmotif' as universalmotif_1.2.1.zip
* DONE (universalmotif)