| Back to Multiple platform build/check report for BioC 3.9 |
|
This page was generated on 2019-04-09 13:22:45 -0400 (Tue, 09 Apr 2019).
| Package 1654/1703 | Hostname | OS / Arch | INSTALL | BUILD | CHECK | BUILD BIN | ||||||
| twilight 1.59.0 Stefanie Scheid
| malbec2 | Linux (Ubuntu 18.04.2 LTS) / x86_64 | OK | OK | OK | |||||||
| tokay2 | Windows Server 2012 R2 Standard / x64 | OK | OK | OK | OK | |||||||
| celaya2 | OS X 10.11.6 El Capitan / x86_64 | OK | OK | WARNINGS | OK | |||||||
| merida2 | OS X 10.11.6 El Capitan / x86_64 | [ OK ] | OK | WARNINGS | OK |
| Package: twilight |
| Version: 1.59.0 |
| Command: /Library/Frameworks/R.framework/Versions/Current/Resources/bin/R CMD INSTALL twilight |
| StartedAt: 2019-04-08 18:07:36 -0400 (Mon, 08 Apr 2019) |
| EndedAt: 2019-04-08 18:08:29 -0400 (Mon, 08 Apr 2019) |
| EllapsedTime: 53.4 seconds |
| RetCode: 0 |
| Status: OK |
##############################################################################
##############################################################################
###
### Running command:
###
### /Library/Frameworks/R.framework/Versions/Current/Resources/bin/R CMD INSTALL twilight
###
##############################################################################
##############################################################################
* installing to library ‘/Library/Frameworks/R.framework/Versions/3.6/Resources/library’
* installing *source* package ‘twilight’ ...
** libs
clang -I"/Library/Frameworks/R.framework/Resources/include" -DNDEBUG -I/usr/local/include -fPIC -Wall -g -O2 -c confidence.line.c -o confidence.line.o
clang -I"/Library/Frameworks/R.framework/Resources/include" -DNDEBUG -I/usr/local/include -fPIC -Wall -g -O2 -c correlation.c -o correlation.o
clang -I"/Library/Frameworks/R.framework/Resources/include" -DNDEBUG -I/usr/local/include -fPIC -Wall -g -O2 -c kstest.c -o kstest.o
clang -I"/Library/Frameworks/R.framework/Resources/include" -DNDEBUG -I/usr/local/include -fPIC -Wall -g -O2 -c sep.c -o sep.o
sep.c:70:16: warning: using floating point absolute value function 'fabs' when argument is of integer type [-Wabsolute-value]
ix[randnum]=fabs(1-ix[randnum]);
^
sep.c:70:16: note: use function 'abs' instead
ix[randnum]=fabs(1-ix[randnum]);
^˜˜˜
abs
sep.c:97:20: warning: using floating point absolute value function 'fabs' when argument is of integer type [-Wabsolute-value]
ix[randnum]=fabs(1-ix[randnum]);
^
sep.c:97:20: note: use function 'abs' instead
ix[randnum]=fabs(1-ix[randnum]);
^˜˜˜
abs
sep.c:116:19: warning: using floating point absolute value function 'fabs' when argument is of integer type [-Wabsolute-value]
ix[randnum]=fabs(1-ix[randnum]);
^
sep.c:116:19: note: use function 'abs' instead
ix[randnum]=fabs(1-ix[randnum]);
^˜˜˜
abs
sep.c:143:16: warning: using floating point absolute value function 'fabs' when argument is of integer type [-Wabsolute-value]
ix[randnum]=fabs(1-ix[randnum]);
^
sep.c:143:16: note: use function 'abs' instead
ix[randnum]=fabs(1-ix[randnum]);
^˜˜˜
abs
4 warnings generated.
clang -I"/Library/Frameworks/R.framework/Resources/include" -DNDEBUG -I/usr/local/include -fPIC -Wall -g -O2 -c twosample.perm.c -o twosample.perm.o
clang -I"/Library/Frameworks/R.framework/Resources/include" -DNDEBUG -I/usr/local/include -fPIC -Wall -g -O2 -c twosample.single.c -o twosample.single.o
clang -dynamiclib -Wl,-headerpad_max_install_names -undefined dynamic_lookup -single_module -multiply_defined suppress -L/Library/Frameworks/R.framework/Resources/lib -L/usr/local/lib -o twilight.so confidence.line.o correlation.o kstest.o sep.o twosample.perm.o twosample.single.o -F/Library/Frameworks/R.framework/.. -framework R -Wl,-framework -Wl,CoreFoundation
installing to /Library/Frameworks/R.framework/Versions/3.6/Resources/library/twilight/libs
** R
** data
** inst
** byte-compile and prepare package for lazy loading
** help
*** installing help indices
** building package indices
** installing vignettes
** testing if installed package can be loaded
* DONE (twilight)