| Back to Multiple platform build/check report for BioC 3.9 |
|
This page was generated on 2019-10-16 12:27:50 -0400 (Wed, 16 Oct 2019).
| Package 1678/1741 | Hostname | OS / Arch | INSTALL | BUILD | CHECK | BUILD BIN | ||||||
| triplex 1.24.0 Jiri Hon
| malbec2 | Linux (Ubuntu 18.04.2 LTS) / x86_64 | OK | OK | OK | |||||||
| tokay2 | Windows Server 2012 R2 Standard / x64 | [ OK ] | OK | OK | OK | |||||||
| celaya2 | OS X 10.11.6 El Capitan / x86_64 | OK | OK | OK | OK |
| Package: triplex |
| Version: 1.24.0 |
| Command: C:\cygwin\bin\curl.exe -O https://malbec2.bioconductor.org/BBS/3.9/bioc/src/contrib/triplex_1.24.0.tar.gz && rm -rf triplex.buildbin-libdir && mkdir triplex.buildbin-libdir && C:\Users\biocbuild\bbs-3.9-bioc\R\bin\R.exe CMD INSTALL --merge-multiarch --build --library=triplex.buildbin-libdir triplex_1.24.0.tar.gz && C:\Users\biocbuild\bbs-3.9-bioc\R\bin\R.exe CMD INSTALL triplex_1.24.0.zip && rm triplex_1.24.0.tar.gz triplex_1.24.0.zip |
| StartedAt: 2019-10-15 19:58:22 -0400 (Tue, 15 Oct 2019) |
| EndedAt: 2019-10-15 19:59:21 -0400 (Tue, 15 Oct 2019) |
| EllapsedTime: 59.1 seconds |
| RetCode: 0 |
| Status: OK |
##############################################################################
##############################################################################
###
### Running command:
###
### C:\cygwin\bin\curl.exe -O https://malbec2.bioconductor.org/BBS/3.9/bioc/src/contrib/triplex_1.24.0.tar.gz && rm -rf triplex.buildbin-libdir && mkdir triplex.buildbin-libdir && C:\Users\biocbuild\bbs-3.9-bioc\R\bin\R.exe CMD INSTALL --merge-multiarch --build --library=triplex.buildbin-libdir triplex_1.24.0.tar.gz && C:\Users\biocbuild\bbs-3.9-bioc\R\bin\R.exe CMD INSTALL triplex_1.24.0.zip && rm triplex_1.24.0.tar.gz triplex_1.24.0.zip
###
##############################################################################
##############################################################################
% Total % Received % Xferd Average Speed Time Time Time Current
Dload Upload Total Spent Left Speed
0 0 0 0 0 0 0 0 --:--:-- --:--:-- --:--:-- 0
100 227k 100 227k 0 0 3626k 0 --:--:-- --:--:-- --:--:-- 4065k
install for i386
* installing *source* package 'triplex' ...
** using staged installation
** libs
C:/Rtools/mingw_32/bin/gcc -I"C:/Users/BIOCBU~1/BBS-3~1.9-B/R/include" -DNDEBUG -I"C:/Users/biocbuild/bbs-3.9-bioc/R/library/S4Vectors/include" -I"C:/Users/biocbuild/bbs-3.9-bioc/R/library/IRanges/include" -I"C:/Users/biocbuild/bbs-3.9-bioc/R/library/XVector/include" -I"C:/Users/biocbuild/bbs-3.9-bioc/R/library/Biostrings/include" -I"C:/extsoft/include" -O3 -Wall -std=gnu99 -mtune=generic -c Biostrings_stubs.c -o Biostrings_stubs.o
C:/Rtools/mingw_32/bin/gcc -I"C:/Users/BIOCBU~1/BBS-3~1.9-B/R/include" -DNDEBUG -I"C:/Users/biocbuild/bbs-3.9-bioc/R/library/S4Vectors/include" -I"C:/Users/biocbuild/bbs-3.9-bioc/R/library/IRanges/include" -I"C:/Users/biocbuild/bbs-3.9-bioc/R/library/XVector/include" -I"C:/Users/biocbuild/bbs-3.9-bioc/R/library/Biostrings/include" -I"C:/extsoft/include" -O3 -Wall -std=gnu99 -mtune=generic -c IRanges_stubs.c -o IRanges_stubs.o
C:/Rtools/mingw_32/bin/gcc -I"C:/Users/BIOCBU~1/BBS-3~1.9-B/R/include" -DNDEBUG -I"C:/Users/biocbuild/bbs-3.9-bioc/R/library/S4Vectors/include" -I"C:/Users/biocbuild/bbs-3.9-bioc/R/library/IRanges/include" -I"C:/Users/biocbuild/bbs-3.9-bioc/R/library/XVector/include" -I"C:/Users/biocbuild/bbs-3.9-bioc/R/library/Biostrings/include" -I"C:/extsoft/include" -O3 -Wall -std=gnu99 -mtune=generic -c R_init_triplex.c -o R_init_triplex.o
C:/Rtools/mingw_32/bin/gcc -I"C:/Users/BIOCBU~1/BBS-3~1.9-B/R/include" -DNDEBUG -I"C:/Users/biocbuild/bbs-3.9-bioc/R/library/S4Vectors/include" -I"C:/Users/biocbuild/bbs-3.9-bioc/R/library/IRanges/include" -I"C:/Users/biocbuild/bbs-3.9-bioc/R/library/XVector/include" -I"C:/Users/biocbuild/bbs-3.9-bioc/R/library/Biostrings/include" -I"C:/extsoft/include" -O3 -Wall -std=gnu99 -mtune=generic -c XVector_stubs.c -o XVector_stubs.o
C:/Rtools/mingw_32/bin/gcc -I"C:/Users/BIOCBU~1/BBS-3~1.9-B/R/include" -DNDEBUG -I"C:/Users/biocbuild/bbs-3.9-bioc/R/library/S4Vectors/include" -I"C:/Users/biocbuild/bbs-3.9-bioc/R/library/IRanges/include" -I"C:/Users/biocbuild/bbs-3.9-bioc/R/library/XVector/include" -I"C:/Users/biocbuild/bbs-3.9-bioc/R/library/Biostrings/include" -I"C:/extsoft/include" -O3 -Wall -std=gnu99 -mtune=generic -c align.c -o align.o
C:/Rtools/mingw_32/bin/gcc -I"C:/Users/BIOCBU~1/BBS-3~1.9-B/R/include" -DNDEBUG -I"C:/Users/biocbuild/bbs-3.9-bioc/R/library/S4Vectors/include" -I"C:/Users/biocbuild/bbs-3.9-bioc/R/library/IRanges/include" -I"C:/Users/biocbuild/bbs-3.9-bioc/R/library/XVector/include" -I"C:/Users/biocbuild/bbs-3.9-bioc/R/library/Biostrings/include" -I"C:/extsoft/include" -O3 -Wall -std=gnu99 -mtune=generic -c align_interface.c -o align_interface.o
C:/Rtools/mingw_32/bin/gcc -I"C:/Users/BIOCBU~1/BBS-3~1.9-B/R/include" -DNDEBUG -I"C:/Users/biocbuild/bbs-3.9-bioc/R/library/S4Vectors/include" -I"C:/Users/biocbuild/bbs-3.9-bioc/R/library/IRanges/include" -I"C:/Users/biocbuild/bbs-3.9-bioc/R/library/XVector/include" -I"C:/Users/biocbuild/bbs-3.9-bioc/R/library/Biostrings/include" -I"C:/extsoft/include" -O3 -Wall -std=gnu99 -mtune=generic -c dl_list.c -o dl_list.o
C:/Rtools/mingw_32/bin/gcc -I"C:/Users/BIOCBU~1/BBS-3~1.9-B/R/include" -DNDEBUG -I"C:/Users/biocbuild/bbs-3.9-bioc/R/library/S4Vectors/include" -I"C:/Users/biocbuild/bbs-3.9-bioc/R/library/IRanges/include" -I"C:/Users/biocbuild/bbs-3.9-bioc/R/library/XVector/include" -I"C:/Users/biocbuild/bbs-3.9-bioc/R/library/Biostrings/include" -I"C:/extsoft/include" -O3 -Wall -std=gnu99 -mtune=generic -c interval.c -o interval.o
C:/Rtools/mingw_32/bin/gcc -I"C:/Users/BIOCBU~1/BBS-3~1.9-B/R/include" -DNDEBUG -I"C:/Users/biocbuild/bbs-3.9-bioc/R/library/S4Vectors/include" -I"C:/Users/biocbuild/bbs-3.9-bioc/R/library/IRanges/include" -I"C:/Users/biocbuild/bbs-3.9-bioc/R/library/XVector/include" -I"C:/Users/biocbuild/bbs-3.9-bioc/R/library/Biostrings/include" -I"C:/extsoft/include" -O3 -Wall -std=gnu99 -mtune=generic -c libtriplex.c -o libtriplex.o
C:/Rtools/mingw_32/bin/gcc -I"C:/Users/BIOCBU~1/BBS-3~1.9-B/R/include" -DNDEBUG -I"C:/Users/biocbuild/bbs-3.9-bioc/R/library/S4Vectors/include" -I"C:/Users/biocbuild/bbs-3.9-bioc/R/library/IRanges/include" -I"C:/Users/biocbuild/bbs-3.9-bioc/R/library/XVector/include" -I"C:/Users/biocbuild/bbs-3.9-bioc/R/library/Biostrings/include" -I"C:/extsoft/include" -O3 -Wall -std=gnu99 -mtune=generic -c progress.c -o progress.o
C:/Rtools/mingw_32/bin/gcc -I"C:/Users/BIOCBU~1/BBS-3~1.9-B/R/include" -DNDEBUG -I"C:/Users/biocbuild/bbs-3.9-bioc/R/library/S4Vectors/include" -I"C:/Users/biocbuild/bbs-3.9-bioc/R/library/IRanges/include" -I"C:/Users/biocbuild/bbs-3.9-bioc/R/library/XVector/include" -I"C:/Users/biocbuild/bbs-3.9-bioc/R/library/Biostrings/include" -I"C:/extsoft/include" -O3 -Wall -std=gnu99 -mtune=generic -c search.c -o search.o
C:/Rtools/mingw_32/bin/gcc -I"C:/Users/BIOCBU~1/BBS-3~1.9-B/R/include" -DNDEBUG -I"C:/Users/biocbuild/bbs-3.9-bioc/R/library/S4Vectors/include" -I"C:/Users/biocbuild/bbs-3.9-bioc/R/library/IRanges/include" -I"C:/Users/biocbuild/bbs-3.9-bioc/R/library/XVector/include" -I"C:/Users/biocbuild/bbs-3.9-bioc/R/library/Biostrings/include" -I"C:/extsoft/include" -O3 -Wall -std=gnu99 -mtune=generic -c search_interface.c -o search_interface.o
C:/Rtools/mingw_32/bin/gcc -shared -s -static-libgcc -o triplex.dll tmp.def Biostrings_stubs.o IRanges_stubs.o R_init_triplex.o XVector_stubs.o align.o align_interface.o dl_list.o interval.o libtriplex.o progress.o search.o search_interface.o -LC:/extsoft/lib/i386 -LC:/extsoft/lib -LC:/Users/BIOCBU~1/BBS-3~1.9-B/R/bin/i386 -lR
installing to C:/Users/biocbuild/bbs-3.9-bioc/meat/triplex.buildbin-libdir/00LOCK-triplex/00new/triplex/libs/i386
** R
** inst
** byte-compile and prepare package for lazy loading
** help
*** installing help indices
converting help for package 'triplex'
finding HTML links ... done
TriplexViews-class html
finding level-2 HTML links ... done
ins html
lend html
lstart html
lwidth html
pvalue html
triplex-package html
triplex.3D html
triplex.alignment html
triplex.diagram html
triplex.group.table html
triplex.score.table html
triplex.search html
*** copying figures
** building package indices
** installing vignettes
** testing if installed package can be loaded from temporary location
** testing if installed package can be loaded from final location
** testing if installed package keeps a record of temporary installation path
install for x64
* installing *source* package 'triplex' ...
** libs
C:/Rtools/mingw_64/bin/gcc -I"C:/Users/BIOCBU~1/BBS-3~1.9-B/R/include" -DNDEBUG -I"C:/Users/biocbuild/bbs-3.9-bioc/R/library/S4Vectors/include" -I"C:/Users/biocbuild/bbs-3.9-bioc/R/library/IRanges/include" -I"C:/Users/biocbuild/bbs-3.9-bioc/R/library/XVector/include" -I"C:/Users/biocbuild/bbs-3.9-bioc/R/library/Biostrings/include" -I"C:/extsoft/include" -O2 -Wall -std=gnu99 -mtune=generic -c Biostrings_stubs.c -o Biostrings_stubs.o
C:/Rtools/mingw_64/bin/gcc -I"C:/Users/BIOCBU~1/BBS-3~1.9-B/R/include" -DNDEBUG -I"C:/Users/biocbuild/bbs-3.9-bioc/R/library/S4Vectors/include" -I"C:/Users/biocbuild/bbs-3.9-bioc/R/library/IRanges/include" -I"C:/Users/biocbuild/bbs-3.9-bioc/R/library/XVector/include" -I"C:/Users/biocbuild/bbs-3.9-bioc/R/library/Biostrings/include" -I"C:/extsoft/include" -O2 -Wall -std=gnu99 -mtune=generic -c IRanges_stubs.c -o IRanges_stubs.o
C:/Rtools/mingw_64/bin/gcc -I"C:/Users/BIOCBU~1/BBS-3~1.9-B/R/include" -DNDEBUG -I"C:/Users/biocbuild/bbs-3.9-bioc/R/library/S4Vectors/include" -I"C:/Users/biocbuild/bbs-3.9-bioc/R/library/IRanges/include" -I"C:/Users/biocbuild/bbs-3.9-bioc/R/library/XVector/include" -I"C:/Users/biocbuild/bbs-3.9-bioc/R/library/Biostrings/include" -I"C:/extsoft/include" -O2 -Wall -std=gnu99 -mtune=generic -c R_init_triplex.c -o R_init_triplex.o
C:/Rtools/mingw_64/bin/gcc -I"C:/Users/BIOCBU~1/BBS-3~1.9-B/R/include" -DNDEBUG -I"C:/Users/biocbuild/bbs-3.9-bioc/R/library/S4Vectors/include" -I"C:/Users/biocbuild/bbs-3.9-bioc/R/library/IRanges/include" -I"C:/Users/biocbuild/bbs-3.9-bioc/R/library/XVector/include" -I"C:/Users/biocbuild/bbs-3.9-bioc/R/library/Biostrings/include" -I"C:/extsoft/include" -O2 -Wall -std=gnu99 -mtune=generic -c XVector_stubs.c -o XVector_stubs.o
C:/Rtools/mingw_64/bin/gcc -I"C:/Users/BIOCBU~1/BBS-3~1.9-B/R/include" -DNDEBUG -I"C:/Users/biocbuild/bbs-3.9-bioc/R/library/S4Vectors/include" -I"C:/Users/biocbuild/bbs-3.9-bioc/R/library/IRanges/include" -I"C:/Users/biocbuild/bbs-3.9-bioc/R/library/XVector/include" -I"C:/Users/biocbuild/bbs-3.9-bioc/R/library/Biostrings/include" -I"C:/extsoft/include" -O2 -Wall -std=gnu99 -mtune=generic -c align.c -o align.o
C:/Rtools/mingw_64/bin/gcc -I"C:/Users/BIOCBU~1/BBS-3~1.9-B/R/include" -DNDEBUG -I"C:/Users/biocbuild/bbs-3.9-bioc/R/library/S4Vectors/include" -I"C:/Users/biocbuild/bbs-3.9-bioc/R/library/IRanges/include" -I"C:/Users/biocbuild/bbs-3.9-bioc/R/library/XVector/include" -I"C:/Users/biocbuild/bbs-3.9-bioc/R/library/Biostrings/include" -I"C:/extsoft/include" -O2 -Wall -std=gnu99 -mtune=generic -c align_interface.c -o align_interface.o
C:/Rtools/mingw_64/bin/gcc -I"C:/Users/BIOCBU~1/BBS-3~1.9-B/R/include" -DNDEBUG -I"C:/Users/biocbuild/bbs-3.9-bioc/R/library/S4Vectors/include" -I"C:/Users/biocbuild/bbs-3.9-bioc/R/library/IRanges/include" -I"C:/Users/biocbuild/bbs-3.9-bioc/R/library/XVector/include" -I"C:/Users/biocbuild/bbs-3.9-bioc/R/library/Biostrings/include" -I"C:/extsoft/include" -O2 -Wall -std=gnu99 -mtune=generic -c dl_list.c -o dl_list.o
C:/Rtools/mingw_64/bin/gcc -I"C:/Users/BIOCBU~1/BBS-3~1.9-B/R/include" -DNDEBUG -I"C:/Users/biocbuild/bbs-3.9-bioc/R/library/S4Vectors/include" -I"C:/Users/biocbuild/bbs-3.9-bioc/R/library/IRanges/include" -I"C:/Users/biocbuild/bbs-3.9-bioc/R/library/XVector/include" -I"C:/Users/biocbuild/bbs-3.9-bioc/R/library/Biostrings/include" -I"C:/extsoft/include" -O2 -Wall -std=gnu99 -mtune=generic -c interval.c -o interval.o
C:/Rtools/mingw_64/bin/gcc -I"C:/Users/BIOCBU~1/BBS-3~1.9-B/R/include" -DNDEBUG -I"C:/Users/biocbuild/bbs-3.9-bioc/R/library/S4Vectors/include" -I"C:/Users/biocbuild/bbs-3.9-bioc/R/library/IRanges/include" -I"C:/Users/biocbuild/bbs-3.9-bioc/R/library/XVector/include" -I"C:/Users/biocbuild/bbs-3.9-bioc/R/library/Biostrings/include" -I"C:/extsoft/include" -O2 -Wall -std=gnu99 -mtune=generic -c libtriplex.c -o libtriplex.o
C:/Rtools/mingw_64/bin/gcc -I"C:/Users/BIOCBU~1/BBS-3~1.9-B/R/include" -DNDEBUG -I"C:/Users/biocbuild/bbs-3.9-bioc/R/library/S4Vectors/include" -I"C:/Users/biocbuild/bbs-3.9-bioc/R/library/IRanges/include" -I"C:/Users/biocbuild/bbs-3.9-bioc/R/library/XVector/include" -I"C:/Users/biocbuild/bbs-3.9-bioc/R/library/Biostrings/include" -I"C:/extsoft/include" -O2 -Wall -std=gnu99 -mtune=generic -c progress.c -o progress.o
C:/Rtools/mingw_64/bin/gcc -I"C:/Users/BIOCBU~1/BBS-3~1.9-B/R/include" -DNDEBUG -I"C:/Users/biocbuild/bbs-3.9-bioc/R/library/S4Vectors/include" -I"C:/Users/biocbuild/bbs-3.9-bioc/R/library/IRanges/include" -I"C:/Users/biocbuild/bbs-3.9-bioc/R/library/XVector/include" -I"C:/Users/biocbuild/bbs-3.9-bioc/R/library/Biostrings/include" -I"C:/extsoft/include" -O2 -Wall -std=gnu99 -mtune=generic -c search.c -o search.o
C:/Rtools/mingw_64/bin/gcc -I"C:/Users/BIOCBU~1/BBS-3~1.9-B/R/include" -DNDEBUG -I"C:/Users/biocbuild/bbs-3.9-bioc/R/library/S4Vectors/include" -I"C:/Users/biocbuild/bbs-3.9-bioc/R/library/IRanges/include" -I"C:/Users/biocbuild/bbs-3.9-bioc/R/library/XVector/include" -I"C:/Users/biocbuild/bbs-3.9-bioc/R/library/Biostrings/include" -I"C:/extsoft/include" -O2 -Wall -std=gnu99 -mtune=generic -c search_interface.c -o search_interface.o
C:/Rtools/mingw_64/bin/gcc -shared -s -static-libgcc -o triplex.dll tmp.def Biostrings_stubs.o IRanges_stubs.o R_init_triplex.o XVector_stubs.o align.o align_interface.o dl_list.o interval.o libtriplex.o progress.o search.o search_interface.o -LC:/extsoft/lib/x64 -LC:/extsoft/lib -LC:/Users/BIOCBU~1/BBS-3~1.9-B/R/bin/x64 -lR
installing to C:/Users/biocbuild/bbs-3.9-bioc/meat/triplex.buildbin-libdir/triplex/libs/x64
** testing if installed package can be loaded
* MD5 sums
packaged installation of 'triplex' as triplex_1.24.0.zip
* DONE (triplex)
* installing to library 'C:/Users/biocbuild/bbs-3.9-bioc/R/library'
package 'triplex' successfully unpacked and MD5 sums checked