| Back to Multiple platform build/check report for BioC 3.9 |
|
This page was generated on 2019-10-16 12:26:45 -0400 (Wed, 16 Oct 2019).
| Package 1675/1741 | Hostname | OS / Arch | INSTALL | BUILD | CHECK | BUILD BIN | ||||||
| triform 1.26.0 Thomas Carroll
| malbec2 | Linux (Ubuntu 18.04.2 LTS) / x86_64 | OK | OK | OK | |||||||
| tokay2 | Windows Server 2012 R2 Standard / x64 | [ OK ] | OK | OK | OK | |||||||
| celaya2 | OS X 10.11.6 El Capitan / x86_64 | OK | OK | OK | OK |
| Package: triform |
| Version: 1.26.0 |
| Command: C:\cygwin\bin\curl.exe -O https://malbec2.bioconductor.org/BBS/3.9/bioc/src/contrib/triform_1.26.0.tar.gz && rm -rf triform.buildbin-libdir && mkdir triform.buildbin-libdir && C:\Users\biocbuild\bbs-3.9-bioc\R\bin\R.exe CMD INSTALL --merge-multiarch --build --library=triform.buildbin-libdir triform_1.26.0.tar.gz && C:\Users\biocbuild\bbs-3.9-bioc\R\bin\R.exe CMD INSTALL triform_1.26.0.zip && rm triform_1.26.0.tar.gz triform_1.26.0.zip |
| StartedAt: 2019-10-15 18:52:41 -0400 (Tue, 15 Oct 2019) |
| EndedAt: 2019-10-15 18:53:30 -0400 (Tue, 15 Oct 2019) |
| EllapsedTime: 48.6 seconds |
| RetCode: 0 |
| Status: OK |
##############################################################################
##############################################################################
###
### Running command:
###
### C:\cygwin\bin\curl.exe -O https://malbec2.bioconductor.org/BBS/3.9/bioc/src/contrib/triform_1.26.0.tar.gz && rm -rf triform.buildbin-libdir && mkdir triform.buildbin-libdir && C:\Users\biocbuild\bbs-3.9-bioc\R\bin\R.exe CMD INSTALL --merge-multiarch --build --library=triform.buildbin-libdir triform_1.26.0.tar.gz && C:\Users\biocbuild\bbs-3.9-bioc\R\bin\R.exe CMD INSTALL triform_1.26.0.zip && rm triform_1.26.0.tar.gz triform_1.26.0.zip
###
##############################################################################
##############################################################################
% Total % Received % Xferd Average Speed Time Time Time Current
Dload Upload Total Spent Left Speed
0 0 0 0 0 0 0 0 --:--:-- --:--:-- --:--:-- 0
100 488k 100 488k 0 0 6717k 0 --:--:-- --:--:-- --:--:-- 7509k
install for i386
* installing *source* package 'triform' ...
** using staged installation
** R
** inst
** byte-compile and prepare package for lazy loading
** help
*** installing help indices
converting help for package 'triform'
finding HTML links ... done
preprocess html
triform-package html
triform html
** building package indices
** installing vignettes
'triform.Rnw' using 'UTF-8'
** testing if installed package can be loaded from temporary location
** testing if installed package can be loaded from final location
** testing if installed package keeps a record of temporary installation path
install for x64
* installing *source* package 'triform' ...
** testing if installed package can be loaded
* MD5 sums
packaged installation of 'triform' as triform_1.26.0.zip
* DONE (triform)
* installing to library 'C:/Users/biocbuild/bbs-3.9-bioc/R/library'
package 'triform' successfully unpacked and MD5 sums checked