| Back to Multiple platform build/check report for BioC 3.9 |
|
This page was generated on 2019-04-09 13:29:10 -0400 (Tue, 09 Apr 2019).
| Package 1628/1703 | Hostname | OS / Arch | INSTALL | BUILD | CHECK | BUILD BIN | ||||||
| trackViewer 1.19.28 Jianhong Ou
| malbec2 | Linux (Ubuntu 18.04.2 LTS) / x86_64 | OK | OK | OK | |||||||
| tokay2 | Windows Server 2012 R2 Standard / x64 | OK | OK | ERROR | OK | |||||||
| celaya2 | OS X 10.11.6 El Capitan / x86_64 | OK | OK | OK | OK | |||||||
| merida2 | OS X 10.11.6 El Capitan / x86_64 | OK | OK | [ OK ] | OK |
| Package: trackViewer |
| Version: 1.19.28 |
| Command: /Library/Frameworks/R.framework/Versions/Current/Resources/bin/R CMD check --install=check:trackViewer.install-out.txt --library=/Library/Frameworks/R.framework/Versions/Current/Resources/library --no-vignettes --timings trackViewer_1.19.28.tar.gz |
| StartedAt: 2019-04-09 04:10:53 -0400 (Tue, 09 Apr 2019) |
| EndedAt: 2019-04-09 04:19:14 -0400 (Tue, 09 Apr 2019) |
| EllapsedTime: 501.6 seconds |
| RetCode: 0 |
| Status: OK |
| CheckDir: trackViewer.Rcheck |
| Warnings: 0 |
##############################################################################
##############################################################################
###
### Running command:
###
### /Library/Frameworks/R.framework/Versions/Current/Resources/bin/R CMD check --install=check:trackViewer.install-out.txt --library=/Library/Frameworks/R.framework/Versions/Current/Resources/library --no-vignettes --timings trackViewer_1.19.28.tar.gz
###
##############################################################################
##############################################################################
* using log directory ‘/Users/biocbuild/bbs-3.9-bioc/meat/trackViewer.Rcheck’
* using R Under development (unstable) (2018-11-27 r75683)
* using platform: x86_64-apple-darwin15.6.0 (64-bit)
* using session charset: UTF-8
* using option ‘--no-vignettes’
* checking for file ‘trackViewer/DESCRIPTION’ ... OK
* checking extension type ... Package
* this is package ‘trackViewer’ version ‘1.19.28’
* package encoding: UTF-8
* checking package namespace information ... OK
* checking package dependencies ... OK
* checking if this is a source package ... OK
* checking if there is a namespace ... OK
* checking for hidden files and directories ... OK
* checking for portable file names ... OK
* checking for sufficient/correct file permissions ... OK
* checking whether package ‘trackViewer’ can be installed ... OK
* checking installed package size ... OK
* checking package directory ... OK
* checking ‘build’ directory ... OK
* checking DESCRIPTION meta-information ... OK
* checking top-level files ... OK
* checking for left-over files ... OK
* checking index information ... OK
* checking package subdirectories ... OK
* checking R files for non-ASCII characters ... OK
* checking R files for syntax errors ... OK
* checking whether the package can be loaded ... OK
* checking whether the package can be loaded with stated dependencies ... OK
* checking whether the package can be unloaded cleanly ... OK
* checking whether the namespace can be loaded with stated dependencies ... OK
* checking whether the namespace can be unloaded cleanly ... OK
* checking dependencies in R code ... OK
* checking S3 generic/method consistency ... OK
* checking replacement functions ... OK
* checking foreign function calls ... OK
* checking R code for possible problems ... OK
* checking Rd files ... OK
* checking Rd metadata ... OK
* checking Rd cross-references ... OK
* checking for missing documentation entries ... OK
* checking for code/documentation mismatches ... OK
* checking Rd \usage sections ... OK
* checking Rd contents ... OK
* checking for unstated dependencies in examples ... OK
* checking files in ‘vignettes’ ... OK
* checking examples ... OK
Examples with CPU or elapsed time > 5s
user system elapsed
trackViewer-package 23.856 0.255 26.909
viewTracks 15.109 0.141 15.372
parseWIG 14.648 0.072 17.529
browseTracks 13.785 0.186 15.196
geneModelFromTxdb 9.491 0.313 9.872
viewGene 7.452 0.214 7.732
* checking for unstated dependencies in ‘tests’ ... OK
* checking tests ...
Running ‘runTests.R’
OK
* checking for unstated dependencies in vignettes ... OK
* checking package vignettes in ‘inst/doc’ ... OK
* checking running R code from vignettes ... SKIPPED
* checking re-building of vignette outputs ... SKIPPED
* checking PDF version of manual ... OK
* DONE
Status: OK
trackViewer.Rcheck/00install.out
############################################################################## ############################################################################## ### ### Running command: ### ### /Library/Frameworks/R.framework/Versions/Current/Resources/bin/R CMD INSTALL trackViewer ### ############################################################################## ############################################################################## * installing to library ‘/Library/Frameworks/R.framework/Versions/3.6/Resources/library’ * installing *source* package ‘trackViewer’ ... ** R ** inst ** byte-compile and prepare package for lazy loading ** help *** installing help indices ** building package indices ** installing vignettes ** testing if installed package can be loaded * DONE (trackViewer)
trackViewer.Rcheck/tests/runTests.Rout
R Under development (unstable) (2018-11-27 r75683) -- "Unsuffered Consequences"
Copyright (C) 2018 The R Foundation for Statistical Computing
Platform: x86_64-apple-darwin15.6.0 (64-bit)
R is free software and comes with ABSOLUTELY NO WARRANTY.
You are welcome to redistribute it under certain conditions.
Type 'license()' or 'licence()' for distribution details.
R is a collaborative project with many contributors.
Type 'contributors()' for more information and
'citation()' on how to cite R or R packages in publications.
Type 'demo()' for some demos, 'help()' for on-line help, or
'help.start()' for an HTML browser interface to help.
Type 'q()' to quit R.
> require("trackViewer") || stop("unable to load Package:trackViewer")
Loading required package: trackViewer
Loading required package: GenomicRanges
Loading required package: stats4
Loading required package: BiocGenerics
Loading required package: parallel
Attaching package: 'BiocGenerics'
The following objects are masked from 'package:parallel':
clusterApply, clusterApplyLB, clusterCall, clusterEvalQ,
clusterExport, clusterMap, parApply, parCapply, parLapply,
parLapplyLB, parRapply, parSapply, parSapplyLB
The following objects are masked from 'package:stats':
IQR, mad, sd, var, xtabs
The following objects are masked from 'package:base':
Filter, Find, Map, Position, Reduce, anyDuplicated, append,
as.data.frame, basename, cbind, colMeans, colSums, colnames,
dirname, do.call, duplicated, eval, evalq, get, grep, grepl,
intersect, is.unsorted, lapply, mapply, match, mget, order, paste,
pmax, pmax.int, pmin, pmin.int, rank, rbind, rowMeans, rowSums,
rownames, sapply, setdiff, sort, table, tapply, union, unique,
unsplit, which, which.max, which.min
Loading required package: S4Vectors
Attaching package: 'S4Vectors'
The following object is masked from 'package:base':
expand.grid
Loading required package: IRanges
Loading required package: GenomeInfoDb
Loading required package: grid
[1] TRUE
> require("RUnit") || stop("unable to load Package:RUnit")
Loading required package: RUnit
[1] TRUE
> BiocGenerics:::testPackage("trackViewer")
RUNIT TEST PROTOCOL -- Tue Apr 9 04:19:08 2019
***********************************************
Number of test functions: 1
Number of errors: 0
Number of failures: 0
1 Test Suite :
trackViewer RUnit Tests - 1 test function, 0 errors, 0 failures
Number of test functions: 1
Number of errors: 0
Number of failures: 0
>
> proc.time()
user system elapsed
17.820 1.010 19.032
trackViewer.Rcheck/trackViewer-Ex.timings
| name | user | system | elapsed | |
| GRoperator | 3.663 | 0.196 | 3.881 | |
| addArrowMark | 0.016 | 0.002 | 0.017 | |
| addGuideLine | 0.008 | 0.001 | 0.009 | |
| browseTracks | 13.785 | 0.186 | 15.196 | |
| coverageGR | 0.294 | 0.014 | 0.415 | |
| dandelion.plot | 2.632 | 0.069 | 3.930 | |
| geneModelFromTxdb | 9.491 | 0.313 | 9.872 | |
| geneTrack | 0.343 | 0.012 | 0.360 | |
| getCurTrackViewport | 0.005 | 0.000 | 0.006 | |
| getLocation | 1.675 | 0.062 | 1.742 | |
| gieStain | 0.015 | 0.001 | 0.016 | |
| ideogramPlot | 0.000 | 0.000 | 0.001 | |
| importBam | 0.353 | 0.015 | 0.370 | |
| importData | 3.126 | 0.034 | 3.179 | |
| importScore | 0.810 | 0.021 | 0.840 | |
| loadIdeogram | 0.000 | 0.000 | 0.001 | |
| lolliplot | 0.908 | 0.013 | 0.926 | |
| optimizeStyle | 0.889 | 0.024 | 0.923 | |
| parse2GRanges | 0.008 | 0.000 | 0.007 | |
| parseWIG | 14.648 | 0.072 | 17.529 | |
| plotGInteractions | 1.814 | 0.058 | 1.924 | |
| plotGRanges | 1.755 | 0.051 | 1.815 | |
| plotIdeo | 0 | 0 | 0 | |
| plotOneIdeo | 0.001 | 0.001 | 0.001 | |
| trackStyle-class | 0.057 | 0.000 | 0.058 | |
| trackViewer-package | 23.856 | 0.255 | 26.909 | |
| trackViewerStyle-class | 0.000 | 0.000 | 0.001 | |
| viewGene | 7.452 | 0.214 | 7.732 | |
| viewTracks | 15.109 | 0.141 | 15.372 | |