| Back to Multiple platform build/check report for BioC 3.9 |
|
This page was generated on 2019-10-16 12:39:46 -0400 (Wed, 16 Oct 2019).
| Package 1659/1741 | Hostname | OS / Arch | INSTALL | BUILD | CHECK | BUILD BIN | ||||||
| topdownr 1.6.0 Sebastian Gibb
| malbec2 | Linux (Ubuntu 18.04.2 LTS) / x86_64 | OK | OK | OK | |||||||
| tokay2 | Windows Server 2012 R2 Standard / x64 | [ OK ] | OK | OK | OK | |||||||
| celaya2 | OS X 10.11.6 El Capitan / x86_64 | OK | OK | OK | OK |
| Package: topdownr |
| Version: 1.6.0 |
| Command: C:\cygwin\bin\curl.exe -O https://malbec2.bioconductor.org/BBS/3.9/bioc/src/contrib/topdownr_1.6.0.tar.gz && rm -rf topdownr.buildbin-libdir && mkdir topdownr.buildbin-libdir && C:\Users\biocbuild\bbs-3.9-bioc\R\bin\R.exe CMD INSTALL --merge-multiarch --build --library=topdownr.buildbin-libdir topdownr_1.6.0.tar.gz && C:\Users\biocbuild\bbs-3.9-bioc\R\bin\R.exe CMD INSTALL topdownr_1.6.0.zip && rm topdownr_1.6.0.tar.gz topdownr_1.6.0.zip |
| StartedAt: 2019-10-15 20:20:30 -0400 (Tue, 15 Oct 2019) |
| EndedAt: 2019-10-15 20:21:47 -0400 (Tue, 15 Oct 2019) |
| EllapsedTime: 77.4 seconds |
| RetCode: 0 |
| Status: OK |
##############################################################################
##############################################################################
###
### Running command:
###
### C:\cygwin\bin\curl.exe -O https://malbec2.bioconductor.org/BBS/3.9/bioc/src/contrib/topdownr_1.6.0.tar.gz && rm -rf topdownr.buildbin-libdir && mkdir topdownr.buildbin-libdir && C:\Users\biocbuild\bbs-3.9-bioc\R\bin\R.exe CMD INSTALL --merge-multiarch --build --library=topdownr.buildbin-libdir topdownr_1.6.0.tar.gz && C:\Users\biocbuild\bbs-3.9-bioc\R\bin\R.exe CMD INSTALL topdownr_1.6.0.zip && rm topdownr_1.6.0.tar.gz topdownr_1.6.0.zip
###
##############################################################################
##############################################################################
% Total % Received % Xferd Average Speed Time Time Time Current
Dload Upload Total Spent Left Speed
0 0 0 0 0 0 0 0 --:--:-- --:--:-- --:--:-- 0
100 404k 100 404k 0 0 6266k 0 --:--:-- --:--:-- --:--:-- 6974k
install for i386
* installing *source* package 'topdownr' ...
** using staged installation
** R
** data
*** moving datasets to lazyload DB
** inst
** byte-compile and prepare package for lazy loading
** help
*** installing help indices
converting help for package 'topdownr'
finding HTML links ... done
AbstractTopDownSet-class html
FragmentViews-class html
NCBSet-class html
TopDownSet-class html
createExperimentsFragmentOptimisation html
default-functions html
expandMsConditions html
readTopDownFiles html
tds html
topdownr-deprecated html
topdownr-package html
validMsSettings html
windows-specific-functions html
writeMethodXmls html
** building package indices
** installing vignettes
** testing if installed package can be loaded from temporary location
** testing if installed package can be loaded from final location
** testing if installed package keeps a record of temporary installation path
install for x64
* installing *source* package 'topdownr' ...
** testing if installed package can be loaded
* MD5 sums
packaged installation of 'topdownr' as topdownr_1.6.0.zip
* DONE (topdownr)
* installing to library 'C:/Users/biocbuild/bbs-3.9-bioc/R/library'
package 'topdownr' successfully unpacked and MD5 sums checked