| Back to Multiple platform build/check report for BioC 3.9 |
|
This page was generated on 2019-10-16 12:36:46 -0400 (Wed, 16 Oct 2019).
| Package 1623/1741 | Hostname | OS / Arch | INSTALL | BUILD | CHECK | BUILD BIN | ||||||
| synergyfinder 1.10.7 Shuyu Zheng
| malbec2 | Linux (Ubuntu 18.04.2 LTS) / x86_64 | OK | OK | OK | |||||||
| tokay2 | Windows Server 2012 R2 Standard / x64 | OK | OK | OK | [ OK ] | |||||||
| celaya2 | OS X 10.11.6 El Capitan / x86_64 | OK | OK | OK | OK |
| Package: synergyfinder |
| Version: 1.10.7 |
| Command: rm -rf synergyfinder.buildbin-libdir && mkdir synergyfinder.buildbin-libdir && C:\Users\biocbuild\bbs-3.9-bioc\R\bin\R.exe CMD INSTALL --merge-multiarch --build --library=synergyfinder.buildbin-libdir synergyfinder_1.10.7.tar.gz |
| StartedAt: 2019-10-16 10:20:11 -0400 (Wed, 16 Oct 2019) |
| EndedAt: 2019-10-16 10:21:17 -0400 (Wed, 16 Oct 2019) |
| EllapsedTime: 66.5 seconds |
| RetCode: 0 |
| Status: OK |
| PackageFile: synergyfinder_1.10.7.zip |
| PackageFileSize: 398.6 KiB |
##############################################################################
##############################################################################
###
### Running command:
###
### rm -rf synergyfinder.buildbin-libdir && mkdir synergyfinder.buildbin-libdir && C:\Users\biocbuild\bbs-3.9-bioc\R\bin\R.exe CMD INSTALL --merge-multiarch --build --library=synergyfinder.buildbin-libdir synergyfinder_1.10.7.tar.gz
###
##############################################################################
##############################################################################
install for i386
* installing *source* package 'synergyfinder' ...
** using staged installation
** R
** data
** inst
** byte-compile and prepare package for lazy loading
** help
*** installing help indices
converting help for package 'synergyfinder'
finding HTML links ... done
AddNoise html
Bliss html
CalculateSynergy html
CorrectBaseLine html
ExtractSingleDrug html
FindModelType html
FitDoseResponse html
HSA html
ImputeNA html
Loewe html
PlotDoseResponse html
PlotSynergy html
ReshapeData html
ZIP html
mathews_screening_data html
** building package indices
** installing vignettes
** testing if installed package can be loaded from temporary location
** testing if installed package can be loaded from final location
** testing if installed package keeps a record of temporary installation path
install for x64
* installing *source* package 'synergyfinder' ...
** testing if installed package can be loaded
* MD5 sums
packaged installation of 'synergyfinder' as synergyfinder_1.10.7.zip
* DONE (synergyfinder)