| Back to Multiple platform build/check report for BioC 3.9 | 
 | 
This page was generated on 2019-04-09 13:37:04 -0400 (Tue, 09 Apr 2019).
| Package 1510/1703 | Hostname | OS / Arch | INSTALL | BUILD | CHECK | BUILD BIN | ||||||
| slingshot 1.1.2 Kelly Street 
 | malbec2 | Linux (Ubuntu 18.04.2 LTS) / x86_64 | OK | OK | OK |  | ||||||
| tokay2 | Windows Server 2012 R2 Standard / x64 | OK | OK | OK | OK |  | ||||||
| celaya2 | OS X 10.11.6 El Capitan / x86_64 | OK | OK | WARNINGS | OK |  | ||||||
| merida2 | OS X 10.11.6 El Capitan / x86_64 | OK | OK | WARNINGS | [ OK ] | 
| Package: slingshot | 
| Version: 1.1.2 | 
| Command: rm -rf slingshot.buildbin-libdir && mkdir slingshot.buildbin-libdir && /Users/biocbuild/BBS/utils/build-universal.sh slingshot_1.1.2.tar.gz /Library/Frameworks/R.framework/Versions/Current/Resources/bin/R slingshot.buildbin-libdir | 
| StartedAt: 2019-04-09 06:31:55 -0400 (Tue, 09 Apr 2019) | 
| EndedAt: 2019-04-09 06:33:12 -0400 (Tue, 09 Apr 2019) | 
| EllapsedTime: 76.9 seconds | 
| RetCode: 0 | 
| Status: OK | 
| PackageFile: slingshot_1.1.2.tgz | 
| PackageFileSize: 1.605 MiB | 
############################################################################## ############################################################################## ### ### Running command: ### ### rm -rf slingshot.buildbin-libdir && mkdir slingshot.buildbin-libdir && /Users/biocbuild/BBS/utils/build-universal.sh slingshot_1.1.2.tar.gz /Library/Frameworks/R.framework/Versions/Current/Resources/bin/R slingshot.buildbin-libdir ### ############################################################################## ############################################################################## >>>>>>> >>>>>>> INSTALLATION WITH 'R CMD INSTALL --preclean --no-multiarch --library=slingshot.buildbin-libdir slingshot_1.1.2.tar.gz' >>>>>>> * installing *source* package ‘slingshot’ ... ** R ** data ** inst ** byte-compile and prepare package for lazy loading Warning in rgl.init(initValue, onlyNULL) : RGL: GLX extension missing on server Warning: 'rgl_init' failed, running with rgl.useNULL = TRUE ** help *** installing help indices ** building package indices ** installing vignettes ** testing if installed package can be loaded Warning in rgl.init(initValue, onlyNULL) : RGL: GLX extension missing on server Warning: 'rgl_init' failed, running with rgl.useNULL = TRUE * DONE (slingshot)