| Back to Multiple platform build/check report for BioC 3.9 |
|
This page was generated on 2019-10-16 12:32:32 -0400 (Wed, 16 Oct 2019).
| Package 1537/1741 | Hostname | OS / Arch | INSTALL | BUILD | CHECK | BUILD BIN | ||||||
| skewr 1.16.0 Ryan Putney
| malbec2 | Linux (Ubuntu 18.04.2 LTS) / x86_64 | OK | OK | OK | |||||||
| tokay2 | Windows Server 2012 R2 Standard / x64 | OK | [ OK ] | OK | OK | |||||||
| celaya2 | OS X 10.11.6 El Capitan / x86_64 | OK | OK | OK | OK |
| Package: skewr |
| Version: 1.16.0 |
| Command: chmod a+r skewr -R && C:\Users\biocbuild\bbs-3.9-bioc\R\bin\R.exe CMD build --keep-empty-dirs --no-resave-data skewr |
| StartedAt: 2019-10-15 23:19:02 -0400 (Tue, 15 Oct 2019) |
| EndedAt: 2019-10-15 23:22:14 -0400 (Tue, 15 Oct 2019) |
| EllapsedTime: 191.9 seconds |
| RetCode: 0 |
| Status: OK |
| PackageFile: skewr_1.16.0.tar.gz |
| PackageFileSize: 377.6 KiB |
############################################################################## ############################################################################## ### ### Running command: ### ### chmod a+r skewr -R && C:\Users\biocbuild\bbs-3.9-bioc\R\bin\R.exe CMD build --keep-empty-dirs --no-resave-data skewr ### ############################################################################## ############################################################################## * checking for file 'skewr/DESCRIPTION' ... OK * preparing 'skewr': * checking DESCRIPTION meta-information ... OK * installing the package to build vignettes * creating vignettes ... OK * checking for LF line-endings in source and make files and shell scripts * checking for empty or unneeded directories * building 'skewr_1.16.0.tar.gz'