| Back to Multiple platform build/check report for BioC 3.9 |
|
This page was generated on 2019-10-16 12:44:03 -0400 (Wed, 16 Oct 2019).
| Package 1579/1741 | Hostname | OS / Arch | INSTALL | BUILD | CHECK | BUILD BIN | ||||||
| sRACIPE 1.0.0 Vivek Kohar
| malbec2 | Linux (Ubuntu 18.04.2 LTS) / x86_64 | OK | OK | OK | |||||||
| tokay2 | Windows Server 2012 R2 Standard / x64 | OK | OK | OK | [ OK ] | |||||||
| celaya2 | OS X 10.11.6 El Capitan / x86_64 | OK | OK | OK | OK |
| Package: sRACIPE |
| Version: 1.0.0 |
| Command: rm -rf sRACIPE.buildbin-libdir && mkdir sRACIPE.buildbin-libdir && C:\Users\biocbuild\bbs-3.9-bioc\R\bin\R.exe CMD INSTALL --merge-multiarch --build --library=sRACIPE.buildbin-libdir sRACIPE_1.0.0.tar.gz |
| StartedAt: 2019-10-16 10:17:23 -0400 (Wed, 16 Oct 2019) |
| EndedAt: 2019-10-16 10:19:09 -0400 (Wed, 16 Oct 2019) |
| EllapsedTime: 106.4 seconds |
| RetCode: 0 |
| Status: OK |
| PackageFile: sRACIPE_1.0.0.zip |
| PackageFileSize: 1.148 MiB |
##############################################################################
##############################################################################
###
### Running command:
###
### rm -rf sRACIPE.buildbin-libdir && mkdir sRACIPE.buildbin-libdir && C:\Users\biocbuild\bbs-3.9-bioc\R\bin\R.exe CMD INSTALL --merge-multiarch --build --library=sRACIPE.buildbin-libdir sRACIPE_1.0.0.tar.gz
###
##############################################################################
##############################################################################
install for i386
* installing *source* package 'sRACIPE' ...
** using staged installation
** libs
C:/Rtools/mingw_32/bin/g++ -std=gnu++11 -I"C:/Users/BIOCBU~1/BBS-3~1.9-B/R/include" -DNDEBUG -I"C:/Users/biocbuild/bbs-3.9-bioc/R/library/Rcpp/include" -I"C:/extsoft/include" -O2 -Wall -mtune=generic -c RcppExports.cpp -o RcppExports.o
C:/Rtools/mingw_32/bin/g++ -std=gnu++11 -I"C:/Users/BIOCBU~1/BBS-3~1.9-B/R/include" -DNDEBUG -I"C:/Users/biocbuild/bbs-3.9-bioc/R/library/Rcpp/include" -I"C:/extsoft/include" -O2 -Wall -mtune=generic -c generateThresholds.cpp -o generateThresholds.o
C:/Rtools/mingw_32/bin/g++ -std=gnu++11 -I"C:/Users/BIOCBU~1/BBS-3~1.9-B/R/include" -DNDEBUG -I"C:/Users/biocbuild/bbs-3.9-bioc/R/library/Rcpp/include" -I"C:/extsoft/include" -O2 -Wall -mtune=generic -c header.cpp -o header.o
C:/Rtools/mingw_32/bin/g++ -std=gnu++11 -I"C:/Users/BIOCBU~1/BBS-3~1.9-B/R/include" -DNDEBUG -I"C:/Users/biocbuild/bbs-3.9-bioc/R/library/Rcpp/include" -I"C:/extsoft/include" -O2 -Wall -mtune=generic -c simulateGRC.cpp -o simulateGRC.o
C:/Rtools/mingw_32/bin/g++ -std=gnu++11 -I"C:/Users/BIOCBU~1/BBS-3~1.9-B/R/include" -DNDEBUG -I"C:/Users/biocbuild/bbs-3.9-bioc/R/library/Rcpp/include" -I"C:/extsoft/include" -O2 -Wall -mtune=generic -c steppers.cpp -o steppers.o
C:/Rtools/mingw_32/bin/g++ -shared -s -static-libgcc -o sRACIPE.dll tmp.def RcppExports.o generateThresholds.o header.o simulateGRC.o steppers.o -LC:/extsoft/lib/i386 -LC:/extsoft/lib -LC:/Users/BIOCBU~1/BBS-3~1.9-B/R/bin/i386 -lR
installing to C:/Users/biocbuild/bbs-3.9-bioc/meat/sRACIPE.buildbin-libdir/00LOCK-sRACIPE/00new/sRACIPE/libs/i386
** R
** data
** inst
** byte-compile and prepare package for lazy loading
** help
*** installing help indices
converting help for package 'sRACIPE'
finding HTML links ... done
CoupledToggleSwitchSA html
EMT1 html
EMT2 html
RacipeSE-class html
finding level-2 HTML links ... done
RacipeSE html
annotation-RacipeSE-method html
annotation-set-RacipeSE-ANY-method html
configData html
demoCircuit html
sRACIPE html
sracipeCircuit-set html
sracipeCircuit html
sracipeConfig-set html
sracipeConfig html
sracipeGenParamNames html
sracipeIC-set html
sracipeIC html
sracipeKnockDown html
sracipeNormalize html
sracipeOverExp html
sracipeParams-set html
sracipeParams html
sracipePlotCircuit html
sracipePlotData html
sracipePlotParamBifur html
sracipeSimulate html
** building package indices
** installing vignettes
** testing if installed package can be loaded from temporary location
** testing if installed package can be loaded from final location
** testing if installed package keeps a record of temporary installation path
install for x64
* installing *source* package 'sRACIPE' ...
** libs
C:/Rtools/mingw_64/bin/g++ -std=gnu++11 -I"C:/Users/BIOCBU~1/BBS-3~1.9-B/R/include" -DNDEBUG -I"C:/Users/biocbuild/bbs-3.9-bioc/R/library/Rcpp/include" -I"C:/extsoft/include" -O2 -Wall -mtune=generic -c RcppExports.cpp -o RcppExports.o
C:/Rtools/mingw_64/bin/g++ -std=gnu++11 -I"C:/Users/BIOCBU~1/BBS-3~1.9-B/R/include" -DNDEBUG -I"C:/Users/biocbuild/bbs-3.9-bioc/R/library/Rcpp/include" -I"C:/extsoft/include" -O2 -Wall -mtune=generic -c generateThresholds.cpp -o generateThresholds.o
C:/Rtools/mingw_64/bin/g++ -std=gnu++11 -I"C:/Users/BIOCBU~1/BBS-3~1.9-B/R/include" -DNDEBUG -I"C:/Users/biocbuild/bbs-3.9-bioc/R/library/Rcpp/include" -I"C:/extsoft/include" -O2 -Wall -mtune=generic -c header.cpp -o header.o
C:/Rtools/mingw_64/bin/g++ -std=gnu++11 -I"C:/Users/BIOCBU~1/BBS-3~1.9-B/R/include" -DNDEBUG -I"C:/Users/biocbuild/bbs-3.9-bioc/R/library/Rcpp/include" -I"C:/extsoft/include" -O2 -Wall -mtune=generic -c simulateGRC.cpp -o simulateGRC.o
C:/Rtools/mingw_64/bin/g++ -std=gnu++11 -I"C:/Users/BIOCBU~1/BBS-3~1.9-B/R/include" -DNDEBUG -I"C:/Users/biocbuild/bbs-3.9-bioc/R/library/Rcpp/include" -I"C:/extsoft/include" -O2 -Wall -mtune=generic -c steppers.cpp -o steppers.o
C:/Rtools/mingw_64/bin/g++ -shared -s -static-libgcc -o sRACIPE.dll tmp.def RcppExports.o generateThresholds.o header.o simulateGRC.o steppers.o -LC:/extsoft/lib/x64 -LC:/extsoft/lib -LC:/Users/BIOCBU~1/BBS-3~1.9-B/R/bin/x64 -lR
installing to C:/Users/biocbuild/bbs-3.9-bioc/meat/sRACIPE.buildbin-libdir/sRACIPE/libs/x64
** testing if installed package can be loaded
* MD5 sums
packaged installation of 'sRACIPE' as sRACIPE_1.0.0.zip
* DONE (sRACIPE)