| Back to Multiple platform build/check report for BioC 3.9 |
|
This page was generated on 2019-10-16 12:26:33 -0400 (Wed, 16 Oct 2019).
| Package 1407/1741 | Hostname | OS / Arch | INSTALL | BUILD | CHECK | BUILD BIN | ||||||
| rols 2.12.2 Laurent Gatto
| malbec2 | Linux (Ubuntu 18.04.2 LTS) / x86_64 | OK | OK | ERROR | |||||||
| tokay2 | Windows Server 2012 R2 Standard / x64 | OK | OK | OK | [ OK ] | |||||||
| celaya2 | OS X 10.11.6 El Capitan / x86_64 | OK | OK | OK | OK |
| Package: rols |
| Version: 2.12.2 |
| Command: rm -rf rols.buildbin-libdir && mkdir rols.buildbin-libdir && C:\Users\biocbuild\bbs-3.9-bioc\R\bin\R.exe CMD INSTALL --merge-multiarch --build --library=rols.buildbin-libdir rols_2.12.2.tar.gz |
| StartedAt: 2019-10-16 10:06:29 -0400 (Wed, 16 Oct 2019) |
| EndedAt: 2019-10-16 10:07:08 -0400 (Wed, 16 Oct 2019) |
| EllapsedTime: 38.9 seconds |
| RetCode: 0 |
| Status: OK |
| PackageFile: rols_2.12.2.zip |
| PackageFileSize: 584.8 KiB |
##############################################################################
##############################################################################
###
### Running command:
###
### rm -rf rols.buildbin-libdir && mkdir rols.buildbin-libdir && C:\Users\biocbuild\bbs-3.9-bioc\R\bin\R.exe CMD INSTALL --merge-multiarch --build --library=rols.buildbin-libdir rols_2.12.2.tar.gz
###
##############################################################################
##############################################################################
install for i386
* installing *source* package 'rols' ...
** using staged installation
** R
** inst
** byte-compile and prepare package for lazy loading
Creating a generic function for 'lapply' from package 'base' in package 'rols'
** help
*** installing help indices
converting help for package 'rols'
finding HTML links ... done
CVParam-class html
finding level-2 HTML links ... done
OlsSearch-class html
Ontology-class html
Properties-class html
Term-class html
dot-properties html
dot-term html
dot-terms html
makeOntologies html
makeOntology html
makeProperty html
makeTerm html
** building package indices
** installing vignettes
** testing if installed package can be loaded from temporary location
** testing if installed package can be loaded from final location
** testing if installed package keeps a record of temporary installation path
install for x64
* installing *source* package 'rols' ...
** testing if installed package can be loaded
* MD5 sums
packaged installation of 'rols' as rols_2.12.2.zip
* DONE (rols)