| Back to Multiple platform build/check report for BioC 3.9 |
|
This page was generated on 2019-10-16 12:33:35 -0400 (Wed, 16 Oct 2019).
| Package 1397/1741 | Hostname | OS / Arch | INSTALL | BUILD | CHECK | BUILD BIN | ||||||
| rnaseqcomp 1.14.0 Mingxiang Teng
| malbec2 | Linux (Ubuntu 18.04.2 LTS) / x86_64 | OK | OK | OK | |||||||
| tokay2 | Windows Server 2012 R2 Standard / x64 | OK | OK | [ OK ] | OK | |||||||
| celaya2 | OS X 10.11.6 El Capitan / x86_64 | OK | OK | OK | OK |
| Package: rnaseqcomp |
| Version: 1.14.0 |
| Command: C:\Users\biocbuild\bbs-3.9-bioc\R\bin\R.exe CMD check --force-multiarch --install=check:rnaseqcomp.install-out.txt --library=C:\Users\biocbuild\bbs-3.9-bioc\R\library --no-vignettes --timings rnaseqcomp_1.14.0.tar.gz |
| StartedAt: 2019-10-16 06:43:23 -0400 (Wed, 16 Oct 2019) |
| EndedAt: 2019-10-16 06:44:21 -0400 (Wed, 16 Oct 2019) |
| EllapsedTime: 59.0 seconds |
| RetCode: 0 |
| Status: OK |
| CheckDir: rnaseqcomp.Rcheck |
| Warnings: 0 |
############################################################################## ############################################################################## ### ### Running command: ### ### C:\Users\biocbuild\bbs-3.9-bioc\R\bin\R.exe CMD check --force-multiarch --install=check:rnaseqcomp.install-out.txt --library=C:\Users\biocbuild\bbs-3.9-bioc\R\library --no-vignettes --timings rnaseqcomp_1.14.0.tar.gz ### ############################################################################## ############################################################################## * using log directory 'C:/Users/biocbuild/bbs-3.9-bioc/meat/rnaseqcomp.Rcheck' * using R version 3.6.1 (2019-07-05) * using platform: x86_64-w64-mingw32 (64-bit) * using session charset: ISO8859-1 * using option '--no-vignettes' * checking for file 'rnaseqcomp/DESCRIPTION' ... OK * this is package 'rnaseqcomp' version '1.14.0' * checking package namespace information ... OK * checking package dependencies ... OK * checking if this is a source package ... OK * checking if there is a namespace ... OK * checking for hidden files and directories ... OK * checking for portable file names ... OK * checking whether package 'rnaseqcomp' can be installed ... OK * checking installed package size ... OK * checking package directory ... OK * checking 'build' directory ... OK * checking DESCRIPTION meta-information ... OK * checking top-level files ... OK * checking for left-over files ... OK * checking index information ... OK * checking package subdirectories ... OK * checking R files for non-ASCII characters ... OK * checking R files for syntax errors ... OK * loading checks for arch 'i386' ** checking whether the package can be loaded ... OK ** checking whether the package can be loaded with stated dependencies ... OK ** checking whether the package can be unloaded cleanly ... OK ** checking whether the namespace can be loaded with stated dependencies ... OK ** checking whether the namespace can be unloaded cleanly ... OK * loading checks for arch 'x64' ** checking whether the package can be loaded ... OK ** checking whether the package can be loaded with stated dependencies ... OK ** checking whether the package can be unloaded cleanly ... OK ** checking whether the namespace can be loaded with stated dependencies ... OK ** checking whether the namespace can be unloaded cleanly ... OK * checking dependencies in R code ... OK * checking S3 generic/method consistency ... OK * checking replacement functions ... OK * checking foreign function calls ... OK * checking R code for possible problems ... NOTE plot2TX: no visible global function definition for 'plot' plot2TX: no visible global function definition for 'lines' plot2TX: no visible global function definition for 'box' plot2TX: no visible global function definition for 'legend' plot2TX :: no visible binding for global variable 'sd' plot2TX : : no visible global function definition for 'sd' plotFC: no visible global function definition for 'loess.smooth' plotFC: no visible global function definition for 'plot' plotFC: no visible global function definition for 'lines' plotFC: no visible global function definition for 'legend' plotFC : : no visible global function definition for 'median' plotFC : : no visible global function definition for 'sd' plotNE: no visible global function definition for 'plot' plotNE: no visible global function definition for 'lines' plotNE: no visible global function definition for 'points' plotNE: no visible global function definition for 'box' plotNE: no visible global function definition for 'legend' plotROC: no visible global function definition for 'median' plotROC: no visible global function definition for 'sd' plotROC: no visible global function definition for 'plot' plotROC: no visible global function definition for 'lines' plotROC: no visible global function definition for 'arrows' plotROC: no visible global function definition for 'abline' plotROC: no visible global function definition for 'legend' plotSD : : no visible binding for global variable 'sd' plotSD: no visible global function definition for 'loess.smooth' plotSD: no visible global function definition for 'plot' plotSD: no visible global function definition for 'lines' plotSD: no visible global function definition for 'box' plotSD: no visible global function definition for 'legend' plotSD : : : no visible global function definition for 'median' plotSD : : : no visible global function definition for 'mad' signalCalibrate : : no visible binding for global variable 'median' signalCalibrate: no visible global function definition for 'median' Undefined global functions or variables: abline arrows box legend lines loess.smooth mad median plot points sd Consider adding importFrom("graphics", "abline", "arrows", "box", "legend", "lines", "plot", "points") importFrom("stats", "loess.smooth", "mad", "median", "sd") to your NAMESPACE file. * checking Rd files ... OK * checking Rd metadata ... OK * checking Rd cross-references ... OK * checking for missing documentation entries ... OK * checking for code/documentation mismatches ... OK * checking Rd \usage sections ... OK * checking Rd contents ... OK * checking for unstated dependencies in examples ... OK * checking contents of 'data' directory ... OK * checking data for non-ASCII characters ... OK * checking data for ASCII and uncompressed saves ... OK * checking files in 'vignettes' ... OK * checking examples ... ** running examples for arch 'i386' ... OK Examples with CPU or elapsed time > 5s user system elapsed plotROC 7.55 0.24 7.78 ** running examples for arch 'x64' ... OK Examples with CPU or elapsed time > 5s user system elapsed plotROC 6.36 0.07 6.44 * checking for unstated dependencies in vignettes ... OK * checking package vignettes in 'inst/doc' ... OK * checking running R code from vignettes ... SKIPPED * checking re-building of vignette outputs ... SKIPPED * checking PDF version of manual ... OK * DONE Status: 1 NOTE See 'C:/Users/biocbuild/bbs-3.9-bioc/meat/rnaseqcomp.Rcheck/00check.log' for details.
rnaseqcomp.Rcheck/00install.out
##############################################################################
##############################################################################
###
### Running command:
###
### C:\cygwin\bin\curl.exe -O https://malbec2.bioconductor.org/BBS/3.9/bioc/src/contrib/rnaseqcomp_1.14.0.tar.gz && rm -rf rnaseqcomp.buildbin-libdir && mkdir rnaseqcomp.buildbin-libdir && C:\Users\biocbuild\bbs-3.9-bioc\R\bin\R.exe CMD INSTALL --merge-multiarch --build --library=rnaseqcomp.buildbin-libdir rnaseqcomp_1.14.0.tar.gz && C:\Users\biocbuild\bbs-3.9-bioc\R\bin\R.exe CMD INSTALL rnaseqcomp_1.14.0.zip && rm rnaseqcomp_1.14.0.tar.gz rnaseqcomp_1.14.0.zip
###
##############################################################################
##############################################################################
% Total % Received % Xferd Average Speed Time Time Time Current
Dload Upload Total Spent Left Speed
0 0 0 0 0 0 0 0 --:--:-- --:--:-- --:--:-- 0
100 1308k 100 1308k 0 0 9432k 0 --:--:-- --:--:-- --:--:-- 9913k
install for i386
* installing *source* package 'rnaseqcomp' ...
** using staged installation
** R
** data
** inst
** byte-compile and prepare package for lazy loading
** help
*** installing help indices
converting help for package 'rnaseqcomp'
finding HTML links ... done
check_rnaseqcomp html
plot2TX html
plotFC html
plotNE html
plotROC html
plotSD html
rnaseqcomp-class html
signalCalibrate html
simdata html
** building package indices
** installing vignettes
** testing if installed package can be loaded from temporary location
** testing if installed package can be loaded from final location
** testing if installed package keeps a record of temporary installation path
install for x64
* installing *source* package 'rnaseqcomp' ...
** testing if installed package can be loaded
* MD5 sums
packaged installation of 'rnaseqcomp' as rnaseqcomp_1.14.0.zip
* DONE (rnaseqcomp)
* installing to library 'C:/Users/biocbuild/bbs-3.9-bioc/R/library'
package 'rnaseqcomp' successfully unpacked and MD5 sums checked
|
rnaseqcomp.Rcheck/examples_i386/rnaseqcomp-Ex.timings
|
rnaseqcomp.Rcheck/examples_x64/rnaseqcomp-Ex.timings
|