| Back to Multiple platform build/check report for BioC 3.9 |
|
This page was generated on 2019-04-09 13:39:11 -0400 (Tue, 09 Apr 2019).
| Package 1363/1703 | Hostname | OS / Arch | INSTALL | BUILD | CHECK | BUILD BIN | ||||||
| rmelting 0.99.7 J. Aravind
| malbec2 | Linux (Ubuntu 18.04.2 LTS) / x86_64 | OK | OK | OK | |||||||
| tokay2 | Windows Server 2012 R2 Standard / x64 | OK | OK | OK | OK | |||||||
| celaya2 | OS X 10.11.6 El Capitan / x86_64 | OK | OK | OK | OK | |||||||
| merida2 | OS X 10.11.6 El Capitan / x86_64 | OK | OK | [ OK ] | OK |
| Package: rmelting |
| Version: 0.99.7 |
| Command: /Library/Frameworks/R.framework/Versions/Current/Resources/bin/R CMD check --install=check:rmelting.install-out.txt --library=/Library/Frameworks/R.framework/Versions/Current/Resources/library --no-vignettes --timings rmelting_0.99.7.tar.gz |
| StartedAt: 2019-04-09 03:23:48 -0400 (Tue, 09 Apr 2019) |
| EndedAt: 2019-04-09 03:25:28 -0400 (Tue, 09 Apr 2019) |
| EllapsedTime: 100.0 seconds |
| RetCode: 0 |
| Status: OK |
| CheckDir: rmelting.Rcheck |
| Warnings: 0 |
##############################################################################
##############################################################################
###
### Running command:
###
### /Library/Frameworks/R.framework/Versions/Current/Resources/bin/R CMD check --install=check:rmelting.install-out.txt --library=/Library/Frameworks/R.framework/Versions/Current/Resources/library --no-vignettes --timings rmelting_0.99.7.tar.gz
###
##############################################################################
##############################################################################
* using log directory ‘/Users/biocbuild/bbs-3.9-bioc/meat/rmelting.Rcheck’
* using R Under development (unstable) (2018-11-27 r75683)
* using platform: x86_64-apple-darwin15.6.0 (64-bit)
* using session charset: UTF-8
* using option ‘--no-vignettes’
* checking for file ‘rmelting/DESCRIPTION’ ... OK
* this is package ‘rmelting’ version ‘0.99.7’
* package encoding: UTF-8
* checking package namespace information ... OK
* checking package dependencies ... OK
* checking if this is a source package ... OK
* checking if there is a namespace ... OK
* checking for hidden files and directories ... OK
* checking for portable file names ... OK
* checking for sufficient/correct file permissions ... OK
* checking whether package ‘rmelting’ can be installed ... OK
* checking installed package size ... OK
* checking package directory ... OK
* checking ‘build’ directory ... OK
* checking DESCRIPTION meta-information ... OK
* checking top-level files ... OK
* checking for left-over files ... OK
* checking index information ... OK
* checking package subdirectories ... OK
* checking R files for non-ASCII characters ... OK
* checking R files for syntax errors ... OK
* checking whether the package can be loaded ... OK
* checking whether the package can be loaded with stated dependencies ... OK
* checking whether the package can be unloaded cleanly ... OK
* checking whether the namespace can be loaded with stated dependencies ... OK
* checking whether the namespace can be unloaded cleanly ... OK
* checking dependencies in R code ... OK
* checking S3 generic/method consistency ... OK
* checking replacement functions ... OK
* checking foreign function calls ... OK
* checking R code for possible problems ... OK
* checking Rd files ... OK
* checking Rd metadata ... OK
* checking Rd cross-references ... OK
* checking for missing documentation entries ... OK
* checking for code/documentation mismatches ... OK
* checking Rd \usage sections ... OK
* checking Rd contents ... OK
* checking for unstated dependencies in examples ... OK
* checking sizes of PDF files under ‘inst/doc’ ... OK
* checking files in ‘vignettes’ ... OK
* checking examples ... OK
Examples with CPU or elapsed time > 5s
user system elapsed
meltingBatch 7.916 0.114 7.38
* checking for unstated dependencies in ‘tests’ ... OK
* checking tests ...
Running ‘testthat.R’
OK
* checking for unstated dependencies in vignettes ... OK
* checking package vignettes in ‘inst/doc’ ... OK
* checking running R code from vignettes ... SKIPPED
* checking re-building of vignette outputs ... SKIPPED
* checking PDF version of manual ... OK
* DONE
Status: OK
rmelting.Rcheck/00install.out
############################################################################## ############################################################################## ### ### Running command: ### ### /Library/Frameworks/R.framework/Versions/Current/Resources/bin/R CMD INSTALL rmelting ### ############################################################################## ############################################################################## * installing to library ‘/Library/Frameworks/R.framework/Versions/3.6/Resources/library’ * installing *source* package ‘rmelting’ ... ** R ** inst ** byte-compile and prepare package for lazy loading ** help Loading required namespace: rmelting *** installing help indices ** building package indices ** installing vignettes ** testing if installed package can be loaded * DONE (rmelting)
rmelting.Rcheck/tests/testthat.Rout
R Under development (unstable) (2018-11-27 r75683) -- "Unsuffered Consequences"
Copyright (C) 2018 The R Foundation for Statistical Computing
Platform: x86_64-apple-darwin15.6.0 (64-bit)
R is free software and comes with ABSOLUTELY NO WARRANTY.
You are welcome to redistribute it under certain conditions.
Type 'license()' or 'licence()' for distribution details.
R is a collaborative project with many contributors.
Type 'contributors()' for more information and
'citation()' on how to cite R or R packages in publications.
Type 'demo()' for some demos, 'help()' for on-line help, or
'help.start()' for an HTML browser interface to help.
Type 'q()' to quit R.
> library(testthat)
> library(rmelting)
--------------------------------------------------------------------------------
Welcome to rmelting version 0.99.7
# To know how to use this package type:
browseVignettes(package = 'rmelting')
for the package vignette.
# To know whats new in this version type:
news(package='rmelting')
for the NEWS file.
# To cite the methods in the package type:
citation(package='rmelting')
# To suppress this message use:
suppressPackageStartupMessages(library(rmelting))
--------------------------------------------------------------------------------
>
> test_check("rmelting")
══ testthat results ═══════════════════════════════════════════════════════════
OK: 135 SKIPPED: 0 FAILED: 0
>
> proc.time()
user system elapsed
33.017 0.648 31.835
rmelting.Rcheck/rmelting-Ex.timings
| name | user | system | elapsed | |
| melting | 0.599 | 0.057 | 0.421 | |
| meltingBatch | 7.916 | 0.114 | 7.380 | |
| withWE | 0.001 | 0.000 | 0.001 | |