| Back to Multiple platform build/check report for BioC 3.9 |
|
This page was generated on 2019-10-16 12:30:22 -0400 (Wed, 16 Oct 2019).
| Package 1378/1741 | Hostname | OS / Arch | INSTALL | BUILD | CHECK | BUILD BIN | ||||||
| riboSeqR 1.18.0 Thomas J. Hardcastle
| malbec2 | Linux (Ubuntu 18.04.2 LTS) / x86_64 | OK | OK | OK | |||||||
| tokay2 | Windows Server 2012 R2 Standard / x64 | [ OK ] | OK | OK | OK | |||||||
| celaya2 | OS X 10.11.6 El Capitan / x86_64 | OK | OK | OK | OK |
| Package: riboSeqR |
| Version: 1.18.0 |
| Command: C:\cygwin\bin\curl.exe -O https://malbec2.bioconductor.org/BBS/3.9/bioc/src/contrib/riboSeqR_1.18.0.tar.gz && rm -rf riboSeqR.buildbin-libdir && mkdir riboSeqR.buildbin-libdir && C:\Users\biocbuild\bbs-3.9-bioc\R\bin\R.exe CMD INSTALL --merge-multiarch --build --library=riboSeqR.buildbin-libdir riboSeqR_1.18.0.tar.gz && C:\Users\biocbuild\bbs-3.9-bioc\R\bin\R.exe CMD INSTALL riboSeqR_1.18.0.zip && rm riboSeqR_1.18.0.tar.gz riboSeqR_1.18.0.zip |
| StartedAt: 2019-10-15 20:17:16 -0400 (Tue, 15 Oct 2019) |
| EndedAt: 2019-10-15 20:18:17 -0400 (Tue, 15 Oct 2019) |
| EllapsedTime: 61.8 seconds |
| RetCode: 0 |
| Status: OK |
##############################################################################
##############################################################################
###
### Running command:
###
### C:\cygwin\bin\curl.exe -O https://malbec2.bioconductor.org/BBS/3.9/bioc/src/contrib/riboSeqR_1.18.0.tar.gz && rm -rf riboSeqR.buildbin-libdir && mkdir riboSeqR.buildbin-libdir && C:\Users\biocbuild\bbs-3.9-bioc\R\bin\R.exe CMD INSTALL --merge-multiarch --build --library=riboSeqR.buildbin-libdir riboSeqR_1.18.0.tar.gz && C:\Users\biocbuild\bbs-3.9-bioc\R\bin\R.exe CMD INSTALL riboSeqR_1.18.0.zip && rm riboSeqR_1.18.0.tar.gz riboSeqR_1.18.0.zip
###
##############################################################################
##############################################################################
% Total % Received % Xferd Average Speed Time Time Time Current
Dload Upload Total Spent Left Speed
0 0 0 0 0 0 0 0 --:--:-- --:--:-- --:--:-- 0
100 3548k 100 3548k 0 0 37.0M 0 --:--:-- --:--:-- --:--:-- 40.2M
install for i386
* installing *source* package 'riboSeqR' ...
** using staged installation
** R
** inst
** byte-compile and prepare package for lazy loading
** help
*** installing help indices
converting help for package 'riboSeqR'
finding HTML links ... done
filterHits html
findCDS html
frameCounting html
frameShift html
lengthDist html
libScales html
logoContext html
plotCDS html
plotTranscript html
readRibodata html
riboCoding-class html
riboData-class html
riboSeqR-package html
rnaCounts html
sliceCounts html
** building package indices
** installing vignettes
** testing if installed package can be loaded from temporary location
** testing if installed package can be loaded from final location
** testing if installed package keeps a record of temporary installation path
install for x64
* installing *source* package 'riboSeqR' ...
** testing if installed package can be loaded
* MD5 sums
packaged installation of 'riboSeqR' as riboSeqR_1.18.0.zip
* DONE (riboSeqR)
* installing to library 'C:/Users/biocbuild/bbs-3.9-bioc/R/library'
package 'riboSeqR' successfully unpacked and MD5 sums checked