| Back to Multiple platform build/check report for BioC 3.9 |
|
This page was generated on 2019-10-16 12:39:01 -0400 (Wed, 16 Oct 2019).
| Package 1360/1741 | Hostname | OS / Arch | INSTALL | BUILD | CHECK | BUILD BIN | ||||||
| rexposome 1.6.0 Carles Hernandez-Ferrer
| malbec2 | Linux (Ubuntu 18.04.2 LTS) / x86_64 | OK | OK | OK | |||||||
| tokay2 | Windows Server 2012 R2 Standard / x64 | OK | OK | OK | [ OK ] | |||||||
| celaya2 | OS X 10.11.6 El Capitan / x86_64 | OK | OK | OK | OK |
| Package: rexposome |
| Version: 1.6.0 |
| Command: rm -rf rexposome.buildbin-libdir && mkdir rexposome.buildbin-libdir && C:\Users\biocbuild\bbs-3.9-bioc\R\bin\R.exe CMD INSTALL --merge-multiarch --build --library=rexposome.buildbin-libdir rexposome_1.6.0.tar.gz |
| StartedAt: 2019-10-16 10:03:30 -0400 (Wed, 16 Oct 2019) |
| EndedAt: 2019-10-16 10:04:18 -0400 (Wed, 16 Oct 2019) |
| EllapsedTime: 48.3 seconds |
| RetCode: 0 |
| Status: OK |
| PackageFile: rexposome_1.6.0.zip |
| PackageFileSize: 5.631 MiB |
##############################################################################
##############################################################################
###
### Running command:
###
### rm -rf rexposome.buildbin-libdir && mkdir rexposome.buildbin-libdir && C:\Users\biocbuild\bbs-3.9-bioc\R\bin\R.exe CMD INSTALL --merge-multiarch --build --library=rexposome.buildbin-libdir rexposome_1.6.0.tar.gz
###
##############################################################################
##############################################################################
install for i386
* installing *source* package 'rexposome' ...
** using staged installation
** R
** data
*** moving datasets to lazyload DB
** inst
** byte-compile and prepare package for lazy loading
** help
*** installing help indices
converting help for package 'rexposome'
finding HTML links ... done
ExWAS-class html
ExposomeClust-class html
ExposomeCorr-class html
finding level-2 HTML links ... done
ExposomePCA-class html
ExposomeSet-class html
classification-methods html
clustering-methods html
correlation-methods html
ex_imp html
expo html
expo_c html
expos-methods html
exposureNames-methods html
extract-methods html
exwas-methods html
familyNames-methods html
highAndLow-methods html
ilod-methods html
imExposomeSet-class html
imputation-methods html
imputeLOD html
loadExposome html
loadImputed html
mExWAS-class html
me html
mexwas-methods html
ndim-methods html
normalityTest-methods html
pca-methods html
phenotypeNames-methods html
plot3PCA-methods html
plotClassification-methods html
plotCorrelation-methods html
plotEXP-methods html
plotEffect-methods html
plotExwas-methods html
plotFamily-methods html
plotHistogram-methods html
plotLOD-methods html
plotMissings-methods html
plotPCA-methods html
plotPHE-methods html
plotVolcano-methods html
readExposome html
rexposome html
standardize-methods html
tableLOD-methods html
tableMissings-methods html
tef-methods html
toES html
trans-methods html
volcano_plot html
** building package indices
** installing vignettes
** testing if installed package can be loaded from temporary location
** testing if installed package can be loaded from final location
** testing if installed package keeps a record of temporary installation path
install for x64
* installing *source* package 'rexposome' ...
** testing if installed package can be loaded
* MD5 sums
packaged installation of 'rexposome' as rexposome_1.6.0.zip
* DONE (rexposome)