| Back to Multiple platform build/check report for BioC 3.9 | 
 | 
This page was generated on 2019-10-16 12:25:14 -0400 (Wed, 16 Oct 2019).
| Package 1310/1741 | Hostname | OS / Arch | INSTALL | BUILD | CHECK | BUILD BIN | ||||||
| randPack 1.30.0 Robert Gentleman 
 | malbec2 | Linux (Ubuntu 18.04.2 LTS) / x86_64 | OK | OK | OK |  | ||||||
| tokay2 | Windows Server 2012 R2 Standard / x64 | [ OK ] | OK | OK | OK |  | ||||||
| celaya2 | OS X 10.11.6 El Capitan / x86_64 | OK | OK | OK | OK |  | 
| Package: randPack | 
| Version: 1.30.0 | 
| Command: C:\cygwin\bin\curl.exe -O https://malbec2.bioconductor.org/BBS/3.9/bioc/src/contrib/randPack_1.30.0.tar.gz && rm -rf randPack.buildbin-libdir && mkdir randPack.buildbin-libdir && C:\Users\biocbuild\bbs-3.9-bioc\R\bin\R.exe CMD INSTALL --merge-multiarch --build --library=randPack.buildbin-libdir randPack_1.30.0.tar.gz && C:\Users\biocbuild\bbs-3.9-bioc\R\bin\R.exe CMD INSTALL randPack_1.30.0.zip && rm randPack_1.30.0.tar.gz randPack_1.30.0.zip | 
| StartedAt: 2019-10-15 18:49:42 -0400 (Tue, 15 Oct 2019) | 
| EndedAt: 2019-10-15 18:50:11 -0400 (Tue, 15 Oct 2019) | 
| EllapsedTime: 29.8 seconds | 
| RetCode: 0 | 
| Status: OK | 
##############################################################################
##############################################################################
###
### Running command:
###
###   C:\cygwin\bin\curl.exe -O https://malbec2.bioconductor.org/BBS/3.9/bioc/src/contrib/randPack_1.30.0.tar.gz && rm -rf randPack.buildbin-libdir && mkdir randPack.buildbin-libdir && C:\Users\biocbuild\bbs-3.9-bioc\R\bin\R.exe CMD INSTALL --merge-multiarch --build --library=randPack.buildbin-libdir randPack_1.30.0.tar.gz && C:\Users\biocbuild\bbs-3.9-bioc\R\bin\R.exe CMD INSTALL randPack_1.30.0.zip && rm randPack_1.30.0.tar.gz randPack_1.30.0.zip
###
##############################################################################
##############################################################################
  % Total    % Received % Xferd  Average Speed   Time    Time     Time  Current
                                 Dload  Upload   Total   Spent    Left  Speed
  0     0    0     0    0     0      0      0 --:--:-- --:--:-- --:--:--     0
100 27349  100 27349    0     0   470k      0 --:--:-- --:--:-- --:--:--  534k
install for i386
* installing *source* package 'randPack' ...
** using staged installation
** R
** data
** inst
** byte-compile and prepare package for lazy loading
** help
*** installing help indices
  converting help for package 'randPack'
    finding HTML links ... done
    CT1                                     html  
    ClinicalExperiment-class                html  
    ClinicalTrial-class                     html  
    PatientData-class                       html  
    PatientID-class                         html  
    Randomizer-class                        html  
    SampleData                              html  
    createTrial                             html  
    getEnrolleeInfo                         html  
    getTreatment                            html  
    makeRandomizer                          html  
    minimizePocSim                          html  
    simPats                                 html  
    treatmentNames                          html  
** building package indices
** installing vignettes
** testing if installed package can be loaded from temporary location
** testing if installed package can be loaded from final location
** testing if installed package keeps a record of temporary installation path
install for x64
* installing *source* package 'randPack' ...
** testing if installed package can be loaded
* MD5 sums
packaged installation of 'randPack' as randPack_1.30.0.zip
* DONE (randPack)
* installing to library 'C:/Users/biocbuild/bbs-3.9-bioc/R/library'
package 'randPack' successfully unpacked and MD5 sums checked