| Back to Multiple platform build/check report for BioC 3.9 |
|
This page was generated on 2019-10-16 12:50:45 -0400 (Wed, 16 Oct 2019).
| Package 1424/1741 | Hostname | OS / Arch | INSTALL | BUILD | CHECK | BUILD BIN | ||||||
Matt Settles
| malbec2 | Linux (Ubuntu 18.04.2 LTS) / x86_64 | ERROR | ERROR | skipped | |||||||
| tokay2 | Windows Server 2012 R2 Standard / x64 | ...NOT SUPPORTED... | ||||||||||
| celaya2 | OS X 10.11.6 El Capitan / x86_64 | [ ERROR ] | ERROR | skipped | skipped | |||||||
| Package: rSFFreader |
| Version: 0.32.0 |
| Command: /Library/Frameworks/R.framework/Versions/Current/Resources/bin/R CMD INSTALL rSFFreader |
| StartedAt: 2019-10-15 18:59:11 -0400 (Tue, 15 Oct 2019) |
| EndedAt: 2019-10-15 18:59:16 -0400 (Tue, 15 Oct 2019) |
| EllapsedTime: 5.2 seconds |
| RetCode: 1 |
| Status: ERROR |
##############################################################################
##############################################################################
###
### Running command:
###
### /Library/Frameworks/R.framework/Versions/Current/Resources/bin/R CMD INSTALL rSFFreader
###
##############################################################################
##############################################################################
* installing to library ‘/Library/Frameworks/R.framework/Versions/3.6/Resources/library’
* installing *source* package ‘rSFFreader’ ...
** using staged installation
** libs
clang -I"/Library/Frameworks/R.framework/Resources/include" -DNDEBUG -I"/Library/Frameworks/R.framework/Versions/3.6/Resources/library/S4Vectors/include" -I"/Library/Frameworks/R.framework/Versions/3.6/Resources/library/IRanges/include" -I"/Library/Frameworks/R.framework/Versions/3.6/Resources/library/XVector/include" -I"/Library/Frameworks/R.framework/Versions/3.6/Resources/library/Biostrings/include" -isysroot /Library/Developer/CommandLineTools/SDKs/MacOSX.sdk -I/usr/local/include -fPIC -Wall -g -O2 -c Biostrings_stubs.c -o Biostrings_stubs.o
clang -I"/Library/Frameworks/R.framework/Resources/include" -DNDEBUG -I"/Library/Frameworks/R.framework/Versions/3.6/Resources/library/S4Vectors/include" -I"/Library/Frameworks/R.framework/Versions/3.6/Resources/library/IRanges/include" -I"/Library/Frameworks/R.framework/Versions/3.6/Resources/library/XVector/include" -I"/Library/Frameworks/R.framework/Versions/3.6/Resources/library/Biostrings/include" -isysroot /Library/Developer/CommandLineTools/SDKs/MacOSX.sdk -I/usr/local/include -fPIC -Wall -g -O2 -c IRanges_stubs.c -o IRanges_stubs.o
clang -I"/Library/Frameworks/R.framework/Resources/include" -DNDEBUG -I"/Library/Frameworks/R.framework/Versions/3.6/Resources/library/S4Vectors/include" -I"/Library/Frameworks/R.framework/Versions/3.6/Resources/library/IRanges/include" -I"/Library/Frameworks/R.framework/Versions/3.6/Resources/library/XVector/include" -I"/Library/Frameworks/R.framework/Versions/3.6/Resources/library/Biostrings/include" -isysroot /Library/Developer/CommandLineTools/SDKs/MacOSX.sdk -I/usr/local/include -fPIC -Wall -g -O2 -c R_init_rSFFreader.c -o R_init_rSFFreader.o
clang -I"/Library/Frameworks/R.framework/Resources/include" -DNDEBUG -I"/Library/Frameworks/R.framework/Versions/3.6/Resources/library/S4Vectors/include" -I"/Library/Frameworks/R.framework/Versions/3.6/Resources/library/IRanges/include" -I"/Library/Frameworks/R.framework/Versions/3.6/Resources/library/XVector/include" -I"/Library/Frameworks/R.framework/Versions/3.6/Resources/library/Biostrings/include" -isysroot /Library/Developer/CommandLineTools/SDKs/MacOSX.sdk -I/usr/local/include -fPIC -Wall -g -O2 -c S4Vectors_stubs.c -o S4Vectors_stubs.o
clang -I"/Library/Frameworks/R.framework/Resources/include" -DNDEBUG -I"/Library/Frameworks/R.framework/Versions/3.6/Resources/library/S4Vectors/include" -I"/Library/Frameworks/R.framework/Versions/3.6/Resources/library/IRanges/include" -I"/Library/Frameworks/R.framework/Versions/3.6/Resources/library/XVector/include" -I"/Library/Frameworks/R.framework/Versions/3.6/Resources/library/Biostrings/include" -isysroot /Library/Developer/CommandLineTools/SDKs/MacOSX.sdk -I/usr/local/include -fPIC -Wall -g -O2 -c SFF-io.c -o SFF-io.o
clang -I"/Library/Frameworks/R.framework/Resources/include" -DNDEBUG -I"/Library/Frameworks/R.framework/Versions/3.6/Resources/library/S4Vectors/include" -I"/Library/Frameworks/R.framework/Versions/3.6/Resources/library/IRanges/include" -I"/Library/Frameworks/R.framework/Versions/3.6/Resources/library/XVector/include" -I"/Library/Frameworks/R.framework/Versions/3.6/Resources/library/Biostrings/include" -isysroot /Library/Developer/CommandLineTools/SDKs/MacOSX.sdk -I/usr/local/include -fPIC -Wall -g -O2 -c XVector_stubs.c -o XVector_stubs.o
clang -dynamiclib -Wl,-headerpad_max_install_names -undefined dynamic_lookup -single_module -multiply_defined suppress -L/Library/Frameworks/R.framework/Resources/lib -L/usr/local/lib -o rSFFreader.so Biostrings_stubs.o IRanges_stubs.o R_init_rSFFreader.o S4Vectors_stubs.o SFF-io.o XVector_stubs.o -F/Library/Frameworks/R.framework/.. -framework R -Wl,-framework -Wl,CoreFoundation
installing to /Library/Frameworks/R.framework/Versions/3.6/Resources/library/00LOCK-rSFFreader/00new/rSFFreader/libs
** R
Error in .install_package_code_files(".", instdir) :
files in '/Users/biocbuild/bbs-3.9-bioc/meat/rSFFreader/R' missing from 'Collate' field:
zzz.R
ERROR: unable to collate and parse R files for package ‘rSFFreader’
* removing ‘/Library/Frameworks/R.framework/Versions/3.6/Resources/library/rSFFreader’