| Back to Multiple platform build/check report for BioC 3.9 |
|
This page was generated on 2019-10-16 12:43:49 -0400 (Wed, 16 Oct 2019).
| Package 1290/1741 | Hostname | OS / Arch | INSTALL | BUILD | CHECK | BUILD BIN | ||||||
| qsmooth 1.0.0 Stephanie C. Hicks
| malbec2 | Linux (Ubuntu 18.04.2 LTS) / x86_64 | OK | OK | OK | |||||||
| tokay2 | Windows Server 2012 R2 Standard / x64 | OK | OK | [ OK ] | OK | |||||||
| celaya2 | OS X 10.11.6 El Capitan / x86_64 | OK | OK | OK | OK |
| Package: qsmooth |
| Version: 1.0.0 |
| Command: C:\Users\biocbuild\bbs-3.9-bioc\R\bin\R.exe CMD check --force-multiarch --install=check:qsmooth.install-out.txt --library=C:\Users\biocbuild\bbs-3.9-bioc\R\library --no-vignettes --timings qsmooth_1.0.0.tar.gz |
| StartedAt: 2019-10-16 06:16:20 -0400 (Wed, 16 Oct 2019) |
| EndedAt: 2019-10-16 06:19:56 -0400 (Wed, 16 Oct 2019) |
| EllapsedTime: 216.4 seconds |
| RetCode: 0 |
| Status: OK |
| CheckDir: qsmooth.Rcheck |
| Warnings: 0 |
############################################################################## ############################################################################## ### ### Running command: ### ### C:\Users\biocbuild\bbs-3.9-bioc\R\bin\R.exe CMD check --force-multiarch --install=check:qsmooth.install-out.txt --library=C:\Users\biocbuild\bbs-3.9-bioc\R\library --no-vignettes --timings qsmooth_1.0.0.tar.gz ### ############################################################################## ############################################################################## * using log directory 'C:/Users/biocbuild/bbs-3.9-bioc/meat/qsmooth.Rcheck' * using R version 3.6.1 (2019-07-05) * using platform: x86_64-w64-mingw32 (64-bit) * using session charset: ISO8859-1 * using option '--no-vignettes' * checking for file 'qsmooth/DESCRIPTION' ... OK * this is package 'qsmooth' version '1.0.0' * package encoding: UTF-8 * checking package namespace information ... OK * checking package dependencies ... OK * checking if this is a source package ... OK * checking if there is a namespace ... OK * checking for hidden files and directories ... OK * checking for portable file names ... OK * checking whether package 'qsmooth' can be installed ... OK * checking installed package size ... OK * checking package directory ... OK * checking 'build' directory ... OK * checking DESCRIPTION meta-information ... OK * checking top-level files ... OK * checking for left-over files ... OK * checking index information ... OK * checking package subdirectories ... OK * checking R files for non-ASCII characters ... OK * checking R files for syntax errors ... OK * loading checks for arch 'i386' ** checking whether the package can be loaded ... OK ** checking whether the package can be loaded with stated dependencies ... OK ** checking whether the package can be unloaded cleanly ... OK ** checking whether the namespace can be loaded with stated dependencies ... OK ** checking whether the namespace can be unloaded cleanly ... OK * loading checks for arch 'x64' ** checking whether the package can be loaded ... OK ** checking whether the package can be loaded with stated dependencies ... OK ** checking whether the package can be unloaded cleanly ... OK ** checking whether the namespace can be loaded with stated dependencies ... OK ** checking whether the namespace can be unloaded cleanly ... OK * checking dependencies in R code ... OK * checking S3 generic/method consistency ... OK * checking replacement functions ... OK * checking foreign function calls ... OK * checking R code for possible problems ... OK * checking Rd files ... OK * checking Rd metadata ... OK * checking Rd cross-references ... OK * checking for missing documentation entries ... OK * checking for code/documentation mismatches ... OK * checking Rd \usage sections ... OK * checking Rd contents ... OK * checking for unstated dependencies in examples ... OK * checking files in 'vignettes' ... OK * checking examples ... ** running examples for arch 'i386' ... OK ** running examples for arch 'x64' ... OK * checking for unstated dependencies in 'tests' ... OK * checking tests ... ** running tests for arch 'i386' ... Running 'testthat.R' OK ** running tests for arch 'x64' ... Running 'testthat.R' OK * checking for unstated dependencies in vignettes ... OK * checking package vignettes in 'inst/doc' ... OK * checking running R code from vignettes ... SKIPPED * checking re-building of vignette outputs ... SKIPPED * checking PDF version of manual ... OK * DONE Status: OK
qsmooth.Rcheck/00install.out
##############################################################################
##############################################################################
###
### Running command:
###
### C:\cygwin\bin\curl.exe -O https://malbec2.bioconductor.org/BBS/3.9/bioc/src/contrib/qsmooth_1.0.0.tar.gz && rm -rf qsmooth.buildbin-libdir && mkdir qsmooth.buildbin-libdir && C:\Users\biocbuild\bbs-3.9-bioc\R\bin\R.exe CMD INSTALL --merge-multiarch --build --library=qsmooth.buildbin-libdir qsmooth_1.0.0.tar.gz && C:\Users\biocbuild\bbs-3.9-bioc\R\bin\R.exe CMD INSTALL qsmooth_1.0.0.zip && rm qsmooth_1.0.0.tar.gz qsmooth_1.0.0.zip
###
##############################################################################
##############################################################################
% Total % Received % Xferd Average Speed Time Time Time Current
Dload Upload Total Spent Left Speed
0 0 0 0 0 0 0 0 --:--:-- --:--:-- --:--:-- 0
100 87124 100 87124 0 0 1456k 0 --:--:-- --:--:-- --:--:-- 1668k
install for i386
* installing *source* package 'qsmooth' ...
** using staged installation
** R
** inst
** byte-compile and prepare package for lazy loading
** help
*** installing help indices
converting help for package 'qsmooth'
finding HTML links ... done
qsmooth-class html
qsmooth html
qsmoothData html
qsmoothPlotWeights html
qsmoothWeights html
qstats html
** building package indices
** installing vignettes
** testing if installed package can be loaded from temporary location
** testing if installed package can be loaded from final location
** testing if installed package keeps a record of temporary installation path
install for x64
* installing *source* package 'qsmooth' ...
** testing if installed package can be loaded
* MD5 sums
packaged installation of 'qsmooth' as qsmooth_1.0.0.zip
* DONE (qsmooth)
* installing to library 'C:/Users/biocbuild/bbs-3.9-bioc/R/library'
package 'qsmooth' successfully unpacked and MD5 sums checked
|
qsmooth.Rcheck/tests_i386/testthat.Rout
R version 3.6.1 (2019-07-05) -- "Action of the Toes"
Copyright (C) 2019 The R Foundation for Statistical Computing
Platform: i386-w64-mingw32/i386 (32-bit)
R is free software and comes with ABSOLUTELY NO WARRANTY.
You are welcome to redistribute it under certain conditions.
Type 'license()' or 'licence()' for distribution details.
R is a collaborative project with many contributors.
Type 'contributors()' for more information and
'citation()' on how to cite R or R packages in publications.
Type 'demo()' for some demos, 'help()' for on-line help, or
'help.start()' for an HTML browser interface to help.
Type 'q()' to quit R.
> library(testthat)
> context("checking the qsmooth function")
>
> library(qsmooth)
>
> test_that("checking dimensions of qsmooth object", {
+ n_genes <- 1000
+ n_samples <- 10
+ set.seed(1234)
+ x <- matrix(rnorm(n_genes*n_samples), n_genes, n_samples)
+ group_factor <- rep(c(1,2),each=5)
+ qs_norm <- qsmooth(object = x,
+ group_factor = group_factor)
+
+ expect_equal(length(qsmoothWeights(qs_norm)), n_genes)
+ expect_equal(nrow(qsmoothData(qs_norm)), n_genes)
+ expect_equal(ncol(qsmoothData(qs_norm)), n_samples)
+ })
>
> test_that("checking qsmooth normalized data", {
+ n_genes <- 1000
+ n_samples <- 10
+ set.seed(1234)
+ x <- matrix(rnorm(n_genes*n_samples), n_genes, n_samples)
+ group_factor <- rep(c(1,2),each=5)
+ qs_norm <- qsmooth(object = x, group_factor = group_factor)
+ expect_equal(qsmoothData(qs_norm)[1,1], -1.25856, tolerance = .0001)
+ expect_equal(qsmoothWeights(qs_norm)[1], 0.97495, tolerance = .0001)
+ })
>
> proc.time()
user system elapsed
7.40 0.62 8.01
|
qsmooth.Rcheck/tests_x64/testthat.Rout
R version 3.6.1 (2019-07-05) -- "Action of the Toes"
Copyright (C) 2019 The R Foundation for Statistical Computing
Platform: x86_64-w64-mingw32/x64 (64-bit)
R is free software and comes with ABSOLUTELY NO WARRANTY.
You are welcome to redistribute it under certain conditions.
Type 'license()' or 'licence()' for distribution details.
R is a collaborative project with many contributors.
Type 'contributors()' for more information and
'citation()' on how to cite R or R packages in publications.
Type 'demo()' for some demos, 'help()' for on-line help, or
'help.start()' for an HTML browser interface to help.
Type 'q()' to quit R.
> library(testthat)
> context("checking the qsmooth function")
>
> library(qsmooth)
>
> test_that("checking dimensions of qsmooth object", {
+ n_genes <- 1000
+ n_samples <- 10
+ set.seed(1234)
+ x <- matrix(rnorm(n_genes*n_samples), n_genes, n_samples)
+ group_factor <- rep(c(1,2),each=5)
+ qs_norm <- qsmooth(object = x,
+ group_factor = group_factor)
+
+ expect_equal(length(qsmoothWeights(qs_norm)), n_genes)
+ expect_equal(nrow(qsmoothData(qs_norm)), n_genes)
+ expect_equal(ncol(qsmoothData(qs_norm)), n_samples)
+ })
>
> test_that("checking qsmooth normalized data", {
+ n_genes <- 1000
+ n_samples <- 10
+ set.seed(1234)
+ x <- matrix(rnorm(n_genes*n_samples), n_genes, n_samples)
+ group_factor <- rep(c(1,2),each=5)
+ qs_norm <- qsmooth(object = x, group_factor = group_factor)
+ expect_equal(qsmoothData(qs_norm)[1,1], -1.25856, tolerance = .0001)
+ expect_equal(qsmoothWeights(qs_norm)[1], 0.97495, tolerance = .0001)
+ })
>
> proc.time()
user system elapsed
7.42 0.34 7.75
|
|
qsmooth.Rcheck/examples_i386/qsmooth-Ex.timings
|
qsmooth.Rcheck/examples_x64/qsmooth-Ex.timings
|