| Back to Multiple platform build/check report for BioC 3.9 |
|
This page was generated on 2019-10-16 13:02:49 -0400 (Wed, 16 Oct 2019).
| Package 1287/1741 | Hostname | OS / Arch | INSTALL | BUILD | CHECK | BUILD BIN | ||||||
| qPLEXanalyzer 1.2.0 Ashley Sawle
| malbec2 | Linux (Ubuntu 18.04.2 LTS) / x86_64 | OK | OK | OK | |||||||
| tokay2 | Windows Server 2012 R2 Standard / x64 | OK | OK | OK | OK | |||||||
| celaya2 | OS X 10.11.6 El Capitan / x86_64 | OK | OK | [ OK ] | OK |
| Package: qPLEXanalyzer |
| Version: 1.2.0 |
| Command: /Library/Frameworks/R.framework/Versions/Current/Resources/bin/R CMD check --install=check:qPLEXanalyzer.install-out.txt --library=/Library/Frameworks/R.framework/Versions/Current/Resources/library --no-vignettes --timings qPLEXanalyzer_1.2.0.tar.gz |
| StartedAt: 2019-10-16 05:53:12 -0400 (Wed, 16 Oct 2019) |
| EndedAt: 2019-10-16 05:57:22 -0400 (Wed, 16 Oct 2019) |
| EllapsedTime: 250.1 seconds |
| RetCode: 0 |
| Status: OK |
| CheckDir: qPLEXanalyzer.Rcheck |
| Warnings: 0 |
##############################################################################
##############################################################################
###
### Running command:
###
### /Library/Frameworks/R.framework/Versions/Current/Resources/bin/R CMD check --install=check:qPLEXanalyzer.install-out.txt --library=/Library/Frameworks/R.framework/Versions/Current/Resources/library --no-vignettes --timings qPLEXanalyzer_1.2.0.tar.gz
###
##############################################################################
##############################################################################
* using log directory ‘/Users/biocbuild/bbs-3.9-bioc/meat/qPLEXanalyzer.Rcheck’
* using R version 3.6.1 (2019-07-05)
* using platform: x86_64-apple-darwin15.6.0 (64-bit)
* using session charset: UTF-8
* using option ‘--no-vignettes’
* checking for file ‘qPLEXanalyzer/DESCRIPTION’ ... OK
* checking extension type ... Package
* this is package ‘qPLEXanalyzer’ version ‘1.2.0’
* checking package namespace information ... OK
* checking package dependencies ... OK
* checking if this is a source package ... OK
* checking if there is a namespace ... OK
* checking for hidden files and directories ... OK
* checking for portable file names ... OK
* checking for sufficient/correct file permissions ... OK
* checking whether package ‘qPLEXanalyzer’ can be installed ... OK
* checking installed package size ... OK
* checking package directory ... OK
* checking ‘build’ directory ... OK
* checking DESCRIPTION meta-information ... OK
* checking top-level files ... OK
* checking for left-over files ... OK
* checking index information ... OK
* checking package subdirectories ... OK
* checking R files for non-ASCII characters ... OK
* checking R files for syntax errors ... OK
* checking whether the package can be loaded ... OK
* checking whether the package can be loaded with stated dependencies ... OK
* checking whether the package can be unloaded cleanly ... OK
* checking whether the namespace can be loaded with stated dependencies ... OK
* checking whether the namespace can be unloaded cleanly ... OK
* checking dependencies in R code ... OK
* checking S3 generic/method consistency ... OK
* checking replacement functions ... OK
* checking foreign function calls ... OK
* checking R code for possible problems ... NOTE
convertToMSnset: no visible binding for global variable ‘.’
corrPlot: no visible binding for global variable ‘Cor’
corrPlot: no visible binding for global variable ‘X’
corrPlot: no visible binding for global variable ‘Y’
corrPlot: no visible binding for global variable ‘CorTxt’
coveragePlot: no visible binding for global variable ‘Accessions’
coveragePlot: no visible binding for global variable ‘Sequence’
coveragePlot: no visible binding for global variable ‘.’
getContrastResults: no visible binding for global variable ‘B’
getContrastResults: no visible binding for global variable ‘.’
getContrastResults: no visible binding for global variable ‘AveExpr’
getContrastResults: no visible binding for global variable ‘logFC’
groupScaling: no visible binding for global variable ‘PeptideID’
groupScaling: no visible binding for global variable ‘SampleName’
groupScaling: no visible binding for global variable ‘RawIntensity’
groupScaling: no visible binding for global variable ‘Grouping_column’
groupScaling: no visible binding for global variable ‘scaledIntensity’
groupScaling: no visible binding for global variable
‘meanscaledIntensity’
groupScaling: no visible binding for global variable ‘scalingFactors’
groupScaling: no visible binding for global variable
‘normalizedIntensities’
hierarchicalPlot: no visible binding for global variable ‘x’
hierarchicalPlot: no visible binding for global variable ‘y’
hierarchicalPlot: no visible binding for global variable ‘xend’
hierarchicalPlot: no visible binding for global variable ‘yend’
intensityBoxplot: no visible binding for global variable ‘Intensity’
intensityBoxplot: no visible binding for global variable ‘logInt’
intensityPlot: no visible binding for global variable ‘SampleName’
intensityPlot: no visible binding for global variable ‘Intensity’
maVolPlot: no visible binding for global variable
‘controlLogFoldChange’
maVolPlot: no visible binding for global variable ‘.’
maVolPlot: no visible binding for global variable ‘Accessions’
maVolPlot: no visible binding for global variable ‘group’
maVolPlot: no visible binding for global variable ‘adj.P.Val’
maVolPlot: no visible binding for global variable ‘GeneSymbol’
peptideIntensityPlot: no visible binding for global variable
‘SampleName’
peptideIntensityPlot: no visible binding for global variable
‘Intensity’
peptideIntensityPlot: no visible binding for global variable
‘PeptideID’
peptideIntensityPlot: no visible binding for global variable
‘Accessions’
peptideIntensityPlot: no visible binding for global variable
‘Sequences’
peptideIntensityPlot: no visible binding for global variable
‘Modifications’
peptideIntensityPlot: no visible binding for global variable
‘logIntensity’
plotMeanVar: no visible binding for global variable ‘x’
plotMeanVar: no visible binding for global variable ‘y’
plotMeanVar: no visible binding for global variable ‘Mean’
plotMeanVar: no visible binding for global variable ‘Variance’
rliPlot: no visible binding for global variable ‘RowID’
rliPlot: no visible binding for global variable ‘Intensity’
rliPlot: no visible binding for global variable ‘logInt’
rliPlot: no visible binding for global variable ‘medianLogInt’
summarizeIntensities: no visible binding for global variable
‘Accessions’
summarizeIntensities: no visible binding for global variable
‘Sequences’
summarizeIntensities: no visible binding for global variable ‘Count’
Undefined global functions or variables:
. Accessions AveExpr B Cor CorTxt Count GeneSymbol Grouping_column
Intensity Mean Modifications PeptideID RawIntensity RowID SampleName
Sequence Sequences Variance X Y adj.P.Val controlLogFoldChange group
logFC logInt logIntensity meanscaledIntensity medianLogInt
normalizedIntensities scaledIntensity scalingFactors x xend y yend
* checking Rd files ... OK
* checking Rd metadata ... OK
* checking Rd cross-references ... OK
* checking for missing documentation entries ... OK
* checking for code/documentation mismatches ... OK
* checking Rd \usage sections ... OK
* checking Rd contents ... OK
* checking for unstated dependencies in examples ... OK
* checking contents of ‘data’ directory ... OK
* checking data for non-ASCII characters ... OK
* checking data for ASCII and uncompressed saves ... OK
* checking sizes of PDF files under ‘inst/doc’ ... OK
* checking files in ‘vignettes’ ... OK
* checking examples ... OK
Examples with CPU or elapsed time > 5s
user system elapsed
rliPlot 4.791 0.253 5.046
* checking for unstated dependencies in vignettes ... OK
* checking package vignettes in ‘inst/doc’ ... OK
* checking running R code from vignettes ... SKIPPED
* checking re-building of vignette outputs ... SKIPPED
* checking PDF version of manual ... OK
* DONE
Status: 1 NOTE
See
‘/Users/biocbuild/bbs-3.9-bioc/meat/qPLEXanalyzer.Rcheck/00check.log’
for details.
qPLEXanalyzer.Rcheck/00install.out
############################################################################## ############################################################################## ### ### Running command: ### ### /Library/Frameworks/R.framework/Versions/Current/Resources/bin/R CMD INSTALL qPLEXanalyzer ### ############################################################################## ############################################################################## * installing to library ‘/Library/Frameworks/R.framework/Versions/3.6/Resources/library’ * installing *source* package ‘qPLEXanalyzer’ ... ** using staged installation ** R ** data ** inst ** byte-compile and prepare package for lazy loading ** help *** installing help indices ** building package indices ** installing vignettes ** testing if installed package can be loaded from temporary location ** testing if installed package can be loaded from final location ** testing if installed package keeps a record of temporary installation path * DONE (qPLEXanalyzer)
qPLEXanalyzer.Rcheck/qPLEXanalyzer-Ex.timings
| name | user | system | elapsed | |
| assignColours | 1.010 | 0.041 | 1.051 | |
| computeDiffStats | 0.692 | 0.061 | 0.753 | |
| convertToMSnset | 0.324 | 0.027 | 0.351 | |
| corrPlot | 1.154 | 0.082 | 1.237 | |
| coveragePlot | 1.406 | 0.157 | 1.566 | |
| getContrastResults | 1.322 | 0.080 | 1.403 | |
| groupScaling | 0.477 | 0.049 | 0.526 | |
| hierarchicalPlot | 0.655 | 0.036 | 0.693 | |
| intensityBoxplot | 2.513 | 0.180 | 2.694 | |
| intensityPlot | 2.592 | 0.187 | 2.780 | |
| maVolPlot | 1.851 | 0.105 | 1.956 | |
| normalizeQuantiles | 0.315 | 0.025 | 0.339 | |
| normalizeScaling | 0.367 | 0.054 | 0.421 | |
| pcaPlot | 1.437 | 0.046 | 1.483 | |
| peptideIntensityPlot | 1.000 | 0.077 | 1.078 | |
| plotMeanVar | 1.276 | 0.065 | 1.342 | |
| regressIntensity | 4.475 | 0.059 | 4.537 | |
| rliPlot | 4.791 | 0.253 | 5.046 | |
| rowScaling | 1.087 | 0.030 | 1.116 | |
| summarizeIntensities | 0.431 | 0.023 | 0.454 | |