| Back to Multiple platform build/check report for BioC 3.9 |
|
This page was generated on 2019-10-16 12:21:18 -0400 (Wed, 16 Oct 2019).
| Package 1275/1741 | Hostname | OS / Arch | INSTALL | BUILD | CHECK | BUILD BIN | ||||||
| puma 3.26.0 Xuejun Liu
| malbec2 | Linux (Ubuntu 18.04.2 LTS) / x86_64 | OK | OK | WARNINGS | |||||||
| tokay2 | Windows Server 2012 R2 Standard / x64 | OK | [ OK ] | WARNINGS | OK | |||||||
| celaya2 | OS X 10.11.6 El Capitan / x86_64 | OK | OK | WARNINGS | OK |
| Package: puma |
| Version: 3.26.0 |
| Command: chmod a+r puma -R && C:\Users\biocbuild\bbs-3.9-bioc\R\bin\R.exe CMD build --keep-empty-dirs --no-resave-data puma |
| StartedAt: 2019-10-15 21:34:56 -0400 (Tue, 15 Oct 2019) |
| EndedAt: 2019-10-15 21:37:17 -0400 (Tue, 15 Oct 2019) |
| EllapsedTime: 141.1 seconds |
| RetCode: 0 |
| Status: OK |
| PackageFile: puma_3.26.0.tar.gz |
| PackageFileSize: 3.218 MiB |
##############################################################################
##############################################################################
###
### Running command:
###
### chmod a+r puma -R && C:\Users\biocbuild\bbs-3.9-bioc\R\bin\R.exe CMD build --keep-empty-dirs --no-resave-data puma
###
##############################################################################
##############################################################################
* checking for file 'puma/DESCRIPTION' ... OK
* preparing 'puma':
* checking DESCRIPTION meta-information ... OK
* cleaning src
* installing the package to build vignettes
* creating vignettes ... OK
Warning: 'inst/doc' files
'puma.Rnw', 'puma.pdf'
ignored as vignettes have been rebuilt.
Run R CMD build with --no-build-vignettes to prevent rebuilding.
* cleaning src
* checking for LF line-endings in source and make files and shell scripts
* checking for empty or unneeded directories
* looking to see if a 'data/datalist' file should be added
* building 'puma_3.26.0.tar.gz'