| Back to Multiple platform build/check report for BioC 3.9 |
|
This page was generated on 2019-10-16 12:30:11 -0400 (Wed, 16 Oct 2019).
| Package 1269/1741 | Hostname | OS / Arch | INSTALL | BUILD | CHECK | BUILD BIN | ||||||
| proteoQC 1.20.0 Bo Wen
| malbec2 | Linux (Ubuntu 18.04.2 LTS) / x86_64 | OK | ERROR | skipped | |||||||
| tokay2 | Windows Server 2012 R2 Standard / x64 | [ OK ] | ERROR | skipped | skipped | |||||||
| celaya2 | OS X 10.11.6 El Capitan / x86_64 | OK | ERROR | skipped | skipped |
| Package: proteoQC |
| Version: 1.20.0 |
| Command: C:\cygwin\bin\curl.exe -O https://malbec2.bioconductor.org/BBS/3.9/bioc/src/contrib/proteoQC_1.20.0.tar.gz && rm -rf proteoQC.buildbin-libdir && mkdir proteoQC.buildbin-libdir && C:\Users\biocbuild\bbs-3.9-bioc\R\bin\R.exe CMD INSTALL --merge-multiarch --build --library=proteoQC.buildbin-libdir proteoQC_1.20.0.tar.gz && C:\Users\biocbuild\bbs-3.9-bioc\R\bin\R.exe CMD INSTALL proteoQC_1.20.0.zip && rm proteoQC_1.20.0.tar.gz proteoQC_1.20.0.zip |
| StartedAt: 2019-10-15 20:22:23 -0400 (Tue, 15 Oct 2019) |
| EndedAt: 2019-10-15 20:23:23 -0400 (Tue, 15 Oct 2019) |
| EllapsedTime: 60.4 seconds |
| RetCode: 0 |
| Status: OK |
##############################################################################
##############################################################################
###
### Running command:
###
### C:\cygwin\bin\curl.exe -O https://malbec2.bioconductor.org/BBS/3.9/bioc/src/contrib/proteoQC_1.20.0.tar.gz && rm -rf proteoQC.buildbin-libdir && mkdir proteoQC.buildbin-libdir && C:\Users\biocbuild\bbs-3.9-bioc\R\bin\R.exe CMD INSTALL --merge-multiarch --build --library=proteoQC.buildbin-libdir proteoQC_1.20.0.tar.gz && C:\Users\biocbuild\bbs-3.9-bioc\R\bin\R.exe CMD INSTALL proteoQC_1.20.0.zip && rm proteoQC_1.20.0.tar.gz proteoQC_1.20.0.zip
###
##############################################################################
##############################################################################
% Total % Received % Xferd Average Speed Time Time Time Current
Dload Upload Total Spent Left Speed
0 0 0 0 0 0 0 0 --:--:-- --:--:-- --:--:-- 0
100 4556k 100 4556k 0 0 46.0M 0 --:--:-- --:--:-- --:--:-- 48.8M
install for i386
* installing *source* package 'proteoQC' ...
** using staged installation
** R
** inst
** byte-compile and prepare package for lazy loading
** help
*** installing help indices
converting help for package 'proteoQC'
finding HTML links ... done
addSummaryChart html
calcMSQCMetrics html
chargeStat html
cntStat html
combineRun html
createTargetDecoyDB html
getEnzyme html
getMods html
labelRatio html
loadmsQCres html
msQCpipe html
plotBioRepVenn html
plotFractionIDResult html
plotMS1Error html
plotMS2Error html
plotMS2Error_obsolete html
plotSampleIDResultErrorBar html
plotSampleVenn html
plotTechRepVenn html
print.msQCres html
proteinGroup html
reportHTML html
runTandem html
showEnzyme html
showMods html
** building package indices
** installing vignettes
** testing if installed package can be loaded from temporary location
** testing if installed package can be loaded from final location
** testing if installed package keeps a record of temporary installation path
install for x64
* installing *source* package 'proteoQC' ...
** testing if installed package can be loaded
* MD5 sums
packaged installation of 'proteoQC' as proteoQC_1.20.0.zip
* DONE (proteoQC)
* installing to library 'C:/Users/biocbuild/bbs-3.9-bioc/R/library'
package 'proteoQC' successfully unpacked and MD5 sums checked