| Back to Multiple platform build/check report for BioC 3.9 |
|
This page was generated on 2019-10-16 12:44:00 -0400 (Wed, 16 Oct 2019).
| Package 1256/1741 | Hostname | OS / Arch | INSTALL | BUILD | CHECK | BUILD BIN | ||||||
| profileplyr 1.0.1 Tom Carroll
| malbec2 | Linux (Ubuntu 18.04.2 LTS) / x86_64 | OK | OK | OK | |||||||
| tokay2 | Windows Server 2012 R2 Standard / x64 | [ OK ] | OK | OK | OK | |||||||
| celaya2 | OS X 10.11.6 El Capitan / x86_64 | OK | OK | OK | OK |
| Package: profileplyr |
| Version: 1.0.1 |
| Command: C:\cygwin\bin\curl.exe -O https://malbec2.bioconductor.org/BBS/3.9/bioc/src/contrib/profileplyr_1.0.1.tar.gz && rm -rf profileplyr.buildbin-libdir && mkdir profileplyr.buildbin-libdir && C:\Users\biocbuild\bbs-3.9-bioc\R\bin\R.exe CMD INSTALL --merge-multiarch --build --library=profileplyr.buildbin-libdir profileplyr_1.0.1.tar.gz && C:\Users\biocbuild\bbs-3.9-bioc\R\bin\R.exe CMD INSTALL profileplyr_1.0.1.zip && rm profileplyr_1.0.1.tar.gz profileplyr_1.0.1.zip |
| StartedAt: 2019-10-15 21:03:30 -0400 (Tue, 15 Oct 2019) |
| EndedAt: 2019-10-15 21:05:10 -0400 (Tue, 15 Oct 2019) |
| EllapsedTime: 100.4 seconds |
| RetCode: 0 |
| Status: OK |
##############################################################################
##############################################################################
###
### Running command:
###
### C:\cygwin\bin\curl.exe -O https://malbec2.bioconductor.org/BBS/3.9/bioc/src/contrib/profileplyr_1.0.1.tar.gz && rm -rf profileplyr.buildbin-libdir && mkdir profileplyr.buildbin-libdir && C:\Users\biocbuild\bbs-3.9-bioc\R\bin\R.exe CMD INSTALL --merge-multiarch --build --library=profileplyr.buildbin-libdir profileplyr_1.0.1.tar.gz && C:\Users\biocbuild\bbs-3.9-bioc\R\bin\R.exe CMD INSTALL profileplyr_1.0.1.zip && rm profileplyr_1.0.1.tar.gz profileplyr_1.0.1.zip
###
##############################################################################
##############################################################################
% Total % Received % Xferd Average Speed Time Time Time Current
Dload Upload Total Spent Left Speed
0 0 0 0 0 0 0 0 --:--:-- --:--:-- --:--:-- 0
100 1741k 100 1741k 0 0 23.6M 0 --:--:-- --:--:-- --:--:-- 26.1M
install for i386
* installing *source* package 'profileplyr' ...
** using staged installation
** R
** data
** inst
** byte-compile and prepare package for lazy loading
** help
*** installing help indices
converting help for package 'profileplyr'
finding HTML links ... done
BamBigwig_to_chipProfile html
K27ac_GRlist_hind_liver_top5000 html
annotateRanges html
annotateRanges_great html
as_profileplyr html
clusterRanges html
convertToEnrichedHeatmapMat html
export_deepToolsMat html
gene_list_character html
gene_list_dataframe html
generateEnrichedHeatmap html
groupBy html
inherit_group_function html
orderBy html
params html
profileplyr html
sampleData html
subset_GR_GL_common_top html
subsetbyGeneListOverlap html
subsetbyRangeOverlap html
summarize html
** building package indices
** installing vignettes
** testing if installed package can be loaded from temporary location
** testing if installed package can be loaded from final location
** testing if installed package keeps a record of temporary installation path
install for x64
* installing *source* package 'profileplyr' ...
** testing if installed package can be loaded
* MD5 sums
packaged installation of 'profileplyr' as profileplyr_1.0.1.zip
* DONE (profileplyr)
* installing to library 'C:/Users/biocbuild/bbs-3.9-bioc/R/library'
package 'profileplyr' successfully unpacked and MD5 sums checked