| Back to Multiple platform build/check report for BioC 3.9 |
|
This page was generated on 2019-10-16 12:22:54 -0400 (Wed, 16 Oct 2019).
| Package 1219/1741 | Hostname | OS / Arch | INSTALL | BUILD | CHECK | BUILD BIN | ||||||
| plateCore 1.42.0 Errol Strain
| malbec2 | Linux (Ubuntu 18.04.2 LTS) / x86_64 | ERROR | ERROR | skipped | |||||||
| tokay2 | Windows Server 2012 R2 Standard / x64 | ERROR | [ ERROR ] | skipped | skipped | |||||||
| celaya2 | OS X 10.11.6 El Capitan / x86_64 | ERROR | ERROR | skipped | skipped |
| Package: plateCore |
| Version: 1.42.0 |
| Command: chmod a+r plateCore -R && C:\Users\biocbuild\bbs-3.9-bioc\R\bin\R.exe CMD build --keep-empty-dirs --no-resave-data plateCore |
| StartedAt: 2019-10-15 21:50:38 -0400 (Tue, 15 Oct 2019) |
| EndedAt: 2019-10-15 21:51:20 -0400 (Tue, 15 Oct 2019) |
| EllapsedTime: 41.9 seconds |
| RetCode: 1 |
| Status: ERROR |
| PackageFile: plateCore_1.42.0.tar.gz |
| PackageFileSize: 2.247 MiB |
##############################################################################
##############################################################################
###
### Running command:
###
### chmod a+r plateCore -R && C:\Users\biocbuild\bbs-3.9-bioc\R\bin\R.exe CMD build --keep-empty-dirs --no-resave-data plateCore
###
##############################################################################
##############################################################################
* checking for file 'plateCore/DESCRIPTION' ... OK
* preparing 'plateCore':
* checking DESCRIPTION meta-information ... OK
* installing the package to build vignettes
-----------------------------------
* installing *source* package 'plateCore' ...
** using staged installation
** R
** data
** byte-compile and prepare package for lazy loading
No methods found in package 'flowStats' for request: '%on%' when loading 'plateCore'
Error in reconcilePropertiesAndPrototype(name, slots, prototype, superClasses, :
The prototype for class "flowPlate" has undefined slot(s): 'plateConfig'
Error: unable to load R code in package 'plateCore'
Execution halted
ERROR: lazy loading failed for package 'plateCore'
* removing 'C:/Users/biocbuild/bbs-3.9-bioc/tmpdir/Rtmp04UvNM/Rinst3c431094ab6/plateCore'
-----------------------------------
ERROR: package installation failed