| Back to Multiple platform build/check report for BioC 3.9 |
|
This page was generated on 2019-10-16 12:44:12 -0400 (Wed, 16 Oct 2019).
| Package 1217/1741 | Hostname | OS / Arch | INSTALL | BUILD | CHECK | BUILD BIN | ||||||
| pipeFrame 1.0.0 Zheng Wei
| malbec2 | Linux (Ubuntu 18.04.2 LTS) / x86_64 | OK | OK | OK | |||||||
| tokay2 | Windows Server 2012 R2 Standard / x64 | OK | OK | OK | [ OK ] | |||||||
| celaya2 | OS X 10.11.6 El Capitan / x86_64 | OK | OK | OK | OK |
| Package: pipeFrame |
| Version: 1.0.0 |
| Command: rm -rf pipeFrame.buildbin-libdir && mkdir pipeFrame.buildbin-libdir && C:\Users\biocbuild\bbs-3.9-bioc\R\bin\R.exe CMD INSTALL --merge-multiarch --build --library=pipeFrame.buildbin-libdir pipeFrame_1.0.0.tar.gz |
| StartedAt: 2019-10-16 09:54:20 -0400 (Wed, 16 Oct 2019) |
| EndedAt: 2019-10-16 09:55:02 -0400 (Wed, 16 Oct 2019) |
| EllapsedTime: 42.3 seconds |
| RetCode: 0 |
| Status: OK |
| PackageFile: pipeFrame_1.0.0.zip |
| PackageFileSize: 1.107 MiB |
##############################################################################
##############################################################################
###
### Running command:
###
### rm -rf pipeFrame.buildbin-libdir && mkdir pipeFrame.buildbin-libdir && C:\Users\biocbuild\bbs-3.9-bioc\R\bin\R.exe CMD INSTALL --merge-multiarch --build --library=pipeFrame.buildbin-libdir pipeFrame_1.0.0.tar.gz
###
##############################################################################
##############################################################################
install for i386
* installing *source* package 'pipeFrame' ...
** using staged installation
** R
** inst
** byte-compile and prepare package for lazy loading
** help
*** installing help indices
converting help for package 'pipeFrame'
finding HTML links ... done
Step-class html
Utils html
graphMng html
initPipeFrame html
runWithFinishCheck html
setGenome html
setJobName html
setRefDir html
setThreads html
setTmpDir html
** building package indices
** installing vignettes
** testing if installed package can be loaded from temporary location
** testing if installed package can be loaded from final location
** testing if installed package keeps a record of temporary installation path
install for x64
* installing *source* package 'pipeFrame' ...
** testing if installed package can be loaded
* MD5 sums
packaged installation of 'pipeFrame' as pipeFrame_1.0.0.zip
* DONE (pipeFrame)