| Back to Multiple platform build/check report for BioC 3.9 |
|
This page was generated on 2019-10-16 12:23:21 -0400 (Wed, 16 Oct 2019).
| Package 1216/1741 | Hostname | OS / Arch | INSTALL | BUILD | CHECK | BUILD BIN | ||||||
| pint 1.34.0 Olli-Pekka Huovilainen
| malbec2 | Linux (Ubuntu 18.04.2 LTS) / x86_64 | OK | OK | OK | |||||||
| tokay2 | Windows Server 2012 R2 Standard / x64 | OK | OK | OK | [ OK ] | |||||||
| celaya2 | OS X 10.11.6 El Capitan / x86_64 | OK | OK | OK | OK |
| Package: pint |
| Version: 1.34.0 |
| Command: rm -rf pint.buildbin-libdir && mkdir pint.buildbin-libdir && C:\Users\biocbuild\bbs-3.9-bioc\R\bin\R.exe CMD INSTALL --merge-multiarch --build --library=pint.buildbin-libdir pint_1.34.0.tar.gz |
| StartedAt: 2019-10-16 09:54:16 -0400 (Wed, 16 Oct 2019) |
| EndedAt: 2019-10-16 09:54:59 -0400 (Wed, 16 Oct 2019) |
| EllapsedTime: 42.6 seconds |
| RetCode: 0 |
| Status: OK |
| PackageFile: pint_1.34.0.zip |
| PackageFileSize: 907.4 KiB |
##############################################################################
##############################################################################
###
### Running command:
###
### rm -rf pint.buildbin-libdir && mkdir pint.buildbin-libdir && C:\Users\biocbuild\bbs-3.9-bioc\R\bin\R.exe CMD INSTALL --merge-multiarch --build --library=pint.buildbin-libdir pint_1.34.0.tar.gz
###
##############################################################################
##############################################################################
install for i386
* installing *source* package 'pint' ...
** using staged installation
** R
** data
** inst
** byte-compile and prepare package for lazy loading
** help
*** installing help indices
converting help for package 'pint'
finding HTML links ... done
ChromosomeModels-class html
GeneDependencyModel-class html
finding level-2 HTML links ... done
GenomeModels-class html
fit.byname html
geneCopyNum html
geneExp html
get.neighboring.probes html
get.neighs html
join.top.regions html
order.feature.info html
pint.data html
plot html
screen html
summarize.region.parameters html
window html
z.effect html
** building package indices
** installing vignettes
** testing if installed package can be loaded from temporary location
** testing if installed package can be loaded from final location
** testing if installed package keeps a record of temporary installation path
install for x64
* installing *source* package 'pint' ...
** testing if installed package can be loaded
* MD5 sums
packaged installation of 'pint' as pint_1.34.0.zip
* DONE (pint)