| Back to Multiple platform build/check report for BioC 3.9 |
|
This page was generated on 2019-10-16 12:00:53 -0400 (Wed, 16 Oct 2019).
| Package 1209/1741 | Hostname | OS / Arch | INSTALL | BUILD | CHECK | BUILD BIN | ||||||
| phyloseq 1.28.0 Paul J. McMurdie
| malbec2 | Linux (Ubuntu 18.04.2 LTS) / x86_64 | OK | OK | [ OK ] | |||||||
| tokay2 | Windows Server 2012 R2 Standard / x64 | OK | OK | WARNINGS | OK | |||||||
| celaya2 | OS X 10.11.6 El Capitan / x86_64 | OK | OK | OK | OK |
| Package: phyloseq |
| Version: 1.28.0 |
| Command: /home/biocbuild/bbs-3.9-bioc/R/bin/R CMD check --install=check:phyloseq.install-out.txt --library=/home/biocbuild/bbs-3.9-bioc/R/library --no-vignettes --timings phyloseq_1.28.0.tar.gz |
| StartedAt: 2019-10-16 03:55:15 -0400 (Wed, 16 Oct 2019) |
| EndedAt: 2019-10-16 04:00:39 -0400 (Wed, 16 Oct 2019) |
| EllapsedTime: 323.9 seconds |
| RetCode: 0 |
| Status: OK |
| CheckDir: phyloseq.Rcheck |
| Warnings: 0 |
############################################################################## ############################################################################## ### ### Running command: ### ### /home/biocbuild/bbs-3.9-bioc/R/bin/R CMD check --install=check:phyloseq.install-out.txt --library=/home/biocbuild/bbs-3.9-bioc/R/library --no-vignettes --timings phyloseq_1.28.0.tar.gz ### ############################################################################## ############################################################################## * using log directory ‘/home/biocbuild/bbs-3.9-bioc/meat/phyloseq.Rcheck’ * using R version 3.6.1 (2019-07-05) * using platform: x86_64-pc-linux-gnu (64-bit) * using session charset: UTF-8 * using option ‘--no-vignettes’ * checking for file ‘phyloseq/DESCRIPTION’ ... OK * this is package ‘phyloseq’ version ‘1.28.0’ * checking package namespace information ... OK * checking package dependencies ... OK * checking if this is a source package ... OK * checking if there is a namespace ... OK * checking for hidden files and directories ... NOTE Found the following hidden files and directories: .travis.yml These were most likely included in error. See section ‘Package structure’ in the ‘Writing R Extensions’ manual. * checking for portable file names ... OK * checking for sufficient/correct file permissions ... OK * checking whether package ‘phyloseq’ can be installed ... OK * checking installed package size ... OK * checking package directory ... OK * checking ‘build’ directory ... OK * checking DESCRIPTION meta-information ... OK * checking top-level files ... OK * checking for left-over files ... OK * checking index information ... OK * checking package subdirectories ... OK * checking R files for non-ASCII characters ... OK * checking R files for syntax errors ... OK * checking whether the package can be loaded ... OK * checking whether the package can be loaded with stated dependencies ... OK * checking whether the package can be unloaded cleanly ... OK * checking whether the namespace can be loaded with stated dependencies ... OK * checking whether the namespace can be unloaded cleanly ... OK * checking dependencies in R code ... OK * checking S3 generic/method consistency ... OK * checking replacement functions ... OK * checking foreign function calls ... OK * checking R code for possible problems ... NOTE DPCoA: no visible global function definition for ‘as.dist’ chunkReOrder: no visible global function definition for ‘tail’ chunkReOrder: no visible global function definition for ‘head’ export_env_file: no visible global function definition for ‘write.table’ export_mothur_dist: no visible global function definition for ‘as.dist’ export_mothur_dist: no visible global function definition for ‘write.table’ fastUniFrac: no visible global function definition for ‘combn’ fastUniFrac: no visible global function definition for ‘as.dist’ import_RDP_otu: no visible global function definition for ‘read.table’ import_env_file: no visible global function definition for ‘read.table’ import_mothur_constaxonomy: no visible global function definition for ‘read.table’ import_mothur_dist: no visible global function definition for ‘as.dist’ import_mothur_groups: no visible global function definition for ‘read.table’ import_mothur_shared: no visible global function definition for ‘read.table’ import_qiime_otu_tax: no visible global function definition for ‘:=’ import_qiime_otu_tax: no visible binding for global variable ‘Consensus Lineage’ import_qiime_otu_tax: no visible binding for global variable ‘#OTU ID’ import_qiime_sample_data: no visible global function definition for ‘read.table’ import_uparse: no visible global function definition for ‘:=’ import_uparse: no visible binding for global variable ‘count’ import_uparse: no visible binding for global variable ‘queryString’ import_uparse: no visible binding for global variable ‘queryID’ import_uparse: no visible binding for global variable ‘Classification’ import_uparse: no visible global function definition for ‘dcast.data.table’ import_uparse: no visible binding for global variable ‘OTULabel’ import_usearch_uc: no visible global function definition for ‘:=’ import_usearch_uc: no visible binding for global variable ‘read’ microbio_me_qiime: no visible global function definition for ‘download.file’ microbio_me_qiime: no visible global function definition for ‘unzip’ microbio_me_qiime: no visible global function definition for ‘untar’ nodeplotboot :: no visible global function definition for ‘complete.cases’ nodeplotboot : : no visible binding for global variable ‘x’ nodeplotboot : : no visible binding for global variable ‘y’ nodeplotdefault : : no visible binding for global variable ‘x’ nodeplotdefault : : no visible binding for global variable ‘y’ nodeplotdefault : : no visible binding for global variable ‘label’ ordinate: no visible global function definition for ‘as.formula’ plot_clusgap: no visible binding for global variable ‘k’ plot_clusgap: no visible binding for global variable ‘gap’ plot_clusgap: no visible binding for global variable ‘SE.sim’ plot_heatmap: no visible global function definition for ‘capture.output’ plot_heatmap: no visible binding for global variable ‘Sample’ plot_heatmap: no visible binding for global variable ‘OTU’ plot_heatmap: no visible binding for global variable ‘Abundance’ plot_net : vertex_layout: no visible binding for global variable ‘x’ plot_net : link_layout: no visible binding for global variable ‘x’ plot_net : link_layout: no visible binding for global variable ‘y’ plot_net: no visible binding for global variable ‘x’ plot_net: no visible binding for global variable ‘y’ plot_net: no visible binding for global variable ‘xend’ plot_net: no visible binding for global variable ‘yend’ plot_network: no visible binding for global variable ‘x’ plot_network: no visible binding for global variable ‘y’ plot_richness: no visible binding for global variable ‘value’ plot_richness: no visible binding for global variable ‘se’ plot_scree: no visible binding for global variable ‘axis’ plot_scree: no visible binding for global variable ‘eigenvalue’ plot_tree: no visible binding for global variable ‘xleft’ plot_tree: no visible binding for global variable ‘xright’ plot_tree: no visible binding for global variable ‘y’ plot_tree: no visible binding for global variable ‘x’ plot_tree: no visible binding for global variable ‘vmin’ plot_tree: no visible binding for global variable ‘vmax’ plot_tree: no visible binding for global variable ‘OTU’ plot_tree: no visible binding for global variable ‘label’ plot_tree: no visible binding for global variable ‘Abundance’ plot_tree: no visible binding for global variable ‘Sample’ plot_tree: no visible global function definition for ‘:=’ plot_tree: no visible binding for global variable ‘h.adj.index’ plot_tree: no visible binding for global variable ‘xdodge’ plot_tree: no visible binding for global variable ‘xfartiplab’ plot_tree: no visible binding for global variable ‘.SD’ rp.joint.fill: no visible global function definition for ‘relevel’ tip_glom: no visible global function definition for ‘as.dist’ tip_glom: no visible global function definition for ‘cutree’ tip_glom: no visible global function definition for ‘as.hclust’ tree_layout: no visible global function definition for ‘:=’ tree_layout: no visible binding for global variable ‘OTU’ tree_layout: no visible binding for global variable ‘V2’ tree_layout: no visible binding for global variable ‘xleft’ tree_layout: no visible binding for global variable ‘V1’ tree_layout: no visible binding for global variable ‘xright’ tree_layout: no visible binding for global variable ‘y’ tree_layout: no visible binding for global variable ‘x’ tree_layout: no visible binding for global variable ‘label’ tree_layout: no visible global function definition for ‘J’ tree_layout: no visible binding for global variable ‘vmin’ tree_layout: no visible binding for global variable ‘vmax’ JSD,matrix: no visible global function definition for ‘combn’ JSD,matrix: no visible binding for global variable ‘i’ JSD,matrix: no visible global function definition for ‘as.dist’ capscale.phyloseq,phyloseq-formula-character: no visible global function definition for ‘as.formula’ capscale.phyloseq,phyloseq-formula-dist: no visible global function definition for ‘as.formula’ cca.phyloseq,phyloseq-formula: no visible global function definition for ‘as.formula’ distance,phyloseq-character: no visible global function definition for ‘as.dist’ merge_phyloseq_pair,sample_data-sample_data : : no visible binding for global variable ‘X0’ merge_samples,sample_data: no visible global function definition for ‘aggregate’ plot_phyloseq,phyloseq: no visible binding for global variable ‘esophagus’ Undefined global functions or variables: #OTU ID .SD := Abundance Classification Consensus Lineage J OTU OTULabel SE.sim Sample V1 V2 X0 aggregate as.dist as.formula as.hclust axis capture.output combn complete.cases count cutree dcast.data.table download.file eigenvalue esophagus gap h.adj.index head i k label queryID queryString read read.table relevel se tail untar unzip value vmax vmin write.table x xdodge xend xfartiplab xleft xright y yend Consider adding importFrom("graphics", "axis") importFrom("stats", "aggregate", "as.dist", "as.formula", "as.hclust", "complete.cases", "cutree", "relevel") importFrom("utils", "capture.output", "combn", "download.file", "head", "read.table", "tail", "untar", "unzip", "write.table") to your NAMESPACE file. * checking Rd files ... OK * checking Rd metadata ... OK * checking Rd cross-references ... OK * checking for missing documentation entries ... OK * checking for code/documentation mismatches ... OK * checking Rd \usage sections ... OK * checking Rd contents ... OK * checking for unstated dependencies in examples ... OK * checking contents of ‘data’ directory ... OK * checking data for non-ASCII characters ... OK * checking data for ASCII and uncompressed saves ... OK * checking installed files from ‘inst/doc’ ... OK * checking files in ‘vignettes’ ... OK * checking examples ... OK Examples with CPU or elapsed time > 5s user system elapsed plot_net 13.385 0.068 5.573 plot_heatmap 7.170 0.012 7.193 tip_glom 6.108 0.031 1.830 * checking for unstated dependencies in ‘tests’ ... OK * checking tests ... Running ‘testthat-phyloseq.R’ OK * checking for unstated dependencies in vignettes ... OK * checking package vignettes in ‘inst/doc’ ... OK * checking running R code from vignettes ... SKIPPED * checking re-building of vignette outputs ... SKIPPED * checking PDF version of manual ... OK * DONE Status: 2 NOTEs See ‘/home/biocbuild/bbs-3.9-bioc/meat/phyloseq.Rcheck/00check.log’ for details.
phyloseq.Rcheck/00install.out
############################################################################## ############################################################################## ### ### Running command: ### ### /home/biocbuild/bbs-3.9-bioc/R/bin/R CMD INSTALL phyloseq ### ############################################################################## ############################################################################## * installing to library ‘/home/biocbuild/bbs-3.9-bioc/R/library’ * installing *source* package ‘phyloseq’ ... ** using staged installation ** R ** data ** inst ** byte-compile and prepare package for lazy loading ** help *** installing help indices ** building package indices ** installing vignettes ‘phyloseq-FAQ.Rmd’ using ‘UTF-8’ ‘phyloseq-analysis.Rmd’ ‘phyloseq-basics.Rmd’ ‘phyloseq-mixture-models.Rmd’ ** testing if installed package can be loaded from temporary location ** testing if installed package can be loaded from final location ** testing if installed package keeps a record of temporary installation path * DONE (phyloseq)
phyloseq.Rcheck/tests/testthat-phyloseq.Rout
R version 3.6.1 (2019-07-05) -- "Action of the Toes"
Copyright (C) 2019 The R Foundation for Statistical Computing
Platform: x86_64-pc-linux-gnu (64-bit)
R is free software and comes with ABSOLUTELY NO WARRANTY.
You are welcome to redistribute it under certain conditions.
Type 'license()' or 'licence()' for distribution details.
R is a collaborative project with many contributors.
Type 'contributors()' for more information and
'citation()' on how to cite R or R packages in publications.
Type 'demo()' for some demos, 'help()' for on-line help, or
'help.start()' for an HTML browser interface to help.
Type 'q()' to quit R.
> library("testthat")
> packageVersion("phyloseq")
[1] '1.28.0'
> # As suggested for opt-out option on testing by users, recommended by CRAN
> # http://adv-r.had.co.nz/Testing.html
> # Previously, best practice was to put all test files in inst/tests and ensure that R CMD check ran them by putting the following code in tests/test-all.R:
> # library(testthat)
> # library(yourpackage)
> # test_package("yourpackage")
> # Now, recommended practice is to put your tests in tests/testthat, and ensure R CMD check runs them by putting the following code in tests/test-all.R:
> # library(testthat)
> # test_check("yourpackage")
> # The advantage of this new structure is that the user has control over whether or not tests are installed using the –install-tests parameter to R CMD install, or INSTALL_opts = c(“–install-tests”) argument to install.packages(). I’m not sure why you wouldn’t want to install the tests, but now you have the flexibility as requested by CRAN maintainers.
> test_check("phyloseq")
Loading required package: phyloseq
Found biom-format file, now parsing it...
Done parsing biom...
Importing Sample Metdadata from mapping file...
Merging the imported objects...
Successfully merged, phyloseq-class created.
Returning...
Found biom-format file, now parsing it...
Done parsing biom...
Importing Sample Metdadata from mapping file...
Merging the imported objects...
Successfully merged, phyloseq-class created.
Returning...
Reading `ucfile` into memory and parsing into table
Initially read 100 entries.
... Now removing unassigned OTUs (* or NA)...
Removed 7 entries that had no OTU assignment.
A total of 93 will be assigned to the OTU table.
Processing otu/tax file...
Reading file into memory prior to parsing...
Detecting first header line...
Header is on line 2
Converting input file to a table...
Defining OTU table...
Parsing taxonomy table...
Processing phylogenetic tree...
/home/biocbuild/bbs-3.9-bioc/R/library/phyloseq/extdata/GP_tree_rand_short.newick.gz ...
Processing map file...
Processing otu/tax file...
Reading file into memory prior to parsing...
Detecting first header line...
Header is on line 2
Converting input file to a table...
Defining OTU table...
Parsing taxonomy table...
Processing phylogenetic tree...
/home/biocbuild/bbs-3.9-bioc/R/library/phyloseq/extdata/GP_tree_rand_short.newick.gz ...
Processing Reference Sequences...
══ testthat results ═══════════════════════════════════════════════════════════
[ OK: 604 | SKIPPED: 0 | WARNINGS: 49 | FAILED: 0 ]
>
> proc.time()
user system elapsed
91.378 0.901 84.250
phyloseq.Rcheck/phyloseq-Ex.timings
| name | user | system | elapsed | |
| DPCoA | 3.886 | 0.136 | 4.073 | |
| JSD | 0.000 | 0.000 | 0.001 | |
| UniFrac-methods | 0.139 | 0.000 | 0.139 | |
| access | 0.001 | 0.000 | 0.001 | |
| assign-otu_table | 0.000 | 0.000 | 0.001 | |
| assign-phy_tree | 0.045 | 0.000 | 0.045 | |
| assign-sample_data | 0.182 | 0.003 | 0.234 | |
| assign-sample_names | 0.010 | 0.000 | 0.011 | |
| assign-tax_table | 0 | 0 | 0 | |
| assign-taxa_are_rows | 0.003 | 0.000 | 0.003 | |
| assign-taxa_names | 0.008 | 0.000 | 0.008 | |
| build_tax_table | 0.018 | 0.000 | 0.034 | |
| capscale-phyloseq-methods | 0.713 | 0.004 | 0.717 | |
| cca-rda-phyloseq-methods | 0 | 0 | 0 | |
| chunkReOrder | 0 | 0 | 0 | |
| data-GlobalPatterns | 1.218 | 0.016 | 1.235 | |
| data-enterotype | 1.802 | 0.000 | 1.802 | |
| data-esophagus | 0.765 | 0.004 | 0.797 | |
| data-soilrep | 1.133 | 0.024 | 1.158 | |
| distance | 0.179 | 0.050 | 0.971 | |
| distanceMethodList | 0.001 | 0.000 | 0.001 | |
| envHash2otu_table | 0 | 0 | 0 | |
| estimate_richness | 0.030 | 0.004 | 0.034 | |
| export_env_file | 0 | 0 | 0 | |
| export_mothur_dist | 0.074 | 0.000 | 0.074 | |
| extract-methods | 0.01 | 0.00 | 0.01 | |
| filter_taxa | 1.637 | 0.088 | 1.729 | |
| filterfun_sample | 0.017 | 0.000 | 0.017 | |
| gapstat_ord | 1.338 | 0.012 | 1.350 | |
| genefilter_sample-methods | 0 | 0 | 0 | |
| get.component.classes | 0 | 0 | 0 | |
| get_sample-methods | 0.003 | 0.000 | 0.002 | |
| get_taxa-methods | 0.003 | 0.000 | 0.002 | |
| get_taxa_unique | 0.218 | 0.016 | 0.234 | |
| get_variable | 0.215 | 0.000 | 0.215 | |
| getslots.phyloseq | 0.195 | 0.004 | 0.199 | |
| import | 0.000 | 0.000 | 0.001 | |
| import_RDP_otu | 1.109 | 0.068 | 1.190 | |
| import_biom | 0.258 | 0.000 | 0.272 | |
| import_env_file | 0 | 0 | 0 | |
| import_mothur | 0 | 0 | 0 | |
| import_mothur_dist | 0 | 0 | 0 | |
| import_pyrotagger_tab | 0 | 0 | 0 | |
| import_qiime | 0.900 | 0.008 | 0.944 | |
| import_qiime_otu_tax | 0.818 | 0.036 | 0.854 | |
| import_qiime_sample_data | 0.019 | 0.000 | 0.020 | |
| import_uparse | 0.001 | 0.000 | 0.000 | |
| import_usearch_uc | 0.016 | 0.004 | 0.025 | |
| index_reorder | 0 | 0 | 0 | |
| intersect_taxa | 0 | 0 | 0 | |
| make_network | 2.660 | 0.024 | 2.691 | |
| merge_phyloseq | 0 | 0 | 0 | |
| merge_phyloseq_pair-methods | 0 | 0 | 0 | |
| merge_samples-methods | 0.743 | 0.032 | 0.775 | |
| merge_taxa-methods | 0.047 | 0.000 | 0.047 | |
| microbio_me_qiime | 1.215 | 0.084 | 1.341 | |
| mt-methods | 1.950 | 0.008 | 1.957 | |
| nodeplotblank | 4.309 | 0.047 | 1.039 | |
| nodeplotboot | 0.002 | 0.000 | 0.002 | |
| nodeplotdefault | 0.001 | 0.000 | 0.000 | |
| nsamples-methods | 0.03 | 0.00 | 0.03 | |
| ntaxa-methods | 0.004 | 0.000 | 0.004 | |
| ordinate | 0 | 0 | 0 | |
| otu_table-methods | 0.001 | 0.000 | 0.000 | |
| parseTaxonomy-functions | 0.000 | 0.002 | 0.002 | |
| phy_tree-methods | 0.265 | 0.004 | 0.269 | |
| phyloseq | 0.026 | 0.000 | 0.027 | |
| phyloseq_to_deseq2 | 4.245 | 0.210 | 4.452 | |
| phyloseq_to_metagenomeSeq | 1.870 | 0.032 | 1.914 | |
| plot_bar | 3.275 | 0.100 | 3.376 | |
| plot_clusgap | 4.125 | 0.044 | 4.181 | |
| plot_heatmap | 7.170 | 0.012 | 7.193 | |
| plot_net | 13.385 | 0.068 | 5.573 | |
| plot_network | 2.170 | 0.000 | 2.171 | |
| plot_ordination | 0.689 | 0.008 | 0.696 | |
| plot_phyloseq-methods | 2.422 | 0.004 | 0.702 | |
| plot_richness | 4.359 | 0.040 | 4.423 | |
| plot_scree | 2.009 | 0.012 | 2.024 | |
| plot_tree | 4.847 | 0.015 | 1.435 | |
| prune_samples-methods | 0.408 | 0.000 | 0.408 | |
| prune_taxa-methods | 0.060 | 0.000 | 0.059 | |
| psmelt | 1.215 | 0.016 | 1.231 | |
| rank_names | 0.031 | 0.000 | 0.030 | |
| rarefy_even_depth | 0.114 | 0.000 | 0.115 | |
| read_tree | 0.028 | 0.000 | 0.029 | |
| read_tree_greengenes | 0.013 | 0.000 | 0.031 | |
| reconcile_categories | 0.000 | 0.000 | 0.001 | |
| refseq-methods | 0.253 | 0.008 | 0.260 | |
| rm_outlierf | 0.025 | 0.000 | 0.025 | |
| sample_data-methods | 0.074 | 0.003 | 0.078 | |
| sample_names-methods | 0.003 | 0.000 | 0.002 | |
| sample_sums | 0.033 | 0.004 | 0.038 | |
| sample_variables | 0.031 | 0.000 | 0.031 | |
| show-methods | 0 | 0 | 0 | |
| splat.phyloseq.objects | 0 | 0 | 0 | |
| subset_ord_plot | 0.001 | 0.000 | 0.000 | |
| subset_samples-methods | 0 | 0 | 0 | |
| subset_taxa-methods | 0 | 0 | 0 | |
| tax_glom | 0 | 0 | 0 | |
| tax_table-methods | 0 | 0 | 0 | |
| taxa_names-methods | 0.03 | 0.00 | 0.03 | |
| taxa_sums | 0.027 | 0.004 | 0.030 | |
| threshrank | 2.642 | 0.548 | 3.192 | |
| threshrankfun | 0.059 | 0.004 | 0.064 | |
| tip_glom | 6.108 | 0.031 | 1.830 | |
| topf | 0.014 | 0.000 | 0.015 | |
| topk | 0.014 | 0.000 | 0.014 | |
| topp | 0.014 | 0.000 | 0.014 | |
| transformcounts | 0.114 | 0.000 | 0.114 | |
| transpose-methods | 0.909 | 0.459 | 1.368 | |
| tree_layout | 2.513 | 0.011 | 0.907 | |