| Back to Multiple platform build/check report for BioC 3.9 |
|
This page was generated on 2019-10-16 12:30:26 -0400 (Wed, 16 Oct 2019).
| Package 1195/1741 | Hostname | OS / Arch | INSTALL | BUILD | CHECK | BUILD BIN | ||||||
| pepStat 1.18.0 Gregory C Imholte
| malbec2 | Linux (Ubuntu 18.04.2 LTS) / x86_64 | OK | OK | OK | |||||||
| tokay2 | Windows Server 2012 R2 Standard / x64 | OK | OK | OK | [ OK ] | |||||||
| celaya2 | OS X 10.11.6 El Capitan / x86_64 | OK | OK | OK | OK |
| Package: pepStat |
| Version: 1.18.0 |
| Command: rm -rf pepStat.buildbin-libdir && mkdir pepStat.buildbin-libdir && C:\Users\biocbuild\bbs-3.9-bioc\R\bin\R.exe CMD INSTALL --merge-multiarch --build --library=pepStat.buildbin-libdir pepStat_1.18.0.tar.gz |
| StartedAt: 2019-10-16 09:52:56 -0400 (Wed, 16 Oct 2019) |
| EndedAt: 2019-10-16 09:53:46 -0400 (Wed, 16 Oct 2019) |
| EllapsedTime: 50.0 seconds |
| RetCode: 0 |
| Status: OK |
| PackageFile: pepStat_1.18.0.zip |
| PackageFileSize: 678.7 KiB |
##############################################################################
##############################################################################
###
### Running command:
###
### rm -rf pepStat.buildbin-libdir && mkdir pepStat.buildbin-libdir && C:\Users\biocbuild\bbs-3.9-bioc\R\bin\R.exe CMD INSTALL --merge-multiarch --build --library=pepStat.buildbin-libdir pepStat_1.18.0.tar.gz
###
##############################################################################
##############################################################################
install for i386
* installing *source* package 'pepStat' ...
** using staged installation
** R
** inst
** byte-compile and prepare package for lazy loading
No methods found in package 'GenomicRanges' for request: 'mcols<-' when loading 'pepStat'
No methods found in package 'GenomicRanges' for request: 'mcols' when loading 'pepStat'
** help
*** installing help indices
converting help for package 'pepStat'
finding HTML links ... done
baselineCorrect.pSet html
baseline_correct html
create_db html
finding level-2 HTML links ... done
makeCalls html
makePeptideSet html
normalizeArray html
peptideSet-methods html
peptideSet html
plotArray html
restab html
shinyPepStat html
slidingMean html
summarizePeptides html
** building package indices
** installing vignettes
** testing if installed package can be loaded from temporary location
No methods found in package 'GenomicRanges' for request: 'mcols<-' when loading 'pepStat'
No methods found in package 'GenomicRanges' for request: 'mcols' when loading 'pepStat'
** testing if installed package can be loaded from final location
No methods found in package 'GenomicRanges' for request: 'mcols<-' when loading 'pepStat'
No methods found in package 'GenomicRanges' for request: 'mcols' when loading 'pepStat'
** testing if installed package keeps a record of temporary installation path
install for x64
* installing *source* package 'pepStat' ...
** testing if installed package can be loaded
No methods found in package 'GenomicRanges' for request: 'mcols<-' when loading 'pepStat'
No methods found in package 'GenomicRanges' for request: 'mcols' when loading 'pepStat'
* MD5 sums
packaged installation of 'pepStat' as pepStat_1.18.0.zip
* DONE (pepStat)